BEGIN:VCALENDAR
VERSION:2.0
PRODID:-//Laurel Magazine - ECPv6.15.16//NONSGML v1.0//EN
CALSCALE:GREGORIAN
METHOD:PUBLISH
X-WR-CALNAME:Laurel Magazine
X-ORIGINAL-URL:https://thelaurelmagazine.com
X-WR-CALDESC:Events for Laurel Magazine
REFRESH-INTERVAL;VALUE=DURATION:PT1H
X-Robots-Tag:noindex
X-PUBLISHED-TTL:PT1H
BEGIN:VTIMEZONE
TZID:America/New_York
BEGIN:DAYLIGHT
TZOFFSETFROM:-0500
TZOFFSETTO:-0400
TZNAME:EDT
DTSTART:20250309T070000
END:DAYLIGHT
BEGIN:STANDARD
TZOFFSETFROM:-0400
TZOFFSETTO:-0500
TZNAME:EST
DTSTART:20251102T060000
END:STANDARD
BEGIN:DAYLIGHT
TZOFFSETFROM:-0500
TZOFFSETTO:-0400
TZNAME:EDT
DTSTART:20260308T070000
END:DAYLIGHT
BEGIN:STANDARD
TZOFFSETFROM:-0400
TZOFFSETTO:-0500
TZNAME:EST
DTSTART:20261101T060000
END:STANDARD
BEGIN:DAYLIGHT
TZOFFSETFROM:-0500
TZOFFSETTO:-0400
TZNAME:EDT
DTSTART:20270314T070000
END:DAYLIGHT
BEGIN:STANDARD
TZOFFSETFROM:-0400
TZOFFSETTO:-0500
TZNAME:EST
DTSTART:20271107T060000
END:STANDARD
END:VTIMEZONE
BEGIN:VEVENT
DTSTART;TZID=America/New_York:20260401T080000
DTEND;TZID=America/New_York:20260501T000000
DTSTAMP:20260424T014340
CREATED:20260208T135446Z
LAST-MODIFIED:20260208T135446Z
UID:114744-1775030400-1777593600@thelaurelmagazine.com
SUMMARY:Outreach Grant Applications Open with The Church of the Good Sheperd
DESCRIPTION:IRS-designated 501(c)(3) organizations serving the Highlands–Cashiers Plateau are invited to apply for Outreach Grants through The Church of the Good Shepherd. \nGrant applications will be available online beginning April 1\, with a submission deadline of May 1. Grant recipients will be announced on or around August 1. \nPriority is given to organizations whose work aligns with the mission of the Church of the Good Shepherd and does not duplicate existing services.
URL:https://thelaurelmagazine.com/local-event/outreach-grant-applications-open-with-the-church-of-the-good-sheperd
LOCATION:NC
CATEGORIES:Community
ATTACH;FMTTYPE=image/jpeg:https://thelaurelmagazine.com/wp-content/uploads/2026/02/cashiers-nc-community-church-of-the-good-shepherd.jpg
END:VEVENT
BEGIN:VEVENT
DTSTART;TZID=America/New_York:20260424T090000
DTEND;TZID=America/New_York:20260424T090000
DTSTAMP:20260424T014340
CREATED:20260126T145225Z
LAST-MODIFIED:20260126T145225Z
UID:111495-1777021200-1777021200@thelaurelmagazine.com
SUMMARY:Unfurl Movement Studio | Ashtanga Yoga at Unfurl Wellness Spa
DESCRIPTION:Start your mornings with Ashtanga Yoga led by Noah Williams\, Sunday through Friday at 9am at Unfurl Movement Studio. \nNoah offers a grounded\, traditional practice that welcomes both seasoned students and curious beginners. Build strength\, focus\, and breath‑led movement in a warm\, supportive space. \nFor details or to reserve your spot\, email ashtanga.noah@gmail.com.
URL:https://thelaurelmagazine.com/local-event/unfurl-movement-studio-ashtanga-yoga-at-unfurl-wellness-spa/2026-04-24
LOCATION:Unfurl Wellness Spa\, 454 Dillard Rd\, Highlands\, NC\, 28741\, United States
CATEGORIES:Health
ATTACH;FMTTYPE=image/jpeg:https://thelaurelmagazine.com/wp-content/uploads/2026/01/highlands-nc-unfurl-wellness-spa-ashtanga-yoga.jpg
END:VEVENT
BEGIN:VEVENT
DTSTART;TZID=America/New_York:20260424T100000
DTEND;TZID=America/New_York:20260424T140000
DTSTAMP:20260424T014340
CREATED:20210531T185040Z
LAST-MODIFIED:20210531T185040Z
UID:107760-1777024800-1777039200@thelaurelmagazine.com
SUMMARY:The Church of the Good Shepherd Bazaar Barn
DESCRIPTION:The Bazaar Barn is an “upscale resale” shopping experience\, offering gently used home furnishings.  \nOwned and operated by the Church of the Good Shepherd\, the 10\,000 square foot shopping center sells furniture\, art and household items in styles ranging from antique to vintage to modern.  \nAll of our items are donated\, and all proceeds go directly back to the Cashiers community in the form of Outreach Grants.
URL:https://thelaurelmagazine.com/local-event/the-church-of-the-good-shepherd-bazaar-barn/2026-04-24
LOCATION:Bazaar Barn\, 118 US Hwy 64 W\, Cashiers\, 28717\, United States
CATEGORIES:Community,Shopping
ATTACH;FMTTYPE=image/jpeg:https://thelaurelmagazine.com/wp-content/uploads/2021/05/cashiers-nc-bazaar-barn-church-of-the-good-sheperd-resized.jpg
END:VEVENT
BEGIN:VEVENT
DTSTART;TZID=America/New_York:20260424T110000
DTEND;TZID=America/New_York:20260424T160000
DTSTAMP:20260424T014340
CREATED:20251222T174551Z
LAST-MODIFIED:20260203T170819Z
UID:108089-1777028400-1777046400@thelaurelmagazine.com
SUMMARY:The Bookworm | Open Hours
DESCRIPTION:Our shelves are full of a wide range of interesting and compelling books\, thanks to the generosity of our wonderful donors and the hard work of our volunteers who have been shelving and organizing. We are eager to share with you all that is new! An added benefit is that all proceeds go to support The Hudson Library\, our beautiful community library. Come see us soon! \nKnown as the “Cheers” of Bookstores\, the Bookworm is affiliated with the Hudson Library: all books are donated; all staff are volunteers; and all funds go to help support the library. More than a retail store\, we are a community service offering carefully sorted donated books to provide the best quality at a used bookstore price.
URL:https://thelaurelmagazine.com/local-event/the-bookworm-open-hours/2026-04-24
LOCATION:The Bookworm\, 555 Main Street\, Highlands\, NC\, 28741\, United States
CATEGORIES:Community,Shopping
ATTACH;FMTTYPE=image/jpeg:https://thelaurelmagazine.com/wp-content/uploads/2021/01/highlands-nc-shopping-bookworm-shelves.jpg
END:VEVENT
BEGIN:VEVENT
DTSTART;TZID=America/New_York:20260424T120000
DTEND;TZID=America/New_York:20260424T120000
DTSTAMP:20260424T014340
CREATED:20250806T145346Z
LAST-MODIFIED:20250806T145346Z
UID:99443-1777032000-1777032000@thelaurelmagazine.com
SUMMARY:Fusion Rx: Chair Yoga at Fusion Yoga and Wellness
DESCRIPTION:A gentle and accessible yoga class designed for anyone who prefers or benefits from the support of a chair. This class is ideal for those with limited mobility\, recovering from injury\, or seeking a low-impact way to build strength\, increase flexibility\, improve balance\, and promote relaxation. \nStudents will explore both seated and standing poses using the chair as a prop for safety and support. No prior yoga experience is necessary. All bodies and abilities are welcome.
URL:https://thelaurelmagazine.com/local-event/fusion-rx-chair-yoga-at-fusion-yoga-and-wellness/2026-04-24
LOCATION:Fusion Yoga and Wellness\, 21A Lance Rd\, Cashiers\, NC\, 28717\, United States
CATEGORIES:Health
END:VEVENT
BEGIN:VEVENT
DTSTART;TZID=America/New_York:20260424T173000
DTEND;TZID=America/New_York:20260424T220000
DTSTAMP:20260424T014340
CREATED:20230113T195753Z
LAST-MODIFIED:20251222T183504Z
UID:109297-1777051800-1777068000@thelaurelmagazine.com
SUMMARY:Live Music at Hummingbird Lounge
DESCRIPTION:Plush easy chairs\, sofas\, and antique bistro tables invite you to sit back and embrace the carefree ambiance surrounding you. Live entertainment every Friday and Saturday night with Cy Timmons.
URL:https://thelaurelmagazine.com/local-event/live-music-at-hummingbird-lounge/2026-04-24
LOCATION:Old Edwards Inn and Spa\, 445 Main Street\, Highlands\, NC\, 28741\, United States
CATEGORIES:Live Music
ATTACH;FMTTYPE=image/jpeg:https://thelaurelmagazine.com/wp-content/uploads/2023/01/CyHBL.jpg
END:VEVENT
BEGIN:VEVENT
DTSTART;TZID=America/New_York:20260424T180000
DTEND;TZID=America/New_York:20260424T210000
DTSTAMP:20260424T014340
CREATED:20260404T231341Z
LAST-MODIFIED:20260415T131202Z
UID:116776-1777053600-1777064400@thelaurelmagazine.com
SUMMARY:Live Music at Happs Place
DESCRIPTION:Live music with Corey Stevenson is in full swing at Happ’s Place\, where great food\, mountain vibes\, and local talent come together all season long.
URL:https://thelaurelmagazine.com/local-event/live-music-at-happs-place-7/2026-04-24
LOCATION:Happs Place\, 5914 NC-107\, Glenville\, NC\, 28736\, United States
CATEGORIES:Live Music
ATTACH;FMTTYPE=image/jpeg:https://thelaurelmagazine.com/wp-content/uploads/2026/04/glenville-nc-cashiers-live-music-happs-place.jpg
END:VEVENT
BEGIN:VEVENT
DTSTART;TZID=America/New_York:20260424T190000
DTEND;TZID=America/New_York:20260424T190000
DTSTAMP:20260424T014340
CREATED:20260325T144006Z
LAST-MODIFIED:20260325T144006Z
UID:116286-1777057200-1777057200@thelaurelmagazine.com
SUMMARY:PAC Educational Theatre | SHREK: The Musical Gala Night at Highlands PAC
DESCRIPTION:Opening night is always a special moment in the life of a production. On Friday\, April 24 at 7:00 PM\, PAC Educational Theatre will celebrate the opening of its third annual All-Community Production with Shrek: The Musical. To mark the occasion for Opening Night\, starting at 6:00 PM\, we will have complimentary sparkling and refreshments in the main lobby to celebrate the incredible hard work and dedication our community has put into bringing this production to life. \nJoin us for a wonderful evening of theatre\, community\, and celebration as PAC Educational Theatre continues its journey. Guests will also be the first to hear the exciting announcements of next year’s Educational Theatre production. We hope you’ll be there to celebrate with us! \nPAC Educational Theatre is proud to present its third All-Community Production\, Shrek: The Musical! Based on the beloved animated film\, this lively stage adaptation follows everyone’s favorite unlikely hero\, Shrek\, on a hilarious and heartwarming journey to rescue the spirited Princess Fiona. Along the way\, he’s joined by a wisecracking Donkey and a colorful cast of fairytale characters who discover that what makes us different is what makes us special. \nFilled with catchy songs\, big laughs\, and a powerful message about acceptance\, friendship\, and embracing who you are\, Shrek: The Musical is a joyful celebration of community both onstage and off. Featuring performers of all ages and experience levels\, this production highlights the spirit of PAC Educational Theatre – bringing people together to create\, collaborate\, and share the magic of live theatre.
URL:https://thelaurelmagazine.com/local-event/pac-educational-theatre-shrek-the-musical-gala-night-at-highlands-pac
LOCATION:Highlands PAC\, 507 Chestnut Street\, Highlands\, NC\, 28741\, United States
CATEGORIES:Performing Arts
ATTACH;FMTTYPE=image/jpeg:https://thelaurelmagazine.com/wp-content/uploads/2026/03/highlands-nc-PAC-performing-arts-shrek-the-musical.jpg
END:VEVENT
END:VCALENDAR