BEGIN:VCALENDAR
VERSION:2.0
PRODID:-//Laurel Magazine - ECPv6.15.16//NONSGML v1.0//EN
CALSCALE:GREGORIAN
METHOD:PUBLISH
X-WR-CALNAME:Laurel Magazine
X-ORIGINAL-URL:https://thelaurelmagazine.com
X-WR-CALDESC:Events for Laurel Magazine
REFRESH-INTERVAL;VALUE=DURATION:PT1H
X-Robots-Tag:noindex
X-PUBLISHED-TTL:PT1H
BEGIN:VTIMEZONE
TZID:America/New_York
BEGIN:DAYLIGHT
TZOFFSETFROM:-0500
TZOFFSETTO:-0400
TZNAME:EDT
DTSTART:20240310T070000
END:DAYLIGHT
BEGIN:STANDARD
TZOFFSETFROM:-0400
TZOFFSETTO:-0500
TZNAME:EST
DTSTART:20241103T060000
END:STANDARD
BEGIN:DAYLIGHT
TZOFFSETFROM:-0500
TZOFFSETTO:-0400
TZNAME:EDT
DTSTART:20250309T070000
END:DAYLIGHT
BEGIN:STANDARD
TZOFFSETFROM:-0400
TZOFFSETTO:-0500
TZNAME:EST
DTSTART:20251102T060000
END:STANDARD
BEGIN:DAYLIGHT
TZOFFSETFROM:-0500
TZOFFSETTO:-0400
TZNAME:EDT
DTSTART:20260308T070000
END:DAYLIGHT
BEGIN:STANDARD
TZOFFSETFROM:-0400
TZOFFSETTO:-0500
TZNAME:EST
DTSTART:20261101T060000
END:STANDARD
END:VTIMEZONE
BEGIN:VEVENT
DTSTART;TZID=America/New_York:20250903T170000
DTEND;TZID=America/New_York:20250903T210000
DTSTAMP:20260423T145158
CREATED:20250609T152245Z
LAST-MODIFIED:20251213T185445Z
UID:90500-1756918800-1756933200@thelaurelmagazine.com
SUMMARY:Supper Social Club at Hotel Cashiers
DESCRIPTION:Join in every Wednesday for a special prix-fixe dinner menu! \nEach week will offer a new concept created by Chef Kelly and will include a starter\, entree\, and desert as well as special pricing on wine selections curated by our very own sommelier\, Gabriel. \nAdvance tickets offer a discount but walk ins are welcome based on availability. Book in advance and save! Reservations are recommended.
URL:https://thelaurelmagazine.com/local-event/supper-social-club-at-hotel-cashiers/2025-09-03
LOCATION:Hotel Cashiers\, 7 Slab Town Road\, Cashiers\, NC\, 28717\, United States
CATEGORIES:Dining
ATTACH;FMTTYPE=image/jpeg:https://thelaurelmagazine.com/wp-content/uploads/2025/06/cashiers-nc-hotel-cashiers-sunday-supper-spread.jpg
END:VEVENT
BEGIN:VEVENT
DTSTART;TZID=America/New_York:20250910T170000
DTEND;TZID=America/New_York:20250910T210000
DTSTAMP:20260423T145158
CREATED:20250609T152245Z
LAST-MODIFIED:20251213T185445Z
UID:90501-1757523600-1757538000@thelaurelmagazine.com
SUMMARY:Supper Social Club at Hotel Cashiers
DESCRIPTION:Join in every Wednesday for a special prix-fixe dinner menu! \nEach week will offer a new concept created by Chef Kelly and will include a starter\, entree\, and desert as well as special pricing on wine selections curated by our very own sommelier\, Gabriel. \nAdvance tickets offer a discount but walk ins are welcome based on availability. Book in advance and save! Reservations are recommended.
URL:https://thelaurelmagazine.com/local-event/supper-social-club-at-hotel-cashiers/2025-09-10
LOCATION:Hotel Cashiers\, 7 Slab Town Road\, Cashiers\, NC\, 28717\, United States
CATEGORIES:Dining
ATTACH;FMTTYPE=image/jpeg:https://thelaurelmagazine.com/wp-content/uploads/2025/06/cashiers-nc-hotel-cashiers-sunday-supper-spread.jpg
END:VEVENT
BEGIN:VEVENT
DTSTART;TZID=America/New_York:20250915T190000
DTEND;TZID=America/New_York:20250915T213000
DTSTAMP:20260423T145158
CREATED:20250910T151456Z
LAST-MODIFIED:20250910T151456Z
UID:96844-1757962800-1757971800@thelaurelmagazine.com
SUMMARY:HF&W | The Barn Ramble at Flat Mountain Farm
DESCRIPTION:A Highlands Food & Wine Event \nDust off your toe tappers\, get ready to take a twirl on the dance floor and head to Flat Mountain Farm in Highlands for The Barn Ramble\, Saturday November 14 from 7:00–9:30 pm. \nEnjoy performances by Nashville’s Sam Morrow\, light bites by Little Secret\, and beer\, wine\, and Blade & Bow signature cocktails.
URL:https://thelaurelmagazine.com/local-event/hfw-the-barn-ramble-at-flat-mountain-farm
LOCATION:Flat Mountain Farm\, 1359 Flat Mountain Road\, Highlands\, 28741\, United States
CATEGORIES:Community,Dining
ATTACH;FMTTYPE=image/jpeg:https://thelaurelmagazine.com/wp-content/uploads/2025/09/highlands-nc-food-wine-barn-ramble.jpg
END:VEVENT
BEGIN:VEVENT
DTSTART;TZID=America/New_York:20250916T180000
DTEND;TZID=America/New_York:20250916T180000
DTSTAMP:20260423T145158
CREATED:20250814T001748Z
LAST-MODIFIED:20250814T001748Z
UID:95478-1758045600-1758045600@thelaurelmagazine.com
SUMMARY:Under the Stars\, on the Rocks | Chef Kevin Maxey at Skyline Lodge
DESCRIPTION:Enjoy a one-of-a-kind dining experience with our premier guest chef dinner series\, “Under the Stars\, On the Rocks”. \nHosted at Skyline Lodge against the stunning Blue Ridge Mountains\, this event offers an al fresco steakhouse dining experience. Featuring collaborations with renowned chefs from around the country and Oak Steakhouse’s culinary team\, each four-course meal will be family-style and is unique and personalized to the guest chef. \nFor $175 per person\, including beverage pairings\, plus tax and gratuity.
URL:https://thelaurelmagazine.com/local-event/under-the-stars-on-the-rocks-chef-kevin-maxey-at-skyline-lodge
LOCATION:Oak Steakhouse at Skyline Lodge\, 470 Skyliine Lodge Road\, Highlands\, NC\, 28741\, United States
CATEGORIES:Dining
ATTACH;FMTTYPE=image/jpeg:https://thelaurelmagazine.com/wp-content/uploads/2025/06/highlands-nc-skyline-lodge-under-stars-on-the-rocks.jpg
END:VEVENT
BEGIN:VEVENT
DTSTART;TZID=America/New_York:20250917T170000
DTEND;TZID=America/New_York:20250917T210000
DTSTAMP:20260423T145158
CREATED:20250609T152245Z
LAST-MODIFIED:20251213T185445Z
UID:90503-1758128400-1758142800@thelaurelmagazine.com
SUMMARY:Supper Social Club at Hotel Cashiers
DESCRIPTION:Join in every Wednesday for a special prix-fixe dinner menu! \nEach week will offer a new concept created by Chef Kelly and will include a starter\, entree\, and desert as well as special pricing on wine selections curated by our very own sommelier\, Gabriel. \nAdvance tickets offer a discount but walk ins are welcome based on availability. Book in advance and save! Reservations are recommended.
URL:https://thelaurelmagazine.com/local-event/supper-social-club-at-hotel-cashiers/2025-09-17
LOCATION:Hotel Cashiers\, 7 Slab Town Road\, Cashiers\, NC\, 28717\, United States
CATEGORIES:Dining
ATTACH;FMTTYPE=image/jpeg:https://thelaurelmagazine.com/wp-content/uploads/2025/06/cashiers-nc-hotel-cashiers-sunday-supper-spread.jpg
END:VEVENT
BEGIN:VEVENT
DTSTART;TZID=America/New_York:20250924T170000
DTEND;TZID=America/New_York:20250924T210000
DTSTAMP:20260423T145158
CREATED:20250609T152245Z
LAST-MODIFIED:20251213T185446Z
UID:90504-1758733200-1758747600@thelaurelmagazine.com
SUMMARY:Supper Social Club at Hotel Cashiers
DESCRIPTION:Join in every Wednesday for a special prix-fixe dinner menu! \nEach week will offer a new concept created by Chef Kelly and will include a starter\, entree\, and desert as well as special pricing on wine selections curated by our very own sommelier\, Gabriel. \nAdvance tickets offer a discount but walk ins are welcome based on availability. Book in advance and save! Reservations are recommended.
URL:https://thelaurelmagazine.com/local-event/supper-social-club-at-hotel-cashiers/2025-09-24
LOCATION:Hotel Cashiers\, 7 Slab Town Road\, Cashiers\, NC\, 28717\, United States
CATEGORIES:Dining
ATTACH;FMTTYPE=image/jpeg:https://thelaurelmagazine.com/wp-content/uploads/2025/06/cashiers-nc-hotel-cashiers-sunday-supper-spread.jpg
END:VEVENT
BEGIN:VEVENT
DTSTART;TZID=America/New_York:20250928T160000
DTEND;TZID=America/New_York:20250928T200000
DTSTAMP:20260423T145158
CREATED:20250814T140236Z
LAST-MODIFIED:20250814T140236Z
UID:95503-1759075200-1759089600@thelaurelmagazine.com
SUMMARY:7th Annual Oyster & Seafood Fest at The Farm at Old Edwards
DESCRIPTION:September brings the last of summertime celebrations but\, fortunately for oyster lovers\, it also means the return of their favorite shellfish. Passed hors d’oeuvres\, a lavish raw bar\, and creative cocktails will set the stage for deliciousness to follow in this fun\, interactive seafood dinner with live music at The Farm at Old Edwards. \nThe culinary expertise from the Old Edwards Chef team will be joined by Lowcountry Oysters\, and Chef Sara Prezioso of Charleston Bay Gourmet. They will be joined by Kathyrn Fitzgerald of Regina’s in Asheville and Chemist Spirits will present several curated cocktails for guests and live music to enjoy throughout the evening. Craft beer and fine wine will also be served.
URL:https://thelaurelmagazine.com/local-event/7th-annual-oyster-seafood-fest-at-the-farm-at-old-edwards
LOCATION:The Farm at Old Edwards\, 336 Arnold Road\, Highlands\, NC\, 28741\, United States
CATEGORIES:Dining
ATTACH;FMTTYPE=image/jpeg:https://thelaurelmagazine.com/wp-content/uploads/2025/08/highlands-nc-farm-old-edwards-oyster-seafood-fest.jpg
END:VEVENT
END:VCALENDAR