BEGIN:VCALENDAR
VERSION:2.0
PRODID:-//Laurel Magazine - ECPv6.15.16//NONSGML v1.0//EN
CALSCALE:GREGORIAN
METHOD:PUBLISH
X-ORIGINAL-URL:https://thelaurelmagazine.com
X-WR-CALDESC:Events for Laurel Magazine
REFRESH-INTERVAL;VALUE=DURATION:PT1H
X-Robots-Tag:noindex
X-PUBLISHED-TTL:PT1H
BEGIN:VTIMEZONE
TZID:America/New_York
BEGIN:DAYLIGHT
TZOFFSETFROM:-0500
TZOFFSETTO:-0400
TZNAME:EDT
DTSTART:20250309T070000
END:DAYLIGHT
BEGIN:STANDARD
TZOFFSETFROM:-0400
TZOFFSETTO:-0500
TZNAME:EST
DTSTART:20251102T060000
END:STANDARD
BEGIN:DAYLIGHT
TZOFFSETFROM:-0500
TZOFFSETTO:-0400
TZNAME:EDT
DTSTART:20260308T070000
END:DAYLIGHT
BEGIN:STANDARD
TZOFFSETFROM:-0400
TZOFFSETTO:-0500
TZNAME:EST
DTSTART:20261101T060000
END:STANDARD
BEGIN:DAYLIGHT
TZOFFSETFROM:-0500
TZOFFSETTO:-0400
TZNAME:EDT
DTSTART:20270314T070000
END:DAYLIGHT
BEGIN:STANDARD
TZOFFSETFROM:-0400
TZOFFSETTO:-0500
TZNAME:EST
DTSTART:20271107T060000
END:STANDARD
END:VTIMEZONE
BEGIN:VEVENT
DTSTART;TZID=America/New_York:20260308T180000
DTEND;TZID=America/New_York:20260308T210000
DTSTAMP:20260423T034124
CREATED:20260122T174252Z
LAST-MODIFIED:20260122T174457Z
UID:111268-1772992800-1773003600@thelaurelmagazine.com
SUMMARY:Slow Season Supper Club | Chef Craig Richards at Flat Mountain Farm
DESCRIPTION:This winter\, we’re hosting an intimate supper club at Flat Mountain Farm\, welcoming acclaimed Southeast chefs to The Peregrine for cozy\, multi-course dinners. \nThe series features Chef Santiago Guzzetti (Ilda\, Sante Wine Bar)\, Chef Mari Vega (James Beard Emerging Star Nominee)\, Chef Craig Richards (Lyla Lila\, Elise Arts Center)\, and Chef Fuyuhiko Ito (Ishinom\, Celestia\, Sozou\, formerly Umi).
URL:https://thelaurelmagazine.com/local-event/slow-season-supper-club-chef-craig-richards-at-flat-mountain-farm
LOCATION:Flat Mountain Farm\, 1359 Flat Mountain Road\, Highlands\, 28741\, United States
CATEGORIES:Dining
ATTACH;FMTTYPE=image/jpeg:https://thelaurelmagazine.com/wp-content/uploads/2026/01/highlands-nc-flat-mountain-farm-dining-slow-season-supper-club.jpg
END:VEVENT
BEGIN:VEVENT
DTSTART;TZID=America/New_York:20260313T100000
DTEND;TZID=America/New_York:20260317T230000
DTSTAMP:20260423T034124
CREATED:20260313T174800Z
LAST-MODIFIED:20260313T174800Z
UID:116064-1773396000-1773788400@thelaurelmagazine.com
SUMMARY:St. Patrick's Celebrations at Hummingbird Lounger at Old Edwards
DESCRIPTION:Join us at the Hummingbird Lounge for a spirited St. Patrick’s Day weekend filled with Irish-inspired flavors\, festive touches\, and special experiences throughout the property. Be sure to get the details about event times on the site.
URL:https://thelaurelmagazine.com/local-event/st-patricks-celebrations-at-hummingbird-lounger-at-old-edwards
LOCATION:Old Edwards Inn and Spa\, 445 Main Street\, Highlands\, NC\, 28741\, United States
CATEGORIES:Dining
ATTACH;FMTTYPE=image/jpeg:https://thelaurelmagazine.com/wp-content/uploads/2026/03/highlands-nc-dining-old-edwards-inn-bourbon-glasses.jpg
END:VEVENT
BEGIN:VEVENT
DTSTART;TZID=America/New_York:20260317T160000
DTEND;TZID=America/New_York:20260317T200000
DTSTAMP:20260423T034124
CREATED:20260309T205627Z
LAST-MODIFIED:20260309T205627Z
UID:116013-1773763200-1773777600@thelaurelmagazine.com
SUMMARY:Lucky Sips at Western Carolina Brew and Wine
DESCRIPTION:Western Carolina Brew & Wine will be wide open on St. Patrick’s Day\, ready to pour the luck o’ the Irish one cheerful pint at a time.  \nAlso Open Thursday 4-8\, Friday- Saturday 12-8\, Sunday 1-6
URL:https://thelaurelmagazine.com/local-event/lucky-sips-at-western-carolina-brew-and-wine
LOCATION:Western Carolina Brew and Wine\, 454 Carolina Way\, Highlands\, NC\, 28741\, United States
CATEGORIES:Community,Dining
ATTACH;FMTTYPE=image/jpeg:https://thelaurelmagazine.com/wp-content/uploads/2026/03/highlands-nc-western-carolina-brew-wine-st-patricks-day-lucky-sips.jpg
END:VEVENT
BEGIN:VEVENT
DTSTART;TZID=America/New_York:20260318T170000
DTEND;TZID=America/New_York:20260318T170000
DTSTAMP:20260423T034124
CREATED:20251209T190509Z
LAST-MODIFIED:20251209T190509Z
UID:107048-1773853200-1773853200@thelaurelmagazine.com
SUMMARY:Game Warden Dinner  | A Wine Club Event at Duck Hawk Provisions
DESCRIPTION:Become a member of the Duck Hawk Provisions Wine Club and unlock exclusive monthly pairing parties crafted just for you. \n\n\n\nGame Warden Dinner \n\n\n\n\n\n\nJoin us for a a selection of wild game straight off the Barbi.  \n\n\n\n  \n\n\n\n20 guests per event – Always at 5:00 P.M. – Always a good time \n\n\n\n 
URL:https://thelaurelmagazine.com/local-event/game-warden-dinner-a-wine-club-event-at-duck-hawk-provisions
LOCATION:Duck Hawk Provisions\, 281 US 64\, Cashiers\, NC\, 28717\, United States
CATEGORIES:Dining
ATTACH;FMTTYPE=image/jpeg:https://thelaurelmagazine.com/wp-content/uploads/2025/12/cashiers-nc-dining-duck-hawk-provisions-firepit.jpg
END:VEVENT
BEGIN:VEVENT
DTSTART;TZID=America/New_York:20260322T180000
DTEND;TZID=America/New_York:20260322T200000
DTSTAMP:20260423T034124
CREATED:20260122T174501Z
LAST-MODIFIED:20260122T174501Z
UID:111271-1774202400-1774209600@thelaurelmagazine.com
SUMMARY:Slow Season Supper Club | Chef Fuyuhiko Ito at Flat Mountain Farm
DESCRIPTION:This winter\, we’re hosting an intimate supper club at Flat Mountain Farm\, welcoming acclaimed Southeast chefs to The Peregrine for cozy\, multi-course dinners. \nThe series features Chef Santiago Guzzetti (Ilda\, Sante Wine Bar)\, Chef Mari Vega (James Beard Emerging Star Nominee)\, Chef Craig Richards (Lyla Lila\, Elise Arts Center)\, and Chef Fuyuhiko Ito (Ishinom\, Celestia\, Sozou\, formerly Umi).
URL:https://thelaurelmagazine.com/local-event/slow-season-supper-club-chef-fuyuhiko-ito-at-flat-mountain-farm
LOCATION:Flat Mountain Farm\, 1359 Flat Mountain Road\, Highlands\, 28741\, United States
CATEGORIES:Dining
ATTACH;FMTTYPE=image/jpeg:https://thelaurelmagazine.com/wp-content/uploads/2026/01/highlands-nc-flat-mountain-farm-dining-slow-season-supper-club.jpg
END:VEVENT
BEGIN:VEVENT
DTSTART;TZID=America/New_York:20260326T170000
DTEND;TZID=America/New_York:20260326T170000
DTSTAMP:20260423T034124
CREATED:20260325T133714Z
LAST-MODIFIED:20260325T133714Z
UID:116225-1774544400-1774544400@thelaurelmagazine.com
SUMMARY:Wine Tasting at Historic Toxaway Market
DESCRIPTION:Join in at Historic Toxaway Market for our signature wine tastings\, held every 2nd and 4th Thursday at 5pm.  \nSample six distinctive wines for just $25 and enjoy a relaxed\, welcoming evening of discovery\, conversation\, and great pours. It’s the perfect mid‑month and month‑end treat.
URL:https://thelaurelmagazine.com/local-event/wine-tasting-at-historic-toxaway-market/2026-03-26
LOCATION:Historic Toxaway Market\, 15889 Rosman Hwy\, Lake Toxaway\, NC\, 28747\, United States
CATEGORIES:Dining
ATTACH;FMTTYPE=image/jpeg:https://thelaurelmagazine.com/wp-content/uploads/2026/03/lake-toxaway-nc-historic-toxaway-market-wine-tastings.jpg
END:VEVENT
END:VCALENDAR