BEGIN:VCALENDAR
VERSION:2.0
PRODID:-//Laurel Magazine - ECPv6.15.16//NONSGML v1.0//EN
CALSCALE:GREGORIAN
METHOD:PUBLISH
X-ORIGINAL-URL:https://thelaurelmagazine.com
X-WR-CALDESC:Events for Laurel Magazine
REFRESH-INTERVAL;VALUE=DURATION:PT1H
X-Robots-Tag:noindex
X-PUBLISHED-TTL:PT1H
BEGIN:VTIMEZONE
TZID:America/New_York
BEGIN:DAYLIGHT
TZOFFSETFROM:-0500
TZOFFSETTO:-0400
TZNAME:EDT
DTSTART:20250309T070000
END:DAYLIGHT
BEGIN:STANDARD
TZOFFSETFROM:-0400
TZOFFSETTO:-0500
TZNAME:EST
DTSTART:20251102T060000
END:STANDARD
BEGIN:DAYLIGHT
TZOFFSETFROM:-0500
TZOFFSETTO:-0400
TZNAME:EDT
DTSTART:20260308T070000
END:DAYLIGHT
BEGIN:STANDARD
TZOFFSETFROM:-0400
TZOFFSETTO:-0500
TZNAME:EST
DTSTART:20261101T060000
END:STANDARD
BEGIN:DAYLIGHT
TZOFFSETFROM:-0500
TZOFFSETTO:-0400
TZNAME:EDT
DTSTART:20270314T070000
END:DAYLIGHT
BEGIN:STANDARD
TZOFFSETFROM:-0400
TZOFFSETTO:-0500
TZNAME:EST
DTSTART:20271107T060000
END:STANDARD
END:VTIMEZONE
BEGIN:VEVENT
DTSTART;TZID=America/New_York:20260502T170000
DTEND;TZID=America/New_York:20260502T190000
DTSTAMP:20260422T194326
CREATED:20260416T191721Z
LAST-MODIFIED:20260416T191721Z
UID:117195-1777741200-1777748400@thelaurelmagazine.com
SUMMARY:Cinco de Mayo Celebration at Highlands Burrito
DESCRIPTION:Celebrate Cinco de Mayo with live music from 5–7 pm on Saturday and Tuesday at Highlands Burrito! \nSATURDAY\, MAY 2: Catch Ernest Bonilla playing live from 5 to 7 pm. \nTUESDAY\, MAY 5: Celebrate Cinco de Mayo with live music by Ernest Bonilla from 5 to 7 pm and an all-you-can-eat taco bar until 8 pm. Enjoy unlimited Tinga\, Chicharrón\, Ground Beef\, and Chicken Chorizo served with miniature tortillas\, salsa\, and chips. $25 per person includes soda and agua fresca. Alcohol is not included.
URL:https://thelaurelmagazine.com/local-event/cinco-de-mayo-celebration-at-highlands-burrito/2026-05-02
LOCATION:Highlands Burrito\, 226 South 4th Street\, Highlands\, NC\, 28741\, United States
CATEGORIES:Dining
ATTACH;FMTTYPE=image/jpeg:https://thelaurelmagazine.com/wp-content/uploads/2026/04/highlands-nc-dining-highlands-burrito-cinco-de-mayo-celebration.jpg
END:VEVENT
BEGIN:VEVENT
DTSTART;TZID=America/New_York:20260505T170000
DTEND;TZID=America/New_York:20260505T190000
DTSTAMP:20260422T194326
CREATED:20260416T191721Z
LAST-MODIFIED:20260416T191721Z
UID:117208-1778000400-1778007600@thelaurelmagazine.com
SUMMARY:Cinco de Mayo Celebration at Highlands Burrito
DESCRIPTION:Celebrate Cinco de Mayo with live music from 5–7 pm on Saturday and Tuesday at Highlands Burrito! \nSATURDAY\, MAY 2: Catch Ernest Bonilla playing live from 5 to 7 pm. \nTUESDAY\, MAY 5: Celebrate Cinco de Mayo with live music by Ernest Bonilla from 5 to 7 pm and an all-you-can-eat taco bar until 8 pm. Enjoy unlimited Tinga\, Chicharrón\, Ground Beef\, and Chicken Chorizo served with miniature tortillas\, salsa\, and chips. $25 per person includes soda and agua fresca. Alcohol is not included.
URL:https://thelaurelmagazine.com/local-event/cinco-de-mayo-celebration-at-highlands-burrito/2026-05-05
LOCATION:Highlands Burrito\, 226 South 4th Street\, Highlands\, NC\, 28741\, United States
CATEGORIES:Dining
ATTACH;FMTTYPE=image/jpeg:https://thelaurelmagazine.com/wp-content/uploads/2026/04/highlands-nc-dining-highlands-burrito-cinco-de-mayo-celebration.jpg
END:VEVENT
BEGIN:VEVENT
DTSTART;TZID=America/New_York:20260507T180000
DTEND;TZID=America/New_York:20260507T180000
DTSTAMP:20260422T194326
CREATED:20260416T174512Z
LAST-MODIFIED:20260416T174512Z
UID:117180-1778176800-1778176800@thelaurelmagazine.com
SUMMARY:Peak Season Supper Club | Chef Molli Voraotsady at Flat Mountain Farm
DESCRIPTION:Flat Mountain Farm invites you for an unforgettable evening with celebrated chef Molli Voraotsady\, a culinary force whose work weaves together Lao-Chinese-American heritage and deeply personal storytelling to create a dining experience as rich in history as it is in flavor — one that has earned her a devoted following and a place among Atlanta’s most exciting culinary voices. \nFor Peak Season at Flat Mountain Farm\, Chef Molli will present a multi-course\, family-style menu drawing from the flavors and traditions of her Lao-Chinese-American heritage — expect deeply personal dishes that honor her family’s story while showcasing the bold\, layered techniques that have made So So Fed one of Atlanta’s most celebrated dining experiences.
URL:https://thelaurelmagazine.com/local-event/peak-season-supper-club-chef-molli-voraotsady-at-flat-mountain-farm
LOCATION:Flat Mountain Farm\, 1359 Flat Mountain Road\, Highlands\, 28741\, United States
CATEGORIES:Dining
ATTACH;FMTTYPE=image/jpeg:https://thelaurelmagazine.com/wp-content/uploads/2026/04/highlands-nc-dining-flat-mountain-farm-peak-season-supper-club-chef-molli-so-so-fed.jpg
END:VEVENT
BEGIN:VEVENT
DTSTART;TZID=America/New_York:20260512T180000
DTEND;TZID=America/New_York:20260512T180000
DTSTAMP:20260422T194326
CREATED:20260409T160701Z
LAST-MODIFIED:20260409T160701Z
UID:116960-1778608800-1778608800@thelaurelmagazine.com
SUMMARY:Under the Stars\, On the Rocks | Guest Chef Anne Quatrano at Skyline Lodge
DESCRIPTION:Enjoy a one-of-a-kind dining experience with our premier guest chef dinner series\, “Under the Stars\, On the Rocks”. \nHosted at Skyline Lodge against the stunning Blue Ridge Mountains\, this event offers an al fresco steakhouse dining experience. Featuring collaborations with renowned chefs from around the country and Oak Steakhouse’s culinary team\, each four-course meal will be family-style and is unique and personalized to the guest chef. \nChef Anne Quatrano is the chef-owner of Bacchanalia\, Star Provisions\, and Summerland in Atlanta and has helped shape the city’s dining landscape for more than two decades with her unwavering commitment to local\, seasonal ingredients. A pioneer of farm-driven cuisine in the South\, much of the produce featured in her restaurants comes directly from her own Summerland Farm in Cartersville\, reflecting a philosophy rooted in sustainability and a deep respect for the land. Bacchanalia has earned recognition from the MICHELIN Guide as one of Atlanta’s first one-starred and Green-starred restaurants\, adding to Quatrano’s long list of honors\, including a James Beard Award for Best Chef: Southeast. Her cooking blends precision and restraint with soulful Southern sensibility\, promising a dinner grounded in place\, purpose\, and refined simplicity. \nFor $175 per person\, including beverage pairings\, plus tax and gratuity.
URL:https://thelaurelmagazine.com/local-event/under-the-stars-on-the-rocks-guest-chef-anne-quatrano-at-skyline-lodge
LOCATION:Skyline Lodge\, 470 Skyline Lodge Rd\, Highlands\, NC\, 28741\, United States
CATEGORIES:Dining
ATTACH;FMTTYPE=image/jpeg:https://thelaurelmagazine.com/wp-content/uploads/2026/04/highlands-nc-dining-skyline-lodge-under-stars-on-rock-chef-dinner.jpg
END:VEVENT
BEGIN:VEVENT
DTSTART;TZID=America/New_York:20260514T170000
DTEND;TZID=America/New_York:20260514T170000
DTSTAMP:20260422T194326
CREATED:20260325T133714Z
LAST-MODIFIED:20260325T133714Z
UID:116232-1778778000-1778778000@thelaurelmagazine.com
SUMMARY:Wine Tasting at Historic Toxaway Market
DESCRIPTION:Join in at Historic Toxaway Market for our signature wine tastings\, held every 2nd and 4th Thursday at 5pm.  \nSample six distinctive wines for just $25 and enjoy a relaxed\, welcoming evening of discovery\, conversation\, and great pours. It’s the perfect mid‑month and month‑end treat.
URL:https://thelaurelmagazine.com/local-event/wine-tasting-at-historic-toxaway-market/2026-05-14
LOCATION:Historic Toxaway Market\, 15889 Rosman Hwy\, Lake Toxaway\, NC\, 28747\, United States
CATEGORIES:Dining
ATTACH;FMTTYPE=image/jpeg:https://thelaurelmagazine.com/wp-content/uploads/2026/03/lake-toxaway-nc-historic-toxaway-market-wine-tastings.jpg
END:VEVENT
BEGIN:VEVENT
DTSTART;TZID=America/New_York:20260516T093000
DTEND;TZID=America/New_York:20260516T093000
DTSTAMP:20260422T194326
CREATED:20260407T153220Z
LAST-MODIFIED:20260407T153220Z
UID:116916-1778923800-1778923800@thelaurelmagazine.com
SUMMARY:High Style | Full Schedule
DESCRIPTION:High Style is returning to Highlands\, North Carolina on May 16\, 2026\, celebrating art\, cuisine\, fashion\, and music. Perfect for both visitors and locals\, the event features live music\, local jewelry makers\, interactive art experiences\, culinary delights\, and an exciting fashion show. \nSet in the heart of one of North Carolina’s most charming mountain towns\, High Style is a celebration of creativity\, style\, and community. It is a wonderful way to experience the distinctive spirit of Highlands while enjoying a fun and memorable day filled with inspiration and entertainment. \nSchedule Subject to Change \n9:30am\nHigh Style Fashion Show\nThe Bascom | 323 Franklin Road\nDon’t miss your chance to be part of this stylish affair. Whether you’re a fashion enthusiast\, a trendsetter\, or simply looking for entertainment\, the Fashion Show promises an unforgettable experience for all. * We encourage guests to embrace their personal style and dress to impress. * FREE to attend. Cost: $25 VIP seating.\nCLICK HERE to purchase VIP seating. \n11:30am-1:30pm\nMusic – Chris Kohne\nPottery – Frank Vickery \nTown Square | 341 Main Street \n11:30am-1:30pm\nMusic – Kettle\nSilver Creek Social House | 537 Main Street \n11:30am-1:30pm\nMusic – Southern Highlands\nHighlands Wine Shoppe | 269 Oak Street \n11:30am-1:30pm\nMusic – Matt Molesworth Trio\nUgly Dog | 294 S 4th Street \n11:30am-1:30pm\nMusic – Mick Mayer\nOak Square | 310 Main Street \n12–2pm\nArt – William Rogers – Metal work\nHudson Library | 554 Main Street \n12–2pm\nSpanish Spring Cocktail Class with Lunch\nThe Stubborn Bull | 445 N 4th Street\nJoin us for a fun and interactive cocktail experience inspired by the flavors of Spain. In this hands-on class\, you’ll learn how to craft traditional Spanish sangria from scratch\, featuring dehydrated fruits and a curated selection of Spanish wines chosen specifically for the perfect balance and flavor. Our two talented bartenders will also share their insider tips and techniques\, guiding you step-by-step through the creation of three refreshing Spanish summer cocktails that you can easily recreate at home. To complete the experience\, enjoy a traditional tapas lunch (gamabas\, papas bravas\, pan con tomate\, manchango and jamon serano)\, thoughtfully prepared to pair with your drinks.\nCost: $59 per person.\nCLICK HERE to purchase tickets. \n1–3pm\nArt – Woodturners\nThe Bascom | 323 Franklin Road \n1–3pm\nLive Painting – Pauline Marr\nHighlands Wine Shoppe | 269 Oak Street \n2-3\nFloral Design Class\nCosmos | 95 Highlands Plaza\nUnleash your creativity in this hands-on floral design class\, where you’ll learn the art of arranging fresh blooms into stunning\, professional-style creations. Perfect for beginners and enthusiasts alike\, this class covers essential techniques\, color pairing\, and design principles while giving you the chance to craft your own beautiful arrangement to take home. Come get inspired\, have fun\, and let your creativity blossom. Space is limited. Cost: $75 per person.\nCLICK HERE to purchase tickets. \n2–4pm\nMusic – Charles Wood\nJewelry Making Demonstration – Marci Sherwood of Isabelle Ambrose\nTown Square | 341 Main Street \n2–4pm\nMusic – Doug Ramsey\nHighlands Wine Shoppe | 269 Oak Street \n2–4pm\nMusic – Silly Ridge\nOak Square | 310 Main Street \n2-4pm\nMusic – Lisa Rankin\nSilver Creek Social House | 537 Main Street \n2-4pm\nMusic – Katie and Ezra\nUgly Dog | 294 S 4th Street \n2-4pm\nMusic – Brian Aulisio & Friends\nFirst Bank | 473 Carolina Way \n3–4pm\nGather\, Sip & Style\nSpruce Interiors\, Highlands Creek Village | 468 Dillard Road\nMelanie and Nancy of Spruce Interiors invite you into their store and studio inspired by mountain charm and effortless Southern style. This intimate ladies’ event is designed to inspire and connect. Enjoy a glass of wine as you settle in for a thoughtfully curated experience centered around creating a home you truly love. A relaxed\, interactive experience to ask a designer\, learn how to build a beautiful room\, and master effortless tabletop styling for entertaining. Whether you’re refreshing a space\, hosting with intention\, or simply looking for inspiration\, this is your opportunity to gather\, learn\, and indulge in the art of living beautifully. Space is limited.\nCost $40 per person\, includes a special gift to bring home to your table.\nCLICK HERE to purchase tickets.
URL:https://thelaurelmagazine.com/local-event/high-style-full-schedule
LOCATION:NC
CATEGORIES:Community,Dining,Live Music
ATTACH;FMTTYPE=image/jpeg:https://thelaurelmagazine.com/wp-content/uploads/2026/03/highlands-nc-high-style-fashion-show-lace.jpg
END:VEVENT
BEGIN:VEVENT
DTSTART;TZID=America/New_York:20260517T180000
DTEND;TZID=America/New_York:20260517T220000
DTSTAMP:20260422T194326
CREATED:20260406T191130Z
LAST-MODIFIED:20260406T191130Z
UID:116795-1779040800-1779055200@thelaurelmagazine.com
SUMMARY:Chef's Circle | Celebrating the Flavors of Highlands at The Farm at Old Edwards
DESCRIPTION:Snag your seats for the Chef’s Circle Dinner at The Farm at Old Edwards on May 17 from 6-10 pm. It’ll be an unforgettable evening where the culinary heart of The Plateau comes alive. For one extraordinary night\, Highlands’ most celebrated chefs step out of their kitchens and into a shared space\, crafting a collaborative dining experience that blends creativity\, flavor\, and community in every course. \nEnjoy an elegant evening at The Farm at Old Edwards in Highlands featuring a collaborative culinary experience with acclaimed local favorites Edelweiss Highlands\, Paoletti’s\, The Stubborn Bull and The Stubborn Buddha\, Highlands Smokehouse\, Blue Hound Barbecue & Blue Bike Cafe\, Lakeside Restaurant\, Four65 Woodfire Bistro + Bar\, and Executive Chef Chris Huerta of Madison’s Restaurant\, along with other celebrated culinary talents.
URL:https://thelaurelmagazine.com/local-event/chefs-circle-celebrating-the-flavors-of-highlands-at-the-farm-at-old-edwards
LOCATION:The Farm at Old Edwards\, 336 Arnold Road\, Highlands\, NC\, 28741\, United States
CATEGORIES:Dining
ATTACH;FMTTYPE=image/jpeg:https://thelaurelmagazine.com/wp-content/uploads/2026/04/highlands-nc-dining-the-farm-old-edwards-chef-circle-celebrate-highlands.jpg
END:VEVENT
BEGIN:VEVENT
DTSTART;TZID=America/New_York:20260520T170000
DTEND;TZID=America/New_York:20260520T170000
DTSTAMP:20260422T194326
CREATED:20251209T191632Z
LAST-MODIFIED:20251209T192334Z
UID:107060-1779296400-1779296400@thelaurelmagazine.com
SUMMARY:Chicharrones & Cava | A Wine Club Event at Duck Hawk Provisions
DESCRIPTION:Become a member of the Duck Hawk Provisions Wine Club and unlock exclusive monthly pairing parties crafted just for you. \n\n\n\nChicharrones & Cava  \n\n\n\nJoin us for a unique pairing of pork rinds and bubbles \n20 guests per event – Always at 5:00 P.M. – Always a good time
URL:https://thelaurelmagazine.com/local-event/chicharrones-cava-a-wine-club-event-at-duck-hawk-provisions
LOCATION:Duck Hawk Provisions\, 281 US 64\, Cashiers\, NC\, 28717\, United States
CATEGORIES:Dining
ATTACH;FMTTYPE=image/jpeg:https://thelaurelmagazine.com/wp-content/uploads/2025/12/cashiers-nc-dining-duck-hawk-provisions-firepit.jpg
END:VEVENT
BEGIN:VEVENT
DTSTART;TZID=America/New_York:20260528T170000
DTEND;TZID=America/New_York:20260528T170000
DTSTAMP:20260422T194326
CREATED:20260325T133714Z
LAST-MODIFIED:20260325T133714Z
UID:116233-1779987600-1779987600@thelaurelmagazine.com
SUMMARY:Wine Tasting at Historic Toxaway Market
DESCRIPTION:Join in at Historic Toxaway Market for our signature wine tastings\, held every 2nd and 4th Thursday at 5pm.  \nSample six distinctive wines for just $25 and enjoy a relaxed\, welcoming evening of discovery\, conversation\, and great pours. It’s the perfect mid‑month and month‑end treat.
URL:https://thelaurelmagazine.com/local-event/wine-tasting-at-historic-toxaway-market/2026-05-28
LOCATION:Historic Toxaway Market\, 15889 Rosman Hwy\, Lake Toxaway\, NC\, 28747\, United States
CATEGORIES:Dining
ATTACH;FMTTYPE=image/jpeg:https://thelaurelmagazine.com/wp-content/uploads/2026/03/lake-toxaway-nc-historic-toxaway-market-wine-tastings.jpg
END:VEVENT
END:VCALENDAR