BEGIN:VCALENDAR
VERSION:2.0
PRODID:-//Laurel Magazine - ECPv6.15.16//NONSGML v1.0//EN
CALSCALE:GREGORIAN
METHOD:PUBLISH
X-ORIGINAL-URL:https://thelaurelmagazine.com
X-WR-CALDESC:Events for Laurel Magazine
REFRESH-INTERVAL;VALUE=DURATION:PT1H
X-Robots-Tag:noindex
X-PUBLISHED-TTL:PT1H
BEGIN:VTIMEZONE
TZID:America/New_York
BEGIN:DAYLIGHT
TZOFFSETFROM:-0500
TZOFFSETTO:-0400
TZNAME:EDT
DTSTART:20250309T070000
END:DAYLIGHT
BEGIN:STANDARD
TZOFFSETFROM:-0400
TZOFFSETTO:-0500
TZNAME:EST
DTSTART:20251102T060000
END:STANDARD
BEGIN:DAYLIGHT
TZOFFSETFROM:-0500
TZOFFSETTO:-0400
TZNAME:EDT
DTSTART:20260308T070000
END:DAYLIGHT
BEGIN:STANDARD
TZOFFSETFROM:-0400
TZOFFSETTO:-0500
TZNAME:EST
DTSTART:20261101T060000
END:STANDARD
BEGIN:DAYLIGHT
TZOFFSETFROM:-0500
TZOFFSETTO:-0400
TZNAME:EDT
DTSTART:20270314T070000
END:DAYLIGHT
BEGIN:STANDARD
TZOFFSETFROM:-0400
TZOFFSETTO:-0500
TZNAME:EST
DTSTART:20271107T060000
END:STANDARD
END:VTIMEZONE
BEGIN:VEVENT
DTSTART;TZID=America/New_York:20260908T180000
DTEND;TZID=America/New_York:20260908T180000
DTSTAMP:20260423T060326
CREATED:20260409T163002Z
LAST-MODIFIED:20260409T163002Z
UID:116979-1788890400-1788890400@thelaurelmagazine.com
SUMMARY:Under the Stars\, On the Rocks | Guest Chef Jason Stanhope at Skyline Lodge
DESCRIPTION:Enjoy a one-of-a-kind dining experience with our premier guest chef dinner series\, “Under the Stars\, On the Rocks”. \nHosted at Skyline Lodge against the stunning Blue Ridge Mountains\, this event offers an al fresco steakhouse dining experience. Featuring collaborations with renowned chefs from around the country and Oak Steakhouse’s culinary team\, each four-course meal will be family-style and is unique and personalized to the guest chef. \nChef Jason Stanhope is Chef and Partner at Sullivan’s Fish Camp on Sullivan’s Island in Charleston\, South Carolina\, where he highlights the Lowcountry’s farmers and fishermen through a refined yet deeply personal approach to coastal cuisine. Stanhope spent more than a decade at FIG\, one of Charleston’s most influential restaurants\, rising to Executive Chef and earning the James Beard Award for Best Chef: Southeast in 2015. Known for his ingredient-driven philosophy and respect for Southern foodways\, Stanhope brings a balance of technical precision and heartfelt simplicity that promises a thoughtful\, regionally inspired evening. \nFor $175 per person\, including beverage pairings\, plus tax and gratuity.
URL:https://thelaurelmagazine.com/local-event/under-the-stars-on-the-rocks-guest-chef-jason-stanhope-at-skyline-lodge
LOCATION:Skyline Lodge\, 470 Skyline Lodge Rd\, Highlands\, NC\, 28741\, United States
CATEGORIES:Dining
ATTACH;FMTTYPE=image/jpeg:https://thelaurelmagazine.com/wp-content/uploads/2026/04/highlands-nc-dining-skyline-lodge-under-stars-on-rock-chef-dinner.jpg
END:VEVENT
BEGIN:VEVENT
DTSTART;TZID=America/New_York:20260910T170000
DTEND;TZID=America/New_York:20260910T170000
DTSTAMP:20260423T060326
CREATED:20260325T133714Z
LAST-MODIFIED:20260325T133714Z
UID:116240-1789059600-1789059600@thelaurelmagazine.com
SUMMARY:Wine Tasting at Historic Toxaway Market
DESCRIPTION:Join in at Historic Toxaway Market for our signature wine tastings\, held every 2nd and 4th Thursday at 5pm.  \nSample six distinctive wines for just $25 and enjoy a relaxed\, welcoming evening of discovery\, conversation\, and great pours. It’s the perfect mid‑month and month‑end treat.
URL:https://thelaurelmagazine.com/local-event/wine-tasting-at-historic-toxaway-market/2026-09-10
LOCATION:Historic Toxaway Market\, 15889 Rosman Hwy\, Lake Toxaway\, NC\, 28747\, United States
CATEGORIES:Dining
ATTACH;FMTTYPE=image/jpeg:https://thelaurelmagazine.com/wp-content/uploads/2026/03/lake-toxaway-nc-historic-toxaway-market-wine-tastings.jpg
END:VEVENT
BEGIN:VEVENT
DTSTART;TZID=America/New_York:20260924T170000
DTEND;TZID=America/New_York:20260924T170000
DTSTAMP:20260423T060326
CREATED:20260325T133714Z
LAST-MODIFIED:20260325T133714Z
UID:116241-1790269200-1790269200@thelaurelmagazine.com
SUMMARY:Wine Tasting at Historic Toxaway Market
DESCRIPTION:Join in at Historic Toxaway Market for our signature wine tastings\, held every 2nd and 4th Thursday at 5pm.  \nSample six distinctive wines for just $25 and enjoy a relaxed\, welcoming evening of discovery\, conversation\, and great pours. It’s the perfect mid‑month and month‑end treat.
URL:https://thelaurelmagazine.com/local-event/wine-tasting-at-historic-toxaway-market/2026-09-24
LOCATION:Historic Toxaway Market\, 15889 Rosman Hwy\, Lake Toxaway\, NC\, 28747\, United States
CATEGORIES:Dining
ATTACH;FMTTYPE=image/jpeg:https://thelaurelmagazine.com/wp-content/uploads/2026/03/lake-toxaway-nc-historic-toxaway-market-wine-tastings.jpg
END:VEVENT
END:VCALENDAR