BEGIN:VCALENDAR
VERSION:2.0
PRODID:-//Laurel Magazine - ECPv6.15.16//NONSGML v1.0//EN
CALSCALE:GREGORIAN
METHOD:PUBLISH
X-WR-CALNAME:Laurel Magazine
X-ORIGINAL-URL:https://thelaurelmagazine.com
X-WR-CALDESC:Events for Laurel Magazine
REFRESH-INTERVAL;VALUE=DURATION:PT1H
X-Robots-Tag:noindex
X-PUBLISHED-TTL:PT1H
BEGIN:VTIMEZONE
TZID:America/New_York
BEGIN:DAYLIGHT
TZOFFSETFROM:-0500
TZOFFSETTO:-0400
TZNAME:EDT
DTSTART:20240310T070000
END:DAYLIGHT
BEGIN:STANDARD
TZOFFSETFROM:-0400
TZOFFSETTO:-0500
TZNAME:EST
DTSTART:20241103T060000
END:STANDARD
BEGIN:DAYLIGHT
TZOFFSETFROM:-0500
TZOFFSETTO:-0400
TZNAME:EDT
DTSTART:20250309T070000
END:DAYLIGHT
BEGIN:STANDARD
TZOFFSETFROM:-0400
TZOFFSETTO:-0500
TZNAME:EST
DTSTART:20251102T060000
END:STANDARD
BEGIN:DAYLIGHT
TZOFFSETFROM:-0500
TZOFFSETTO:-0400
TZNAME:EDT
DTSTART:20260308T070000
END:DAYLIGHT
BEGIN:STANDARD
TZOFFSETFROM:-0400
TZOFFSETTO:-0500
TZNAME:EST
DTSTART:20261101T060000
END:STANDARD
END:VTIMEZONE
BEGIN:VEVENT
DTSTART;TZID=America/New_York:20250830T113000
DTEND;TZID=America/New_York:20250830T150000
DTSTAMP:20260424T014156
CREATED:20250808T125717Z
LAST-MODIFIED:20250808T125717Z
UID:95287-1756553400-1756566000@thelaurelmagazine.com
SUMMARY:Summer Picnic at Highlander Mountain House
DESCRIPTION:Highlander Mountain House kicks things off with a Summer Picnic featuring a cookout-style menu takeover by The Ruffed Grouse\, live bluegrass music\, and specialty cocktails.
URL:https://thelaurelmagazine.com/local-event/summer-picnic-at-highlander-mountain-house
LOCATION:Highlander Mountain House\, 270 Main St\, Highlands\, NC\, 28741\, United States
CATEGORIES:Community,Dining
ATTACH;FMTTYPE=image/jpeg:https://thelaurelmagazine.com/wp-content/uploads/2023/02/highlands-nc-highlander-mountain-house-exterior.jpg
END:VEVENT
BEGIN:VEVENT
DTSTART;TZID=America/New_York:20250830T150000
DTEND;TZID=America/New_York:20250830T173000
DTSTAMP:20260424T014156
CREATED:20250808T130918Z
LAST-MODIFIED:20250826T160816Z
UID:95288-1756566000-1756575000@thelaurelmagazine.com
SUMMARY:Labor Day Weekend Oyster Roast at Highlander Mountain House
DESCRIPTION:Celebrate Labor Day Weekend with a lowcountry oyster roast with fresh Gulf oysters from our friends at Pelican Oyster Company. \nTicket includes all you can shuck oysters\, your first beer from Munkle Brewing\, and live bluegrass on the porch from Daniel Ullom + Friends.
URL:https://thelaurelmagazine.com/local-event/oyster-roast-at-the-outpost-inn
LOCATION:Highlander Mountain House\, 270 Main St\, Highlands\, NC\, 28741\, United States
CATEGORIES:Dining
ATTACH;FMTTYPE=image/jpeg:https://thelaurelmagazine.com/wp-content/uploads/2025/08/highlands-nc-highlander-mountain-house-oyster-roast.jpg
END:VEVENT
END:VCALENDAR