BEGIN:VCALENDAR
VERSION:2.0
PRODID:-//Laurel Magazine - ECPv6.15.16//NONSGML v1.0//EN
CALSCALE:GREGORIAN
METHOD:PUBLISH
X-WR-CALNAME:Laurel Magazine
X-ORIGINAL-URL:https://thelaurelmagazine.com
X-WR-CALDESC:Events for Laurel Magazine
REFRESH-INTERVAL;VALUE=DURATION:PT1H
X-Robots-Tag:noindex
X-PUBLISHED-TTL:PT1H
BEGIN:VTIMEZONE
TZID:America/New_York
BEGIN:DAYLIGHT
TZOFFSETFROM:-0500
TZOFFSETTO:-0400
TZNAME:EDT
DTSTART:20240310T070000
END:DAYLIGHT
BEGIN:STANDARD
TZOFFSETFROM:-0400
TZOFFSETTO:-0500
TZNAME:EST
DTSTART:20241103T060000
END:STANDARD
BEGIN:DAYLIGHT
TZOFFSETFROM:-0500
TZOFFSETTO:-0400
TZNAME:EDT
DTSTART:20250309T070000
END:DAYLIGHT
BEGIN:STANDARD
TZOFFSETFROM:-0400
TZOFFSETTO:-0500
TZNAME:EST
DTSTART:20251102T060000
END:STANDARD
BEGIN:DAYLIGHT
TZOFFSETFROM:-0500
TZOFFSETTO:-0400
TZNAME:EDT
DTSTART:20260308T070000
END:DAYLIGHT
BEGIN:STANDARD
TZOFFSETFROM:-0400
TZOFFSETTO:-0500
TZNAME:EST
DTSTART:20261101T060000
END:STANDARD
END:VTIMEZONE
BEGIN:VEVENT
DTSTART;TZID=America/New_York:20251115T120000
DTEND;TZID=America/New_York:20251115T153000
DTSTAMP:20260423T161555
CREATED:20250910T152814Z
LAST-MODIFIED:20250910T152814Z
UID:96847-1763208000-1763220600@thelaurelmagazine.com
SUMMARY:HF&W | Main Event on Main Street Highlands
DESCRIPTION:A Highlands Food & Wine Event \nThe ONE not to miss: the Main Event! We take to the streets of Highlands\, block-party style\, with over 30 chefs and dozens of wines\, specialty cocktails and mocktail brands\, coffees\, ciders and toddies galore. And don’t forget to dress to impress–The Style Watch is looking for those feeling their ‘fit and will get a little reward for their best put-together. We’re pining for the 90s and are proud to welcome HFW 2025 headliners and multi-Grammy winner The Wallflowers with opening support by Nikki Lane. \n\n\n\n\n\nAccess to the ultimate oyster roast\nSmall plates featuring local and regional chefs\nEnjoy a selection of wines\, craft beer\, and spirits
URL:https://thelaurelmagazine.com/local-event/hfw-main-event-on-main-street-highlands
LOCATION:NC
CATEGORIES:Community,Dining
ATTACH;FMTTYPE=image/jpeg:https://thelaurelmagazine.com/wp-content/uploads/2025/09/highlands-nc-food-wine-main-event.jpg
END:VEVENT
BEGIN:VEVENT
DTSTART;TZID=America/New_York:20251115T133000
DTEND;TZID=America/New_York:20251115T153000
DTSTAMP:20260423T161555
CREATED:20251005T182828Z
LAST-MODIFIED:20251005T182828Z
UID:102628-1763213400-1763220600@thelaurelmagazine.com
SUMMARY:Oakville Legacy & Meyer Family Cellars Seminar at Highlands Wine Shoppe
DESCRIPTION:In the 1970s\, Justin Meyer + Ray Duncan founded Silver Oak\, forever changing the landscape of American wine. That pioneering spirit lives on through Meyer Family Cellars\, established in 1999 by Justin + his son\, Matt. \nWe are honored to welcome Winemaker & Owner Matt Meyer for an unforgettable seminar celebrating his family’s enduring legacy.
URL:https://thelaurelmagazine.com/local-event/oakville-legacy-meyer-family-cellars-seminar-at-highlands-wine-shoppe
LOCATION:Highlands Wine Shoppe\, 269 Oak St\, Highlands\, 28741\, United States
CATEGORIES:Community,Dining
ATTACH;FMTTYPE=image/jpeg:https://thelaurelmagazine.com/wp-content/uploads/2025/10/highlands-nc-highlands-wine-shoppe-logo-cropped.jpg
END:VEVENT
BEGIN:VEVENT
DTSTART;TZID=America/New_York:20251115T150000
DTEND;TZID=America/New_York:20251115T150000
DTSTAMP:20260423T161555
CREATED:20251005T183325Z
LAST-MODIFIED:20251213T184851Z
UID:102636-1763218800-1763218800@thelaurelmagazine.com
SUMMARY:Oyster Roast at Highlander Mountain House
DESCRIPTION:Join us for a Lowcountry Oyster Roast featuring oysters from Pelican Oyster Company.\n\nYour ticket includes all-you-can-shuck oysters\, your first beer from Munkle Brewing\, and live bluegrass on the porch from Flat Bridge String Band.\n\nTickets are $50 + tax and available here.
URL:https://thelaurelmagazine.com/local-event/oyster-roast-at-highlander-mountain-house/2025-11-15
LOCATION:Highlander Mountain House\, 270 Main St\, Highlands\, NC\, 28741\, United States
CATEGORIES:Community,Dining
ATTACH;FMTTYPE=image/jpeg:https://thelaurelmagazine.com/wp-content/uploads/2025/10/highlands-nc-highlander-mountain-house-oyster-roast-outside.jpg
END:VEVENT
BEGIN:VEVENT
DTSTART;TZID=America/New_York:20251115T180000
DTEND;TZID=America/New_York:20251115T180000
DTSTAMP:20260423T161555
CREATED:20251005T184052Z
LAST-MODIFIED:20251005T184052Z
UID:102635-1763229600-1763229600@thelaurelmagazine.com
SUMMARY:Brochelle Wine Dinner at On the Verandah
DESCRIPTION:Join us in welcoming Brochelle Vineyards for a multi-course wine dinner! Wines will be offered at a discounted rate for the night!
URL:https://thelaurelmagazine.com/local-event/brochelle-wine-dinner-at-on-the-verandah
LOCATION:On the Verandah\, 1536 Franklin Rd\, Highlands\, NC\, 28741\, United States
CATEGORIES:Community,Dining
ATTACH;FMTTYPE=image/jpeg:https://thelaurelmagazine.com/wp-content/uploads/2025/10/highlands-nc-dining-on-the-verandah-brochelle-vineryards-wine-dinner.jpg
END:VEVENT
BEGIN:VEVENT
DTSTART;TZID=America/New_York:20251115T190000
DTEND;TZID=America/New_York:20251115T190000
DTSTAMP:20260423T161555
CREATED:20251030T132304Z
LAST-MODIFIED:20251030T132304Z
UID:104898-1763233200-1763233200@thelaurelmagazine.com
SUMMARY:HFW | Barn Ramble at Flat Mountain Farm
DESCRIPTION:Gather with fellow festival-goers for a spirited evening at Flat Mountain Farm for the Barn Ramble: joining music\, flavors\, and community in one unforgettable place. \nEnjoy local beer and wine\, Blade and Bow cocktails\, and Little Secret small bites while Nashville musician Sam Morrow fills the barn with a little bit of good ole southern rock.
URL:https://thelaurelmagazine.com/local-event/hfw-barn-ramble-at-flat-mountain-farm
LOCATION:NC
CATEGORIES:Dining
ATTACH;FMTTYPE=image/jpeg:https://thelaurelmagazine.com/wp-content/uploads/2025/10/highlands-nc-food-wine-festival-flat-mountain-farm-barn-ramble.jpg
END:VEVENT
END:VCALENDAR