BEGIN:VCALENDAR
VERSION:2.0
PRODID:-//Laurel Magazine - ECPv6.15.16//NONSGML v1.0//EN
CALSCALE:GREGORIAN
METHOD:PUBLISH
X-WR-CALNAME:Laurel Magazine
X-ORIGINAL-URL:https://thelaurelmagazine.com
X-WR-CALDESC:Events for Laurel Magazine
REFRESH-INTERVAL;VALUE=DURATION:PT1H
X-Robots-Tag:noindex
X-PUBLISHED-TTL:PT1H
BEGIN:VTIMEZONE
TZID:America/New_York
BEGIN:DAYLIGHT
TZOFFSETFROM:-0500
TZOFFSETTO:-0400
TZNAME:EDT
DTSTART:20250309T070000
END:DAYLIGHT
BEGIN:STANDARD
TZOFFSETFROM:-0400
TZOFFSETTO:-0500
TZNAME:EST
DTSTART:20251102T060000
END:STANDARD
BEGIN:DAYLIGHT
TZOFFSETFROM:-0500
TZOFFSETTO:-0400
TZNAME:EDT
DTSTART:20260308T070000
END:DAYLIGHT
BEGIN:STANDARD
TZOFFSETFROM:-0400
TZOFFSETTO:-0500
TZNAME:EST
DTSTART:20261101T060000
END:STANDARD
BEGIN:DAYLIGHT
TZOFFSETFROM:-0500
TZOFFSETTO:-0400
TZNAME:EDT
DTSTART:20270314T070000
END:DAYLIGHT
BEGIN:STANDARD
TZOFFSETFROM:-0400
TZOFFSETTO:-0500
TZNAME:EST
DTSTART:20271107T060000
END:STANDARD
END:VTIMEZONE
BEGIN:VEVENT
DTSTART;TZID=America/New_York:20260208T130000
DTEND;TZID=America/New_York:20260208T160000
DTSTAMP:20260423T060249
CREATED:20260113T194229Z
LAST-MODIFIED:20260208T133924Z
UID:110811-1770555600-1770566400@thelaurelmagazine.com
SUMMARY:Grand Reopening Celebration at Don Leon’s
DESCRIPTION:Don Leon’s is celebrating its Grand Reopening on Sunday\, January 25 from 1–4 pm\, and the whole community is invited to join the fun. \nCome meet the new owners\, Ivanet and Juan Alvarado\, wish Leon and Susan a happy retirement\, and enjoy an afternoon of great food and live music.
URL:https://thelaurelmagazine.com/local-event/grand-reopening-celebration-at-don-leons
LOCATION:Don Leon’s\, 462 Dillard Rd\, Highlands\, NC\, 28741\, United States
CATEGORIES:Dining
ATTACH;FMTTYPE=image/jpeg:https://thelaurelmagazine.com/wp-content/uploads/2025/12/highlands-nc-restaurant-don-leons-owners.jpg
END:VEVENT
BEGIN:VEVENT
DTSTART;TZID=America/New_York:20260208T180000
DTEND;TZID=America/New_York:20260208T180000
DTSTAMP:20260423T060249
CREATED:20260120T152444Z
LAST-MODIFIED:20260120T152444Z
UID:111205-1770573600-1770573600@thelaurelmagazine.com
SUMMARY:Slow Season Supper Club | Chef Mari Vega at Flat Mountain Farm
DESCRIPTION:Join us at Flat Mountain Farm for a special communal supper hosted by acclaimed Atlanta chef Maricela “Mari” Vega\, whose cooking celebrates through its use in seasonality\, agriculture\, and deep cultural lineage. \nInspired by her family’s Mexican roots in farming\, Mari’s work centers heirloom corn\, traditional techniques\, and bold\, grounded flavors. A James Beard–recognized chef\, Mari is also a culinary educator and food stylist whose work has been widely featured in national and regional media. \nFor this evening\, Mari will present a three-course (plus dessert)\, family-style dinner\, served communally and designed for sharing. The menu will be vegetable-forward\, but not vegetarian\, highlighting the season’s harvest alongside thoughtfully sourced proteins\, all enjoyed around the table in the setting of Flat Mountain Farm. \nThis dinner is an invitation to gather\, slow down\, and experience the intersection of land\, culture\, and craft through one of the Southeast’s most compelling culinary voices.
URL:https://thelaurelmagazine.com/local-event/slow-season-supper-club-chef-mari-vega-at-flat-mountain-farm
LOCATION:Flat Mountain Farm\, 1359 Flat Mountain Road\, Highlands\, 28741\, United States
CATEGORIES:Dining
ATTACH;FMTTYPE=image/jpeg:https://thelaurelmagazine.com/wp-content/uploads/2026/01/highlands-nc-dining-flat-mountain-farm-slow-season-supper-chef-mari.jpg
END:VEVENT
BEGIN:VEVENT
DTSTART;TZID=America/New_York:20260208T183000
DTEND;TZID=America/New_York:20260208T183000
DTSTAMP:20260423T060249
CREATED:20260203T180858Z
LAST-MODIFIED:20260203T180858Z
UID:114159-1770575400-1770575400@thelaurelmagazine.com
SUMMARY:Super Bowl Sunday at High Country Wine & Provisions
DESCRIPTION:​Join us for the ultimate kickoff! Enjoy delicious snacks and exclusive features on wine\, beer\, and cider while you watch the game on our 86″ big screen!
URL:https://thelaurelmagazine.com/local-event/super-bowl-sunday-at-high-country-wine-provisions
LOCATION:High Country Wine & Provisions\, 621 Franklin Rd\, Highlands\, NC\, 28741\, United States
CATEGORIES:Community,Dining
ATTACH;FMTTYPE=image/jpeg:https://thelaurelmagazine.com/wp-content/uploads/2026/02/highlands-nc-high-country-wine-provisions-super-bowl-party-1.jpg
END:VEVENT
END:VCALENDAR