BEGIN:VCALENDAR
VERSION:2.0
PRODID:-//Laurel Magazine - ECPv6.15.16//NONSGML v1.0//EN
CALSCALE:GREGORIAN
METHOD:PUBLISH
X-ORIGINAL-URL:https://thelaurelmagazine.com
X-WR-CALDESC:Events for Laurel Magazine
REFRESH-INTERVAL;VALUE=DURATION:PT1H
X-Robots-Tag:noindex
X-PUBLISHED-TTL:PT1H
BEGIN:VTIMEZONE
TZID:America/New_York
BEGIN:DAYLIGHT
TZOFFSETFROM:-0500
TZOFFSETTO:-0400
TZNAME:EDT
DTSTART:20250309T070000
END:DAYLIGHT
BEGIN:STANDARD
TZOFFSETFROM:-0400
TZOFFSETTO:-0500
TZNAME:EST
DTSTART:20251102T060000
END:STANDARD
BEGIN:DAYLIGHT
TZOFFSETFROM:-0500
TZOFFSETTO:-0400
TZNAME:EDT
DTSTART:20260308T070000
END:DAYLIGHT
BEGIN:STANDARD
TZOFFSETFROM:-0400
TZOFFSETTO:-0500
TZNAME:EST
DTSTART:20261101T060000
END:STANDARD
BEGIN:DAYLIGHT
TZOFFSETFROM:-0500
TZOFFSETTO:-0400
TZNAME:EDT
DTSTART:20270314T070000
END:DAYLIGHT
BEGIN:STANDARD
TZOFFSETFROM:-0400
TZOFFSETTO:-0500
TZNAME:EST
DTSTART:20271107T060000
END:STANDARD
END:VTIMEZONE
BEGIN:VEVENT
DTSTART;TZID=America/New_York:20260209T180000
DTEND;TZID=America/New_York:20260209T180000
DTSTAMP:20260423T060504
CREATED:20260127T210607Z
LAST-MODIFIED:20260127T210607Z
UID:112497-1770660000-1770660000@thelaurelmagazine.com
SUMMARY:Davis Family Vineyards Wine Dinner at Oak Steakhouse
DESCRIPTION:Join us on February 9 at 6pm for an intimate wine dinner featuring Davis Family Vineyards\, beginning with passed hors d’oeuvres followed by a thoughtfully paired four-course menu. \n\n\nThe evening’s courses will be curated by Markie McCullough\, Executive Chef of Oak Steakhouse\, with a dessert course by Ashley Cannon\, Executive Pastry Chef of Oak\, each designed to highlight the character of the wines. \nFounded in 1997 by Guy and Judy Davis\, @davisfamilyvineyards is rooted in community and hospitality—from their organically farmed Soul Patch Vineyard in Sonoma County to their growing presence in North Carolina\, now alongside their son and Assistant Winemaker\, Cooper.
URL:https://thelaurelmagazine.com/local-event/davis-family-vineyards-wine-dinner-at-oak-steakhouse
LOCATION:Oak Steakhouse at Skyline Lodge\, 470 Skyliine Lodge Road\, Highlands\, NC\, 28741\, United States
CATEGORIES:Dining
ATTACH;FMTTYPE=image/jpeg:https://thelaurelmagazine.com/wp-content/uploads/2026/01/highlands-nc-oak-steakhouse-davis-family-vineyards-wine-dinner.jpg
END:VEVENT
END:VCALENDAR