BEGIN:VCALENDAR
VERSION:2.0
PRODID:-//Laurel Magazine - ECPv6.15.16//NONSGML v1.0//EN
CALSCALE:GREGORIAN
METHOD:PUBLISH
X-WR-CALNAME:Laurel Magazine
X-ORIGINAL-URL:https://thelaurelmagazine.com
X-WR-CALDESC:Events for Laurel Magazine
REFRESH-INTERVAL;VALUE=DURATION:PT1H
X-Robots-Tag:noindex
X-PUBLISHED-TTL:PT1H
BEGIN:VTIMEZONE
TZID:America/New_York
BEGIN:DAYLIGHT
TZOFFSETFROM:-0500
TZOFFSETTO:-0400
TZNAME:EDT
DTSTART:20250309T070000
END:DAYLIGHT
BEGIN:STANDARD
TZOFFSETFROM:-0400
TZOFFSETTO:-0500
TZNAME:EST
DTSTART:20251102T060000
END:STANDARD
BEGIN:DAYLIGHT
TZOFFSETFROM:-0500
TZOFFSETTO:-0400
TZNAME:EDT
DTSTART:20260308T070000
END:DAYLIGHT
BEGIN:STANDARD
TZOFFSETFROM:-0400
TZOFFSETTO:-0500
TZNAME:EST
DTSTART:20261101T060000
END:STANDARD
BEGIN:DAYLIGHT
TZOFFSETFROM:-0500
TZOFFSETTO:-0400
TZNAME:EDT
DTSTART:20270314T070000
END:DAYLIGHT
BEGIN:STANDARD
TZOFFSETFROM:-0400
TZOFFSETTO:-0500
TZNAME:EST
DTSTART:20271107T060000
END:STANDARD
END:VTIMEZONE
BEGIN:VEVENT
DTSTART;TZID=America/New_York:20260214T120000
DTEND;TZID=America/New_York:20260214T200000
DTSTAMP:20260423T060330
CREATED:20260127T225455Z
LAST-MODIFIED:20260127T225455Z
UID:113535-1771070400-1771099200@thelaurelmagazine.com
SUMMARY:Love at First Flight\, 12-8 PM\, Western Carolina Brew & Wine.
DESCRIPTION:Celebrate Valentine’s Day with a thoughtfully curated flight experience designed to delight. Join us for an evening of great flavors and festive fun\, featuring: \n\nPhoto Booth | 4:00–6:00 PM\nValentine’s Flight Special\nBeer & Dessert Pairing\n\nSip\, savor\, and capture the moment—whether you’re celebrating with a special someone or simply enjoying your favorite pours.
URL:https://thelaurelmagazine.com/local-event/love-at-first-flight-12-8-pm-western-carolina-brew-wine
LOCATION:Western Carolina Brew and Wine\, 454 Carolina Way\, Highlands\, NC\, 28741\, United States
CATEGORIES:Dining
ATTACH;FMTTYPE=image/jpeg:https://thelaurelmagazine.com/wp-content/uploads/2026/01/highlands-nc-dining-western-carolina-brew-wine-love-at-first-flight.jpg
END:VEVENT
BEGIN:VEVENT
DTSTART;TZID=America/New_York:20260214T170000
DTEND;TZID=America/New_York:20260214T170000
DTSTAMP:20260423T060330
CREATED:20260208T140138Z
LAST-MODIFIED:20260208T140138Z
UID:114747-1771088400-1771088400@thelaurelmagazine.com
SUMMARY:Valentine's Pasta Dinner at The Ugly Dog Pub
DESCRIPTION:Skip the Valentine’s plans and keep it cozy at The Ugly Dog’s Valentine’s Pasta Dinner. \nEnjoy comforting pasta\, discounted wine bottles\, and a dessert special. \nNo reservations\, no dress code\, no stress—just walk in\, grab a seat\, and settle in. First come\, first served.
URL:https://thelaurelmagazine.com/local-event/valentines-pasta-dinner-at-the-ugly-dog-pub
LOCATION:The Ugly Dog Pub – Highlands\, 294 S 4th St\, Highlands\, NC\, 28741\, United States
CATEGORIES:Dining
ATTACH;FMTTYPE=image/jpeg:https://thelaurelmagazine.com/wp-content/uploads/2026/02/highlands-nc-dining-ugly-dog-pub-valentines-pasta-dinner.jpg
END:VEVENT
BEGIN:VEVENT
DTSTART;TZID=America/New_York:20260214T183000
DTEND;TZID=America/New_York:20260214T183000
DTSTAMP:20260423T060330
CREATED:20260204T144835Z
LAST-MODIFIED:20260204T145156Z
UID:114203-1771093800-1771093800@thelaurelmagazine.com
SUMMARY:Valentine's Wine Dinner at The Vineyard at High Holly
DESCRIPTION:We can’t wait to welcome both old and new friends for a beautiful Valentine’s dinner filled with amazing food\, wine\, and warm company. \nBring your date—or gather the whole crew—and choose your seating style you love most…\nJoin a larger community table and meet new friends or reserve a romantic table for two. \nNo matter how you celebrate\, we can’t wait to share the evening with you! \nPlease Email Lesley@thevineyardathighholly.com to confirm your seating choice once your tickets have been reserved. \n\nLimited Seating Available. Tickets must be purchased in advance.
URL:https://thelaurelmagazine.com/local-event/valentines-wine-dinner-at-the-vineyard-at-high-holly
LOCATION:The Vineyard at High Holly\, 37 High Holly Rd\, Scaly Mountain\, NC\, 28775\, United States
CATEGORIES:Dining
ATTACH;FMTTYPE=image/jpeg:https://thelaurelmagazine.com/wp-content/uploads/2026/02/highlands-nc-dining-vineyard-high-holly-valentines-dinner-2026-1.jpg
END:VEVENT
END:VCALENDAR