BEGIN:VCALENDAR
VERSION:2.0
PRODID:-//Laurel Magazine - ECPv6.15.16//NONSGML v1.0//EN
CALSCALE:GREGORIAN
METHOD:PUBLISH
X-ORIGINAL-URL:https://thelaurelmagazine.com
X-WR-CALDESC:Events for Laurel Magazine
REFRESH-INTERVAL;VALUE=DURATION:PT1H
X-Robots-Tag:noindex
X-PUBLISHED-TTL:PT1H
BEGIN:VTIMEZONE
TZID:America/New_York
BEGIN:DAYLIGHT
TZOFFSETFROM:-0500
TZOFFSETTO:-0400
TZNAME:EDT
DTSTART:20250309T070000
END:DAYLIGHT
BEGIN:STANDARD
TZOFFSETFROM:-0400
TZOFFSETTO:-0500
TZNAME:EST
DTSTART:20251102T060000
END:STANDARD
BEGIN:DAYLIGHT
TZOFFSETFROM:-0500
TZOFFSETTO:-0400
TZNAME:EDT
DTSTART:20260308T070000
END:DAYLIGHT
BEGIN:STANDARD
TZOFFSETFROM:-0400
TZOFFSETTO:-0500
TZNAME:EST
DTSTART:20261101T060000
END:STANDARD
BEGIN:DAYLIGHT
TZOFFSETFROM:-0500
TZOFFSETTO:-0400
TZNAME:EDT
DTSTART:20270314T070000
END:DAYLIGHT
BEGIN:STANDARD
TZOFFSETFROM:-0400
TZOFFSETTO:-0500
TZNAME:EST
DTSTART:20271107T060000
END:STANDARD
END:VTIMEZONE
BEGIN:VEVENT
DTSTART;TZID=America/New_York:20260406T090000
DTEND;TZID=America/New_York:20260412T233000
DTSTAMP:20260423T015858
CREATED:20260223T202900Z
LAST-MODIFIED:20260223T202900Z
UID:115055-1775466000-1776036600@thelaurelmagazine.com
SUMMARY:Highlands Restaurant Week
DESCRIPTION:Highlands Restaurant Week debuts April 6–12\, inviting guests to explore the town’s culinary creativity through special menus and springtime dining experiences. \nFrom fine to casual dining\, participating restaurants will feature new menu items\, offer fan favorites\, and multi-course menus during Highlands Restaurant Week . \nCheck out the current lineup of participating restaurants for Restaurant Week. We’re excited to showcase an incredible mix of downtown dining destinations.
URL:https://thelaurelmagazine.com/local-event/highlands-restaurant-week
LOCATION:NC
CATEGORIES:Dining
ATTACH;FMTTYPE=image/jpeg:https://thelaurelmagazine.com/wp-content/uploads/2026/02/highlands-nc-dining-highlands-restaurant-week-logo-edited.jpg
END:VEVENT
END:VCALENDAR