BEGIN:VCALENDAR
VERSION:2.0
PRODID:-//Laurel Magazine - ECPv6.15.16//NONSGML v1.0//EN
CALSCALE:GREGORIAN
METHOD:PUBLISH
X-ORIGINAL-URL:https://thelaurelmagazine.com
X-WR-CALDESC:Events for Laurel Magazine
REFRESH-INTERVAL;VALUE=DURATION:PT1H
X-Robots-Tag:noindex
X-PUBLISHED-TTL:PT1H
BEGIN:VTIMEZONE
TZID:America/New_York
BEGIN:DAYLIGHT
TZOFFSETFROM:-0500
TZOFFSETTO:-0400
TZNAME:EDT
DTSTART:20250309T070000
END:DAYLIGHT
BEGIN:STANDARD
TZOFFSETFROM:-0400
TZOFFSETTO:-0500
TZNAME:EST
DTSTART:20251102T060000
END:STANDARD
BEGIN:DAYLIGHT
TZOFFSETFROM:-0500
TZOFFSETTO:-0400
TZNAME:EDT
DTSTART:20260308T070000
END:DAYLIGHT
BEGIN:STANDARD
TZOFFSETFROM:-0400
TZOFFSETTO:-0500
TZNAME:EST
DTSTART:20261101T060000
END:STANDARD
BEGIN:DAYLIGHT
TZOFFSETFROM:-0500
TZOFFSETTO:-0400
TZNAME:EDT
DTSTART:20270314T070000
END:DAYLIGHT
BEGIN:STANDARD
TZOFFSETFROM:-0400
TZOFFSETTO:-0500
TZNAME:EST
DTSTART:20271107T060000
END:STANDARD
END:VTIMEZONE
BEGIN:VEVENT
DTSTART;TZID=America/New_York:20260516T093000
DTEND;TZID=America/New_York:20260516T093000
DTSTAMP:20260422T225416
CREATED:20260407T153220Z
LAST-MODIFIED:20260407T153220Z
UID:116916-1778923800-1778923800@thelaurelmagazine.com
SUMMARY:High Style | Full Schedule
DESCRIPTION:High Style is returning to Highlands\, North Carolina on May 16\, 2026\, celebrating art\, cuisine\, fashion\, and music. Perfect for both visitors and locals\, the event features live music\, local jewelry makers\, interactive art experiences\, culinary delights\, and an exciting fashion show. \nSet in the heart of one of North Carolina’s most charming mountain towns\, High Style is a celebration of creativity\, style\, and community. It is a wonderful way to experience the distinctive spirit of Highlands while enjoying a fun and memorable day filled with inspiration and entertainment. \nSchedule Subject to Change \n9:30am\nHigh Style Fashion Show\nThe Bascom | 323 Franklin Road\nDon’t miss your chance to be part of this stylish affair. Whether you’re a fashion enthusiast\, a trendsetter\, or simply looking for entertainment\, the Fashion Show promises an unforgettable experience for all. * We encourage guests to embrace their personal style and dress to impress. * FREE to attend. Cost: $25 VIP seating.\nCLICK HERE to purchase VIP seating. \n11:30am-1:30pm\nMusic – Chris Kohne\nPottery – Frank Vickery \nTown Square | 341 Main Street \n11:30am-1:30pm\nMusic – Kettle\nSilver Creek Social House | 537 Main Street \n11:30am-1:30pm\nMusic – Southern Highlands\nHighlands Wine Shoppe | 269 Oak Street \n11:30am-1:30pm\nMusic – Matt Molesworth Trio\nUgly Dog | 294 S 4th Street \n11:30am-1:30pm\nMusic – Mick Mayer\nOak Square | 310 Main Street \n12–2pm\nArt – William Rogers – Metal work\nHudson Library | 554 Main Street \n12–2pm\nSpanish Spring Cocktail Class with Lunch\nThe Stubborn Bull | 445 N 4th Street\nJoin us for a fun and interactive cocktail experience inspired by the flavors of Spain. In this hands-on class\, you’ll learn how to craft traditional Spanish sangria from scratch\, featuring dehydrated fruits and a curated selection of Spanish wines chosen specifically for the perfect balance and flavor. Our two talented bartenders will also share their insider tips and techniques\, guiding you step-by-step through the creation of three refreshing Spanish summer cocktails that you can easily recreate at home. To complete the experience\, enjoy a traditional tapas lunch (gamabas\, papas bravas\, pan con tomate\, manchango and jamon serano)\, thoughtfully prepared to pair with your drinks.\nCost: $59 per person.\nCLICK HERE to purchase tickets. \n1–3pm\nArt – Woodturners\nThe Bascom | 323 Franklin Road \n1–3pm\nLive Painting – Pauline Marr\nHighlands Wine Shoppe | 269 Oak Street \n2-3\nFloral Design Class\nCosmos | 95 Highlands Plaza\nUnleash your creativity in this hands-on floral design class\, where you’ll learn the art of arranging fresh blooms into stunning\, professional-style creations. Perfect for beginners and enthusiasts alike\, this class covers essential techniques\, color pairing\, and design principles while giving you the chance to craft your own beautiful arrangement to take home. Come get inspired\, have fun\, and let your creativity blossom. Space is limited. Cost: $75 per person.\nCLICK HERE to purchase tickets. \n2–4pm\nMusic – Charles Wood\nJewelry Making Demonstration – Marci Sherwood of Isabelle Ambrose\nTown Square | 341 Main Street \n2–4pm\nMusic – Doug Ramsey\nHighlands Wine Shoppe | 269 Oak Street \n2–4pm\nMusic – Silly Ridge\nOak Square | 310 Main Street \n2-4pm\nMusic – Lisa Rankin\nSilver Creek Social House | 537 Main Street \n2-4pm\nMusic – Katie and Ezra\nUgly Dog | 294 S 4th Street \n2-4pm\nMusic – Brian Aulisio & Friends\nFirst Bank | 473 Carolina Way \n3–4pm\nGather\, Sip & Style\nSpruce Interiors\, Highlands Creek Village | 468 Dillard Road\nMelanie and Nancy of Spruce Interiors invite you into their store and studio inspired by mountain charm and effortless Southern style. This intimate ladies’ event is designed to inspire and connect. Enjoy a glass of wine as you settle in for a thoughtfully curated experience centered around creating a home you truly love. A relaxed\, interactive experience to ask a designer\, learn how to build a beautiful room\, and master effortless tabletop styling for entertaining. Whether you’re refreshing a space\, hosting with intention\, or simply looking for inspiration\, this is your opportunity to gather\, learn\, and indulge in the art of living beautifully. Space is limited.\nCost $40 per person\, includes a special gift to bring home to your table.\nCLICK HERE to purchase tickets.
URL:https://thelaurelmagazine.com/local-event/high-style-full-schedule
LOCATION:NC
CATEGORIES:Community,Dining,Live Music
ATTACH;FMTTYPE=image/jpeg:https://thelaurelmagazine.com/wp-content/uploads/2026/03/highlands-nc-high-style-fashion-show-lace.jpg
END:VEVENT
END:VCALENDAR