BEGIN:VCALENDAR
VERSION:2.0
PRODID:-//Laurel Magazine - ECPv6.15.16//NONSGML v1.0//EN
CALSCALE:GREGORIAN
METHOD:PUBLISH
X-WR-CALNAME:Laurel Magazine
X-ORIGINAL-URL:https://thelaurelmagazine.com
X-WR-CALDESC:Events for Laurel Magazine
REFRESH-INTERVAL;VALUE=DURATION:PT1H
X-Robots-Tag:noindex
X-PUBLISHED-TTL:PT1H
BEGIN:VTIMEZONE
TZID:America/New_York
BEGIN:DAYLIGHT
TZOFFSETFROM:-0500
TZOFFSETTO:-0400
TZNAME:EDT
DTSTART:20250309T070000
END:DAYLIGHT
BEGIN:STANDARD
TZOFFSETFROM:-0400
TZOFFSETTO:-0500
TZNAME:EST
DTSTART:20251102T060000
END:STANDARD
BEGIN:DAYLIGHT
TZOFFSETFROM:-0500
TZOFFSETTO:-0400
TZNAME:EDT
DTSTART:20260308T070000
END:DAYLIGHT
BEGIN:STANDARD
TZOFFSETFROM:-0400
TZOFFSETTO:-0500
TZNAME:EST
DTSTART:20261101T060000
END:STANDARD
BEGIN:DAYLIGHT
TZOFFSETFROM:-0500
TZOFFSETTO:-0400
TZNAME:EDT
DTSTART:20270314T070000
END:DAYLIGHT
BEGIN:STANDARD
TZOFFSETFROM:-0400
TZOFFSETTO:-0500
TZNAME:EST
DTSTART:20271107T060000
END:STANDARD
END:VTIMEZONE
BEGIN:VEVENT
DTSTART;TZID=America/New_York:20260811T180000
DTEND;TZID=America/New_York:20260811T180000
DTSTAMP:20260423T060330
CREATED:20260409T162531Z
LAST-MODIFIED:20260409T162531Z
UID:116977-1786471200-1786471200@thelaurelmagazine.com
SUMMARY:Under the Stars\, On the Rocks | Guest Chef Julia Sullivan at Skyline Lodge
DESCRIPTION:Enjoy a one-of-a-kind dining experience with our premier guest chef dinner series\, “Under the Stars\, On the Rocks”. \nHosted at Skyline Lodge against the stunning Blue Ridge Mountains\, this event offers an al fresco steakhouse dining experience. Featuring collaborations with renowned chefs from around the country and Oak Steakhouse’s culinary team\, each four-course meal will be family-style and is unique and personalized to the guest chef. \nChef Julia Sullivan is the Chef and Co-Owner of Henrietta Red in Nashville\, a celebrated oyster bar known for its seasonal\, ingredient-driven cuisine and thoughtful sourcing. After honing her craft in some of New York’s most respected kitchens\, she returned home to open Henrietta Red in 2017\, earning national acclaim from Bon Appétit\, Food & Wine\, and the James Beard Foundation. In 2024\, she expanded her vision with Judith\, an American tavern recognized as one of Esquire’s Best New Restaurants and a MICHELIN-recommended destination in Sewanee\, Tennessee. Joining her is Bill Walton\, founding board member of Oyster South and a leading voice in shellfish aquaculture\, whose work connects sustainable oyster farming with chefs and coastal communities across the South. Together\, they bring a dynamic conversation between kitchen and coast\, rooted in sustainability\, seasonality\, and a deep appreciation for the waters that shape Southern cuisine. \nFor $175 per person\, including beverage pairings\, plus tax and gratuity.
URL:https://thelaurelmagazine.com/local-event/under-the-stars-on-the-rocks-guest-chef-julia-sullivan-at-skyline-lodge
LOCATION:Skyline Lodge\, 470 Skyline Lodge Rd\, Highlands\, NC\, 28741\, United States
CATEGORIES:Dining
ATTACH;FMTTYPE=image/jpeg:https://thelaurelmagazine.com/wp-content/uploads/2025/06/highlands-nc-skyline-lodge-under-stars-on-the-rocks.jpg
END:VEVENT
END:VCALENDAR