BEGIN:VCALENDAR
VERSION:2.0
PRODID:-//Laurel Magazine - ECPv6.15.16//NONSGML v1.0//EN
CALSCALE:GREGORIAN
METHOD:PUBLISH
X-ORIGINAL-URL:https://thelaurelmagazine.com
X-WR-CALDESC:Events for Laurel Magazine
REFRESH-INTERVAL;VALUE=DURATION:PT1H
X-Robots-Tag:noindex
X-PUBLISHED-TTL:PT1H
BEGIN:VTIMEZONE
TZID:America/New_York
BEGIN:DAYLIGHT
TZOFFSETFROM:-0500
TZOFFSETTO:-0400
TZNAME:EDT
DTSTART:20250309T070000
END:DAYLIGHT
BEGIN:STANDARD
TZOFFSETFROM:-0400
TZOFFSETTO:-0500
TZNAME:EST
DTSTART:20251102T060000
END:STANDARD
BEGIN:DAYLIGHT
TZOFFSETFROM:-0500
TZOFFSETTO:-0400
TZNAME:EDT
DTSTART:20260308T070000
END:DAYLIGHT
BEGIN:STANDARD
TZOFFSETFROM:-0400
TZOFFSETTO:-0500
TZNAME:EST
DTSTART:20261101T060000
END:STANDARD
BEGIN:DAYLIGHT
TZOFFSETFROM:-0500
TZOFFSETTO:-0400
TZNAME:EDT
DTSTART:20270314T070000
END:DAYLIGHT
BEGIN:STANDARD
TZOFFSETFROM:-0400
TZOFFSETTO:-0500
TZNAME:EST
DTSTART:20271107T060000
END:STANDARD
END:VTIMEZONE
BEGIN:VEVENT
DTSTART;TZID=America/New_York:20260819T170000
DTEND;TZID=America/New_York:20260819T170000
DTSTAMP:20260423T060442
CREATED:20251209T194838Z
LAST-MODIFIED:20251209T194838Z
UID:107076-1787158800-1787158800@thelaurelmagazine.com
SUMMARY:Paella Palooza | A Wine Club Event at Duck Hawk Provisions
DESCRIPTION:Become a member of the Duck Hawk Provisions Wine Club and unlock exclusive monthly pairing parties crafted just for you. \n\nPaella Palooza  \nThe Spanish Party you wont want to miss \n20 guests per event – Always at 5:00 P.M. – Always a good time
URL:https://thelaurelmagazine.com/local-event/paella-palooza-a-wine-club-event-at-duck-hawk-provisions
LOCATION:Duck Hawk Provisions\, 281 US 64\, Cashiers\, NC\, 28717\, United States
CATEGORIES:Dining
ATTACH;FMTTYPE=image/jpeg:https://thelaurelmagazine.com/wp-content/uploads/2025/12/cashiers-nc-dining-duck-hawk-provisions-firepit.jpg
END:VEVENT
END:VCALENDAR