BEGIN:VCALENDAR
VERSION:2.0
PRODID:-//Laurel Magazine - ECPv6.15.16//NONSGML v1.0//EN
CALSCALE:GREGORIAN
METHOD:PUBLISH
X-WR-CALNAME:Laurel Magazine
X-ORIGINAL-URL:https://thelaurelmagazine.com
X-WR-CALDESC:Events for Laurel Magazine
REFRESH-INTERVAL;VALUE=DURATION:PT1H
X-Robots-Tag:noindex
X-PUBLISHED-TTL:PT1H
BEGIN:VTIMEZONE
TZID:America/New_York
BEGIN:DAYLIGHT
TZOFFSETFROM:-0500
TZOFFSETTO:-0400
TZNAME:EDT
DTSTART:20200308T070000
END:DAYLIGHT
BEGIN:STANDARD
TZOFFSETFROM:-0400
TZOFFSETTO:-0500
TZNAME:EST
DTSTART:20201101T060000
END:STANDARD
BEGIN:DAYLIGHT
TZOFFSETFROM:-0500
TZOFFSETTO:-0400
TZNAME:EDT
DTSTART:20210314T070000
END:DAYLIGHT
BEGIN:STANDARD
TZOFFSETFROM:-0400
TZOFFSETTO:-0500
TZNAME:EST
DTSTART:20211107T060000
END:STANDARD
BEGIN:DAYLIGHT
TZOFFSETFROM:-0500
TZOFFSETTO:-0400
TZNAME:EDT
DTSTART:20220313T070000
END:DAYLIGHT
BEGIN:STANDARD
TZOFFSETFROM:-0400
TZOFFSETTO:-0500
TZNAME:EST
DTSTART:20221106T060000
END:STANDARD
BEGIN:DAYLIGHT
TZOFFSETFROM:-0500
TZOFFSETTO:-0400
TZNAME:EDT
DTSTART:20230312T070000
END:DAYLIGHT
BEGIN:STANDARD
TZOFFSETFROM:-0400
TZOFFSETTO:-0500
TZNAME:EST
DTSTART:20231105T060000
END:STANDARD
BEGIN:DAYLIGHT
TZOFFSETFROM:-0500
TZOFFSETTO:-0400
TZNAME:EDT
DTSTART:20240310T070000
END:DAYLIGHT
BEGIN:STANDARD
TZOFFSETFROM:-0400
TZOFFSETTO:-0500
TZNAME:EST
DTSTART:20241103T060000
END:STANDARD
BEGIN:DAYLIGHT
TZOFFSETFROM:-0500
TZOFFSETTO:-0400
TZNAME:EDT
DTSTART:20250309T070000
END:DAYLIGHT
BEGIN:STANDARD
TZOFFSETFROM:-0400
TZOFFSETTO:-0500
TZNAME:EST
DTSTART:20251102T060000
END:STANDARD
BEGIN:DAYLIGHT
TZOFFSETFROM:-0500
TZOFFSETTO:-0400
TZNAME:EDT
DTSTART:20260308T070000
END:DAYLIGHT
BEGIN:STANDARD
TZOFFSETFROM:-0400
TZOFFSETTO:-0500
TZNAME:EST
DTSTART:20261101T060000
END:STANDARD
END:VTIMEZONE
BEGIN:VEVENT
DTSTART;TZID=America/New_York:20250704T170000
DTEND;TZID=America/New_York:20250704T170000
DTSTAMP:20260420T205619
CREATED:20250702T144833Z
LAST-MODIFIED:20250702T144833Z
UID:92261-1751648400-1751648400@thelaurelmagazine.com
SUMMARY:Pig Pickin On The Hill at Highlander Mountain House & The Ruffed Grouse Tavern
DESCRIPTION:Celebrate July 4th with an outdoor pig roast. We will have live music\, sparklers & s’mores. Catch the fireworks from our patio.
URL:https://thelaurelmagazine.com/local-event/pig-pickin-on-the-hill-at-highlander-mountain-house-the-ruffed-grouse-tavern
LOCATION:Highlander Mountain House\, 270 Main St\, Highlands\, NC\, 28741\, United States
CATEGORIES:Community,Dining
ATTACH;FMTTYPE=image/jpeg:https://thelaurelmagazine.com/wp-content/uploads/2023/02/highlands-nc-highlander-mountain-house-exterior.jpg
END:VEVENT
BEGIN:VEVENT
DTSTART;TZID=America/New_York:20250704T120000
DTEND;TZID=America/New_York:20250704T180000
DTSTAMP:20260420T205619
CREATED:20250702T150622Z
LAST-MODIFIED:20250702T150622Z
UID:92272-1751630400-1751652000@thelaurelmagazine.com
SUMMARY:Star-Spangled Celebration at The Vineyard at High Holly
DESCRIPTION:Join The Vineyard at High Holly for wine\, live music & food from July 2–6\, 12-6pm. \nLive Music Thurs\, Fri.\, and Sun 2-5pm.\n(closed Saturday)
URL:https://thelaurelmagazine.com/local-event/star-spangled-celebration-at-the-vineyard-at-high-holly/2025-07-04
LOCATION:The Vineyard at High Holly\, 37 High Holly Rd\, Scaly Mountain\, NC\, 28775\, United States
CATEGORIES:Dining,Live Music
ATTACH;FMTTYPE=image/jpeg:https://thelaurelmagazine.com/wp-content/uploads/2025/07/highlands-nc-vineyard-at-high-holly-landscape.jpg
END:VEVENT
BEGIN:VEVENT
DTSTART;TZID=America/New_York:20250703T120000
DTEND;TZID=America/New_York:20250703T180000
DTSTAMP:20260420T205619
CREATED:20250702T150622Z
LAST-MODIFIED:20250702T150622Z
UID:92271-1751544000-1751565600@thelaurelmagazine.com
SUMMARY:Star-Spangled Celebration at The Vineyard at High Holly
DESCRIPTION:Join The Vineyard at High Holly for wine\, live music & food from July 2–6\, 12-6pm. \nLive Music Thurs\, Fri.\, and Sun 2-5pm.\n(closed Saturday)
URL:https://thelaurelmagazine.com/local-event/star-spangled-celebration-at-the-vineyard-at-high-holly/2025-07-03
LOCATION:The Vineyard at High Holly\, 37 High Holly Rd\, Scaly Mountain\, NC\, 28775\, United States
CATEGORIES:Dining,Live Music
ATTACH;FMTTYPE=image/jpeg:https://thelaurelmagazine.com/wp-content/uploads/2025/07/highlands-nc-vineyard-at-high-holly-landscape.jpg
END:VEVENT
BEGIN:VEVENT
DTSTART;TZID=America/New_York:20250702T170000
DTEND;TZID=America/New_York:20250702T210000
DTSTAMP:20260420T205619
CREATED:20250609T152245Z
LAST-MODIFIED:20251213T185423Z
UID:90490-1751475600-1751490000@thelaurelmagazine.com
SUMMARY:Supper Social Club at Hotel Cashiers
DESCRIPTION:Join in every Wednesday for a special prix-fixe dinner menu! \nEach week will offer a new concept created by Chef Kelly and will include a starter\, entree\, and desert as well as special pricing on wine selections curated by our very own sommelier\, Gabriel. \nAdvance tickets offer a discount but walk ins are welcome based on availability. Book in advance and save! Reservations are recommended.
URL:https://thelaurelmagazine.com/local-event/supper-social-club-at-hotel-cashiers/2025-07-02
LOCATION:Hotel Cashiers\, 7 Slab Town Road\, Cashiers\, NC\, 28717\, United States
CATEGORIES:Dining
ATTACH;FMTTYPE=image/jpeg:https://thelaurelmagazine.com/wp-content/uploads/2025/06/cashiers-nc-hotel-cashiers-sunday-supper-spread.jpg
END:VEVENT
BEGIN:VEVENT
DTSTART;TZID=America/New_York:20250702T120000
DTEND;TZID=America/New_York:20250702T180000
DTSTAMP:20260420T205619
CREATED:20250702T150622Z
LAST-MODIFIED:20250702T150622Z
UID:92268-1751457600-1751479200@thelaurelmagazine.com
SUMMARY:Star-Spangled Celebration at The Vineyard at High Holly
DESCRIPTION:Join The Vineyard at High Holly for wine\, live music & food from July 2–6\, 12-6pm. \nLive Music Thurs\, Fri.\, and Sun 2-5pm.\n(closed Saturday)
URL:https://thelaurelmagazine.com/local-event/star-spangled-celebration-at-the-vineyard-at-high-holly/2025-07-02
LOCATION:The Vineyard at High Holly\, 37 High Holly Rd\, Scaly Mountain\, NC\, 28775\, United States
CATEGORIES:Dining,Live Music
ATTACH;FMTTYPE=image/jpeg:https://thelaurelmagazine.com/wp-content/uploads/2025/07/highlands-nc-vineyard-at-high-holly-landscape.jpg
END:VEVENT
BEGIN:VEVENT
DTSTART;TZID=America/New_York:20250626T180000
DTEND;TZID=America/New_York:20250626T220000
DTSTAMP:20260420T205619
CREATED:20250610T181012Z
LAST-MODIFIED:20250610T181012Z
UID:90760-1750960800-1750975200@thelaurelmagazine.com
SUMMARY:A Taste of Summer with Chef Chris Hall At The Farm at Old Edwards
DESCRIPTION:Join us for a Taste of Summer with Chef Chris Hall of Local Three in Atlanta. Chef Chris will present dishes from the past 15 years of Local Three\, a mix of guest favorites and his favorite Italian dishes. \nLive music will set the scene for an exciting and delicious evening.
URL:https://thelaurelmagazine.com/local-event/a-taste-of-summer-with-chef-chris-hall-at-the-farm-at-old-edwards
LOCATION:The Farm at Old Edwards\, 336 Arnold Road\, Highlands\, NC\, 28741\, United States
CATEGORIES:Dining
ATTACH;FMTTYPE=image/jpeg:https://thelaurelmagazine.com/wp-content/uploads/2025/06/highlands-nc-farm-old-edwards-taste-of-summer.jpg
END:VEVENT
BEGIN:VEVENT
DTSTART;TZID=America/New_York:20250625T170000
DTEND;TZID=America/New_York:20250625T210000
DTSTAMP:20260420T205619
CREATED:20250609T152245Z
LAST-MODIFIED:20251213T185423Z
UID:90489-1750870800-1750885200@thelaurelmagazine.com
SUMMARY:Supper Social Club at Hotel Cashiers
DESCRIPTION:Join in every Wednesday for a special prix-fixe dinner menu! \nEach week will offer a new concept created by Chef Kelly and will include a starter\, entree\, and desert as well as special pricing on wine selections curated by our very own sommelier\, Gabriel. \nAdvance tickets offer a discount but walk ins are welcome based on availability. Book in advance and save! Reservations are recommended.
URL:https://thelaurelmagazine.com/local-event/supper-social-club-at-hotel-cashiers/2025-06-25
LOCATION:Hotel Cashiers\, 7 Slab Town Road\, Cashiers\, NC\, 28717\, United States
CATEGORIES:Dining
ATTACH;FMTTYPE=image/jpeg:https://thelaurelmagazine.com/wp-content/uploads/2025/06/cashiers-nc-hotel-cashiers-sunday-supper-spread.jpg
END:VEVENT
BEGIN:VEVENT
DTSTART;TZID=America/New_York:20250620T170000
DTEND;TZID=America/New_York:20250620T170000
DTSTAMP:20260420T205619
CREATED:20250609T170319Z
LAST-MODIFIED:20250609T170319Z
UID:90628-1750438800-1750438800@thelaurelmagazine.com
SUMMARY:Le Grand Bordeaux at High Country Wine & Provisions
DESCRIPTION:Get ready for a grand tasting event featuring over 10 exceptional wines! We’ll journey from Champagne to some of Bordeaux’s most celebrated names\, including Chateau LaFleur Petrus and Anseillan of Chateau Lafitte Rothschild. Plus\, selections from @davisfamilyvineyards along the way!  Hosted by winemakers Cooper & Guy Davis and French wine expert Christophe Courtreaud.
URL:https://thelaurelmagazine.com/local-event/le-grand-bordeaux-at-high-country-wine-provisions
LOCATION:High Country Wine & Provisions\, 621 Franklin Rd\, Highlands\, NC\, 28741\, United States
CATEGORIES:Community,Dining
ATTACH;FMTTYPE=image/jpeg:https://thelaurelmagazine.com/wp-content/uploads/2025/06/highlands-nc-wine-provisions-grand-tasting.jpg
END:VEVENT
BEGIN:VEVENT
DTSTART;TZID=America/New_York:20250618T170000
DTEND;TZID=America/New_York:20250618T210000
DTSTAMP:20260420T205619
CREATED:20250609T152245Z
LAST-MODIFIED:20251213T185422Z
UID:90488-1750266000-1750280400@thelaurelmagazine.com
SUMMARY:Supper Social Club at Hotel Cashiers
DESCRIPTION:Join in every Wednesday for a special prix-fixe dinner menu! \nEach week will offer a new concept created by Chef Kelly and will include a starter\, entree\, and desert as well as special pricing on wine selections curated by our very own sommelier\, Gabriel. \nAdvance tickets offer a discount but walk ins are welcome based on availability. Book in advance and save! Reservations are recommended.
URL:https://thelaurelmagazine.com/local-event/supper-social-club-at-hotel-cashiers/2025-06-18
LOCATION:Hotel Cashiers\, 7 Slab Town Road\, Cashiers\, NC\, 28717\, United States
CATEGORIES:Dining
ATTACH;FMTTYPE=image/jpeg:https://thelaurelmagazine.com/wp-content/uploads/2025/06/cashiers-nc-hotel-cashiers-sunday-supper-spread.jpg
END:VEVENT
BEGIN:VEVENT
DTSTART;TZID=America/New_York:20250617T180000
DTEND;TZID=America/New_York:20250617T180000
DTSTAMP:20260420T205619
CREATED:20250609T164905Z
LAST-MODIFIED:20250609T164905Z
UID:90619-1750183200-1750183200@thelaurelmagazine.com
SUMMARY:Guest Chef Series: Chef Adam Fehrenbacher at The Ruffed Grouse
DESCRIPTION:Chef Adam Fehrenbacher of Gainesville’s Fehrenbacher’s Meats & Eats and Chef Adam Bresnahan of The Ruffed Grouse—come together.
URL:https://thelaurelmagazine.com/local-event/guest-chef-series-chef-adam-fehrenbacher-at-the-ruffed-grouse
LOCATION:Highlander Mountain House\, 270 Main St\, Highlands\, NC\, 28741\, United States
CATEGORIES:Dining
END:VEVENT
BEGIN:VEVENT
DTSTART;TZID=America/New_York:20250611T170000
DTEND;TZID=America/New_York:20250611T210000
DTSTAMP:20260420T205619
CREATED:20250609T152245Z
LAST-MODIFIED:20251213T185421Z
UID:90486-1749661200-1749675600@thelaurelmagazine.com
SUMMARY:Supper Social Club at Hotel Cashiers
DESCRIPTION:Join in every Wednesday for a special prix-fixe dinner menu! \nEach week will offer a new concept created by Chef Kelly and will include a starter\, entree\, and desert as well as special pricing on wine selections curated by our very own sommelier\, Gabriel. \nAdvance tickets offer a discount but walk ins are welcome based on availability. Book in advance and save! Reservations are recommended.
URL:https://thelaurelmagazine.com/local-event/supper-social-club-at-hotel-cashiers/2025-06-11
LOCATION:Hotel Cashiers\, 7 Slab Town Road\, Cashiers\, NC\, 28717\, United States
CATEGORIES:Dining
ATTACH;FMTTYPE=image/jpeg:https://thelaurelmagazine.com/wp-content/uploads/2025/06/cashiers-nc-hotel-cashiers-sunday-supper-spread.jpg
END:VEVENT
BEGIN:VEVENT
DTSTART;TZID=America/New_York:20250517T143000
DTEND;TZID=America/New_York:20250517T160000
DTSTAMP:20260420T205619
CREATED:20250515T004300Z
LAST-MODIFIED:20250515T004300Z
UID:89255-1747492200-1747497600@thelaurelmagazine.com
SUMMARY:High Style | Cocktail Class at The Stubborn Bull
DESCRIPTION:A High Style Event \nJoin us at The Stubborn Bull where our expert mixologist will walk you through the creation of classic cocktails. You will leave with a commemorative cocktail shaker and recipe card for use at home.
URL:https://thelaurelmagazine.com/local-event/high-style-cocktail-class-at-the-stubborn-bull
LOCATION:NC
CATEGORIES:Community,Dining
ATTACH;FMTTYPE=image/jpeg:https://thelaurelmagazine.com/wp-content/uploads/2025/05/highlands-nc-chamber-high-style-graphic.jpg
END:VEVENT
BEGIN:VEVENT
DTSTART;TZID=America/New_York:20250513T180000
DTEND;TZID=America/New_York:20250513T180000
DTSTAMP:20260420T205619
CREATED:20250509T214000Z
LAST-MODIFIED:20250509T214000Z
UID:89195-1747159200-1747159200@thelaurelmagazine.com
SUMMARY:Under the Stars\, on the Rocks | Chef Joe Schafer at Skyline Lodge
DESCRIPTION:Enjoy a one-of-a-kind dining experience with our premier guest chef dinner series\, “Under the Stars\, On the Rocks”. Hosted at Skyline Lodge against the stunning Blue Ridge Mountains\, this event offers an al fresco steakhouse dining experience. Featuring collaborations with renowned chefs from around the country and Oak Steakhouse’s culinary team\, each four-course meal will be family-style and is unique and personalized to the guest chef. For $175 per person\, including beverage pairings\, plus tax and gratuity. \nChef Joe Schafer\, Vice President of Culinary for Atlanta-based Electric Hospitality\, brings over 25 years of experience to leading the kitchens at The Electric Room\, Ladybird Grove & Mess Hall\, Muchacho\, and Ranger Station. A James Beard Award nominee and former Executive Chef at many top Atlanta restaurants like Bacchanalia and King + Duke\, he also spearheaded the Atlanta Hawks’ food and sustainability programs at State Farm Arena\, earning it a platinum zero-waste certification. Passionate about dynamic\, contemporary dining\, he continues to redefine Atlanta’s culinary scene.
URL:https://thelaurelmagazine.com/local-event/under-the-stars-on-the-rocks-chef-joe-schafer-at-skyline-lodge
LOCATION:NC
CATEGORIES:Community,Dining
ATTACH;FMTTYPE=image/jpeg:https://thelaurelmagazine.com/wp-content/uploads/2025/05/highlands-nc-oak-steakhouse-skyline-lodge-under-stars-guest-chef-pavillion.jpg
END:VEVENT
BEGIN:VEVENT
DTSTART;TZID=America/New_York:20250226T080000
DTEND;TZID=America/New_York:20250226T170000
DTSTAMP:20260420T205619
CREATED:20240525T234809Z
LAST-MODIFIED:20240525T234809Z
UID:70831-1740556800-1740589200@thelaurelmagazine.com
SUMMARY:Wine Wednesday at Highlander Mountain House
DESCRIPTION:1/2 off select bottles of wine with entree. Locals receive 20% off all menu items!
URL:https://thelaurelmagazine.com/local-event/wine-wednesday-at-highlander-mountain-house-2025-02-26
LOCATION:Highlander Mountain House\, 270 Main St\, Highlands\, NC\, 28741\, United States
CATEGORIES:Dining
END:VEVENT
BEGIN:VEVENT
DTSTART;TZID=America/New_York:20210403T080000
DTEND;TZID=America/New_York:20210403T123000
DTSTAMP:20260420T205619
CREATED:20210401T153806Z
LAST-MODIFIED:20210402T204131Z
UID:27826-1617436800-1617453000@thelaurelmagazine.com
SUMMARY:Highlands Marketplace Farmers Market
DESCRIPTION:This local market opens Saturdays from 8:00 A.M. until 12:30 P.M. in Kelsey-Hutchinson Founders Park on Pine Street and you’ll want to arrive early for the best selections.  Not only will you see your neighbors there shopping\, but you’ll see local farmers\, crafters\, growers\, artists\, and bakers.
URL:https://thelaurelmagazine.com/local-event/highlands-marketplace-farmers-market/2021-04-03
LOCATION:Kelsey-Hutchinson Founders Park\, 411 Pine St.\, Highlands\, NC\, 28741\, United States
CATEGORIES:Community,Dining,Shopping
ATTACH;FMTTYPE=image/jpeg:https://thelaurelmagazine.com/wp-content/uploads/2019/09/highlands-nc-marketplace-chip-wilson-pickles.jpg
END:VEVENT
END:VCALENDAR