BEGIN:VCALENDAR
VERSION:2.0
PRODID:-//Laurel Magazine - ECPv6.15.16//NONSGML v1.0//EN
CALSCALE:GREGORIAN
METHOD:PUBLISH
X-WR-CALNAME:Laurel Magazine
X-ORIGINAL-URL:https://thelaurelmagazine.com
X-WR-CALDESC:Events for Laurel Magazine
REFRESH-INTERVAL;VALUE=DURATION:PT1H
X-Robots-Tag:noindex
X-PUBLISHED-TTL:PT1H
BEGIN:VTIMEZONE
TZID:America/New_York
BEGIN:DAYLIGHT
TZOFFSETFROM:-0500
TZOFFSETTO:-0400
TZNAME:EDT
DTSTART:20240310T070000
END:DAYLIGHT
BEGIN:STANDARD
TZOFFSETFROM:-0400
TZOFFSETTO:-0500
TZNAME:EST
DTSTART:20241103T060000
END:STANDARD
BEGIN:DAYLIGHT
TZOFFSETFROM:-0500
TZOFFSETTO:-0400
TZNAME:EDT
DTSTART:20250309T070000
END:DAYLIGHT
BEGIN:STANDARD
TZOFFSETFROM:-0400
TZOFFSETTO:-0500
TZNAME:EST
DTSTART:20251102T060000
END:STANDARD
BEGIN:DAYLIGHT
TZOFFSETFROM:-0500
TZOFFSETTO:-0400
TZNAME:EDT
DTSTART:20260308T070000
END:DAYLIGHT
BEGIN:STANDARD
TZOFFSETFROM:-0400
TZOFFSETTO:-0500
TZNAME:EST
DTSTART:20261101T060000
END:STANDARD
END:VTIMEZONE
BEGIN:VEVENT
DTSTART;TZID=America/New_York:20250803T170000
DTEND;TZID=America/New_York:20250803T190000
DTSTAMP:20260424T014542
CREATED:20250731T141433Z
LAST-MODIFIED:20250731T141433Z
UID:94155-1754240400-1754247600@thelaurelmagazine.com
SUMMARY:Vino and Vibes with at High Country Wine and Provisions
DESCRIPTION:Will and Lindsey are a dynamic musical duo known for their heartfelt performances and harmonious blend of sounds. Based in Panama City\, Florida\, they share a deep passion for music that has brought them together both personally and creatively. With Will’s soulful energetic voice and Lindsey’s enchanting vocals and piano playing\, they create a captivating experience for their audience. \nDon’t miss out on an evening full of great music\, charcuterie\, and wine!
URL:https://thelaurelmagazine.com/local-event/vino-and-vibes-with-at-high-country-wine-and-provisions
LOCATION:High Country Wine & Provisions\, 621 Franklin Rd\, Highlands\, NC\, 28741\, United States
CATEGORIES:Dining
ATTACH;FMTTYPE=image/jpeg:https://thelaurelmagazine.com/wp-content/uploads/2025/07/highlansds-nc-high-country-wine-provisions-will-lindsey.jpg
END:VEVENT
BEGIN:VEVENT
DTSTART;TZID=America/New_York:20250806T170000
DTEND;TZID=America/New_York:20250806T210000
DTSTAMP:20260424T014542
CREATED:20250609T152245Z
LAST-MODIFIED:20251213T185423Z
UID:90495-1754499600-1754514000@thelaurelmagazine.com
SUMMARY:Supper Social Club at Hotel Cashiers
DESCRIPTION:Join in every Wednesday for a special prix-fixe dinner menu! \nEach week will offer a new concept created by Chef Kelly and will include a starter\, entree\, and desert as well as special pricing on wine selections curated by our very own sommelier\, Gabriel. \nAdvance tickets offer a discount but walk ins are welcome based on availability. Book in advance and save! Reservations are recommended.
URL:https://thelaurelmagazine.com/local-event/supper-social-club-at-hotel-cashiers/2025-08-06
LOCATION:Hotel Cashiers\, 7 Slab Town Road\, Cashiers\, NC\, 28717\, United States
CATEGORIES:Dining
ATTACH;FMTTYPE=image/jpeg:https://thelaurelmagazine.com/wp-content/uploads/2025/06/cashiers-nc-hotel-cashiers-sunday-supper-spread.jpg
END:VEVENT
END:VCALENDAR