BEGIN:VCALENDAR
VERSION:2.0
PRODID:-//Laurel Magazine - ECPv6.15.16//NONSGML v1.0//EN
CALSCALE:GREGORIAN
METHOD:PUBLISH
X-ORIGINAL-URL:https://thelaurelmagazine.com
X-WR-CALDESC:Events for Laurel Magazine
REFRESH-INTERVAL;VALUE=DURATION:PT1H
X-Robots-Tag:noindex
X-PUBLISHED-TTL:PT1H
BEGIN:VTIMEZONE
TZID:America/New_York
BEGIN:DAYLIGHT
TZOFFSETFROM:-0500
TZOFFSETTO:-0400
TZNAME:EDT
DTSTART:20240310T070000
END:DAYLIGHT
BEGIN:STANDARD
TZOFFSETFROM:-0400
TZOFFSETTO:-0500
TZNAME:EST
DTSTART:20241103T060000
END:STANDARD
BEGIN:DAYLIGHT
TZOFFSETFROM:-0500
TZOFFSETTO:-0400
TZNAME:EDT
DTSTART:20250309T070000
END:DAYLIGHT
BEGIN:STANDARD
TZOFFSETFROM:-0400
TZOFFSETTO:-0500
TZNAME:EST
DTSTART:20251102T060000
END:STANDARD
BEGIN:DAYLIGHT
TZOFFSETFROM:-0500
TZOFFSETTO:-0400
TZNAME:EDT
DTSTART:20260308T070000
END:DAYLIGHT
BEGIN:STANDARD
TZOFFSETFROM:-0400
TZOFFSETTO:-0500
TZNAME:EST
DTSTART:20261101T060000
END:STANDARD
END:VTIMEZONE
BEGIN:VEVENT
DTSTART;TZID=America/New_York:20250812T180000
DTEND;TZID=America/New_York:20250812T180000
DTSTAMP:20260424T050024
CREATED:20250715T184818Z
LAST-MODIFIED:20250715T184848Z
UID:93272-1755021600-1755021600@thelaurelmagazine.com
SUMMARY:Under the Stars\, on the Rocks | Chef Jennifer Carrol at Skyline Lodge
DESCRIPTION:Enjoy a one-of-a-kind dining experience with our premier guest chef dinner series\, “Under the Stars\, On the Rocks”. \nHosted at Skyline Lodge against the stunning Blue Ridge Mountains\, this event offers an al fresco steakhouse dining experience. Featuring collaborations with renowned chefs from around the country and Oak Steakhouse’s culinary team\, each four-course meal will be family-style and is unique and personalized to the guest chef. \nFor $175 per person\, including beverage pairings\, plus tax and gratuity.
URL:https://thelaurelmagazine.com/local-event/under-the-stars-on-the-rocks-vchef-jennifer-carrol-at-skyline-lodge
LOCATION:Oak Steakhouse at Skyline Lodge\, 470 Skyliine Lodge Road\, Highlands\, NC\, 28741\, United States
CATEGORIES:Dining
ATTACH;FMTTYPE=image/jpeg:https://thelaurelmagazine.com/wp-content/uploads/2025/06/highlands-nc-skyline-lodge-under-stars-on-the-rocks.jpg
END:VEVENT
BEGIN:VEVENT
DTSTART;TZID=America/New_York:20250813T170000
DTEND;TZID=America/New_York:20250813T210000
DTSTAMP:20260424T050024
CREATED:20250609T152245Z
LAST-MODIFIED:20251213T185424Z
UID:90496-1755104400-1755118800@thelaurelmagazine.com
SUMMARY:Supper Social Club at Hotel Cashiers
DESCRIPTION:Join in every Wednesday for a special prix-fixe dinner menu! \nEach week will offer a new concept created by Chef Kelly and will include a starter\, entree\, and desert as well as special pricing on wine selections curated by our very own sommelier\, Gabriel. \nAdvance tickets offer a discount but walk ins are welcome based on availability. Book in advance and save! Reservations are recommended.
URL:https://thelaurelmagazine.com/local-event/supper-social-club-at-hotel-cashiers/2025-08-13
LOCATION:Hotel Cashiers\, 7 Slab Town Road\, Cashiers\, NC\, 28717\, United States
CATEGORIES:Dining
ATTACH;FMTTYPE=image/jpeg:https://thelaurelmagazine.com/wp-content/uploads/2025/06/cashiers-nc-hotel-cashiers-sunday-supper-spread.jpg
END:VEVENT
END:VCALENDAR