BEGIN:VCALENDAR
VERSION:2.0
PRODID:-//Laurel Magazine - ECPv6.15.16//NONSGML v1.0//EN
CALSCALE:GREGORIAN
METHOD:PUBLISH
X-WR-CALNAME:Laurel Magazine
X-ORIGINAL-URL:https://thelaurelmagazine.com
X-WR-CALDESC:Events for Laurel Magazine
REFRESH-INTERVAL;VALUE=DURATION:PT1H
X-Robots-Tag:noindex
X-PUBLISHED-TTL:PT1H
BEGIN:VTIMEZONE
TZID:America/New_York
BEGIN:DAYLIGHT
TZOFFSETFROM:-0500
TZOFFSETTO:-0400
TZNAME:EDT
DTSTART:20240310T070000
END:DAYLIGHT
BEGIN:STANDARD
TZOFFSETFROM:-0400
TZOFFSETTO:-0500
TZNAME:EST
DTSTART:20241103T060000
END:STANDARD
BEGIN:DAYLIGHT
TZOFFSETFROM:-0500
TZOFFSETTO:-0400
TZNAME:EDT
DTSTART:20250309T070000
END:DAYLIGHT
BEGIN:STANDARD
TZOFFSETFROM:-0400
TZOFFSETTO:-0500
TZNAME:EST
DTSTART:20251102T060000
END:STANDARD
BEGIN:DAYLIGHT
TZOFFSETFROM:-0500
TZOFFSETTO:-0400
TZNAME:EDT
DTSTART:20260308T070000
END:DAYLIGHT
BEGIN:STANDARD
TZOFFSETFROM:-0400
TZOFFSETTO:-0500
TZNAME:EST
DTSTART:20261101T060000
END:STANDARD
END:VTIMEZONE
BEGIN:VEVENT
DTSTART;TZID=America/New_York:20250818T180000
DTEND;TZID=America/New_York:20250818T210000
DTSTAMP:20260424T021031
CREATED:20250730T132417Z
LAST-MODIFIED:20250730T132417Z
UID:94011-1755540000-1755550800@thelaurelmagazine.com
SUMMARY:Wine\, Women and Song at On the Verandah
DESCRIPTION:Join us at On the Verandah for Wine\, Women and Song with host Lisa Rankin. An event celebrating the anniversary of the 19th Amendment and the power of women’s voices\, both literal and figurative. \nIt will be an evening that blends live music\, wine\, art\, and activism into a free-form celebration of women’s rights and creative expression.
URL:https://thelaurelmagazine.com/local-event/wine-women-and-song-at-on-the-verandah
LOCATION:On the Verandah\, 1536 Franklin Rd\, Highlands\, NC\, 28741\, United States
CATEGORIES:Dining,Live Music
ATTACH;FMTTYPE=image/jpeg:https://thelaurelmagazine.com/wp-content/uploads/2025/07/Lisa_rankin_musician_highlands_nc.jpg
END:VEVENT
BEGIN:VEVENT
DTSTART;TZID=America/New_York:20250820T170000
DTEND;TZID=America/New_York:20250820T210000
DTSTAMP:20260424T021031
CREATED:20250609T152245Z
LAST-MODIFIED:20251213T185424Z
UID:90497-1755709200-1755723600@thelaurelmagazine.com
SUMMARY:Supper Social Club at Hotel Cashiers
DESCRIPTION:Join in every Wednesday for a special prix-fixe dinner menu! \nEach week will offer a new concept created by Chef Kelly and will include a starter\, entree\, and desert as well as special pricing on wine selections curated by our very own sommelier\, Gabriel. \nAdvance tickets offer a discount but walk ins are welcome based on availability. Book in advance and save! Reservations are recommended.
URL:https://thelaurelmagazine.com/local-event/supper-social-club-at-hotel-cashiers/2025-08-20
LOCATION:Hotel Cashiers\, 7 Slab Town Road\, Cashiers\, NC\, 28717\, United States
CATEGORIES:Dining
ATTACH;FMTTYPE=image/jpeg:https://thelaurelmagazine.com/wp-content/uploads/2025/06/cashiers-nc-hotel-cashiers-sunday-supper-spread.jpg
END:VEVENT
BEGIN:VEVENT
DTSTART;TZID=America/New_York:20250822T163000
DTEND;TZID=America/New_York:20250822T190000
DTSTAMP:20260424T021031
CREATED:20250821T171434Z
LAST-MODIFIED:20250821T171434Z
UID:95606-1755880200-1755889200@thelaurelmagazine.com
SUMMARY:Sip & Sign | Meet Author Richard Betz at Highlands Wine Shoppe
DESCRIPTION:Join us at Highlands Wine Shoppe for a very special evening celebrating local author Richard Betz and the release of his latest book\, Continental Divide—a stunning collection of poems inspired by the natural bounty\, wildlife\, and deep personal connections that make our corner of North Carolina so extraordinary. \nThe evening will feature: \nWine & charcuterie pairings (including a nod to our very own mention in the book!)\nReadings and reflections by the author\nA warm gathering of friends\, both new and old
URL:https://thelaurelmagazine.com/local-event/sip-sign-meet-author-richard-betz-at-highlands-wine-shoppe
LOCATION:Highlands Wine Shoppe\, 269 Oak St\, Highlands\, 28741\, United States
CATEGORIES:Community,Dining
ATTACH;FMTTYPE=image/jpeg:https://thelaurelmagazine.com/wp-content/uploads/2025/08/highlands-nc-wine-shoppe-continental-divide-richard-betz.jpg
END:VEVENT
BEGIN:VEVENT
DTSTART;TZID=America/New_York:20250823T120000
DTEND;TZID=America/New_York:20250823T150000
DTSTAMP:20260424T021031
CREATED:20250808T130909Z
LAST-MODIFIED:20250812T133921Z
UID:95291-1755950400-1755961200@thelaurelmagazine.com
SUMMARY:Pups and Pints at Highlands Smokehouse
DESCRIPTION:Get ready for a tail-wagging good time! \nBrowse unique finds from local vendors selling handcrafted dog apparel\, gourmet treats\, and more. Enjoy live music\, delicious BBQ\, a full bar and meet adorable\, adoptable puppies brought by the Cashiers-Highlands Humane Society-you might just meet your new best friend! \nBring your dog\, bring your friends\, and raise a pint to a great cause. \nSee you there!
URL:https://thelaurelmagazine.com/local-event/pups-and-pints-at-highlands-smokehouse
LOCATION:Highlands Smokehouse
CATEGORIES:Dining,Live Music
ATTACH;FMTTYPE=image/jpeg:https://thelaurelmagazine.com/wp-content/uploads/2025/08/highlands-nc-smokehouse-pups-and-pints-flyer.jpg
END:VEVENT
END:VCALENDAR