BEGIN:VCALENDAR
VERSION:2.0
PRODID:-//Laurel Magazine - ECPv6.15.16//NONSGML v1.0//EN
CALSCALE:GREGORIAN
METHOD:PUBLISH
X-WR-CALNAME:Laurel Magazine
X-ORIGINAL-URL:https://thelaurelmagazine.com
X-WR-CALDESC:Events for Laurel Magazine
REFRESH-INTERVAL;VALUE=DURATION:PT1H
X-Robots-Tag:noindex
X-PUBLISHED-TTL:PT1H
BEGIN:VTIMEZONE
TZID:America/New_York
BEGIN:DAYLIGHT
TZOFFSETFROM:-0500
TZOFFSETTO:-0400
TZNAME:EDT
DTSTART:20240310T070000
END:DAYLIGHT
BEGIN:STANDARD
TZOFFSETFROM:-0400
TZOFFSETTO:-0500
TZNAME:EST
DTSTART:20241103T060000
END:STANDARD
BEGIN:DAYLIGHT
TZOFFSETFROM:-0500
TZOFFSETTO:-0400
TZNAME:EDT
DTSTART:20250309T070000
END:DAYLIGHT
BEGIN:STANDARD
TZOFFSETFROM:-0400
TZOFFSETTO:-0500
TZNAME:EST
DTSTART:20251102T060000
END:STANDARD
BEGIN:DAYLIGHT
TZOFFSETFROM:-0500
TZOFFSETTO:-0400
TZNAME:EDT
DTSTART:20260308T070000
END:DAYLIGHT
BEGIN:STANDARD
TZOFFSETFROM:-0400
TZOFFSETTO:-0500
TZNAME:EST
DTSTART:20261101T060000
END:STANDARD
END:VTIMEZONE
BEGIN:VEVENT
DTSTART;TZID=America/New_York:20251007T180000
DTEND;TZID=America/New_York:20251007T180000
DTSTAMP:20260423T165731
CREATED:20250820T142117Z
LAST-MODIFIED:20250820T142117Z
UID:95554-1759860000-1759860000@thelaurelmagazine.com
SUMMARY:Under the Stars\, on the Rocks | Chef Sam Diminich at Skyline Lodge
DESCRIPTION:Enjoy a one-of-a-kind dining experience with our premier guest chef dinner series\, “Under the Stars\, On the Rocks”.  \nHosted at Skyline Lodge against the stunning Blue Ridge Mountains\, this event offers an al fresco steakhouse dining experience. Featuring collaborations with renowned chefs from around the country and Oak Steakhouse’s culinary team\, each four-course meal will be family-style and is unique and personalized to the guest chef. For $175 per person\, including beverage pairings\, plus tax and gratuity. \nChef Sam Diminich\, originally from Myrtle Beach\, SC\, comes from a deep culinary lineage and sharpened his craft at the Culinary Institute of America under the guidance of renowned Chef Georges Perrier. After immersing himself in the Charlotte culinary scene and learning from esteemed local chefs\, he gained recognition with a victorious appearance on Food Network’s “Beat Bobby Flay” and later launched successful ventures like “Your Farms Your Table” and Restaurant Constance\, earning him a 2025 James Beard Foundation Award semifinalist nod. Beyond the kitchen\, Sam is committed to supporting fellow food professionals through non-profit organization\, Ben’s Friends.
URL:https://thelaurelmagazine.com/local-event/under-the-stars-on-the-rocks-chef-sam-diminich-at-skyline-lodge
LOCATION:Oak Steakhouse at Skyline Lodge\, 470 Skyliine Lodge Road\, Highlands\, NC\, 28741\, United States
CATEGORIES:Dining
ATTACH;FMTTYPE=image/jpeg:https://thelaurelmagazine.com/wp-content/uploads/2025/06/highlands-nc-skyline-lodge-under-stars-on-the-rocks.jpg
END:VEVENT
BEGIN:VEVENT
DTSTART;TZID=America/New_York:20251008T170000
DTEND;TZID=America/New_York:20251008T210000
DTSTAMP:20260423T165731
CREATED:20250609T152245Z
LAST-MODIFIED:20251213T185446Z
UID:90506-1759942800-1759957200@thelaurelmagazine.com
SUMMARY:Supper Social Club at Hotel Cashiers
DESCRIPTION:Join in every Wednesday for a special prix-fixe dinner menu! \nEach week will offer a new concept created by Chef Kelly and will include a starter\, entree\, and desert as well as special pricing on wine selections curated by our very own sommelier\, Gabriel. \nAdvance tickets offer a discount but walk ins are welcome based on availability. Book in advance and save! Reservations are recommended.
URL:https://thelaurelmagazine.com/local-event/supper-social-club-at-hotel-cashiers/2025-10-08
LOCATION:Hotel Cashiers\, 7 Slab Town Road\, Cashiers\, NC\, 28717\, United States
CATEGORIES:Dining
ATTACH;FMTTYPE=image/jpeg:https://thelaurelmagazine.com/wp-content/uploads/2025/06/cashiers-nc-hotel-cashiers-sunday-supper-spread.jpg
END:VEVENT
BEGIN:VEVENT
DTSTART;TZID=America/New_York:20251009T163000
DTEND;TZID=America/New_York:20251009T183000
DTSTAMP:20260423T165731
CREATED:20251005T160334Z
LAST-MODIFIED:20251005T160334Z
UID:102498-1760027400-1760034600@thelaurelmagazine.com
SUMMARY:"Fall Favorites" Thirsty Thursday Tastings at Highlands Wine Shoppe
DESCRIPTION:Join us for a cozy Autumn evening of Sommelier-selected wines that capture the very best of the season. \nFrom fuller-bodied reds to intriguing whites and sparkling bubbles with beautiful depth\, this stroll around tasting is about wines that exude the perfect Fall vibe. Paired with a curated charcuterie spread\, it’s the ideal way to discover your new favorite wines for fireside evenings and festive seasonal gatherings.
URL:https://thelaurelmagazine.com/local-event/fall-favorites-thirsty-thursday-tastings-at-highlands-wine-shoppe
LOCATION:Highlands Wine Shoppe\, 269 Oak St\, Highlands\, 28741\, United States
CATEGORIES:Dining
ATTACH;FMTTYPE=image/jpeg:https://thelaurelmagazine.com/wp-content/uploads/2025/10/highlands-nc-highlands-wine-shoppe-exterior.jpg
END:VEVENT
BEGIN:VEVENT
DTSTART;TZID=America/New_York:20251009T173000
DTEND;TZID=America/New_York:20251009T173000
DTSTAMP:20260423T165731
CREATED:20251005T172856Z
LAST-MODIFIED:20251005T172856Z
UID:102602-1760031000-1760031000@thelaurelmagazine.com
SUMMARY:'Exploring the West Coast' Wine and Cheese Tasting at One Wicker Cheese Co
DESCRIPTION:Perfect for all cheese and wine enthusiasts!  \nJoin One Wicker Cheese Co. for an evening as they explore a selection of amazing cheeses paired with wines hand picked by our friends at MainVine. We’ll talk through the fun basics of tasting\, offer pairing tips\, sip wine and chat cheese.
URL:https://thelaurelmagazine.com/local-event/exploring-the-west-coast-wine-and-cheese-tasting-at-one-wicker-cheese-co
LOCATION:One Wicker Cheese Co.\, 539 Main St\, Highlands\, NC\, 28741\, United States
CATEGORIES:Dining
ATTACH;FMTTYPE=image/jpeg:https://thelaurelmagazine.com/wp-content/uploads/2025/10/highlands-nc-one-wicker-cheese-co-wine-cheese-tasting.jpg
END:VEVENT
BEGIN:VEVENT
DTSTART;TZID=America/New_York:20251010T180000
DTEND;TZID=America/New_York:20251010T180000
DTSTAMP:20260423T165731
CREATED:20251005T175822Z
LAST-MODIFIED:20251005T175822Z
UID:102614-1760119200-1760119200@thelaurelmagazine.com
SUMMARY:HFW | Foragers\, Farmers\, and Friends at High Country Wine & Provisions
DESCRIPTION:Kick off Highlands Food & Wine Festival week in style with an unforgettable evening at High Country Wine & Provisions.  \nAcclaimed Chef Johannes of The Library Kitchen + Bar brings his culinary mastery to a four-course dining experience\, paired with the award-winning wines of Cooper and Guy Davis from Davis Family Vineyards.
URL:https://thelaurelmagazine.com/local-event/hfw-foragers-farmers-and-friends-at-high-country-wine-provisions
LOCATION:High Country Wine & Provisions\, 621 Franklin Rd\, Highlands\, NC\, 28741\, United States
CATEGORIES:Community,Dining
ATTACH;FMTTYPE=image/jpeg:https://thelaurelmagazine.com/wp-content/uploads/2025/10/highlands-high-country-food-wine-forgers-farmers-friends.jpg
END:VEVENT
END:VCALENDAR