BEGIN:VCALENDAR
VERSION:2.0
PRODID:-//Laurel Magazine - ECPv6.15.16//NONSGML v1.0//EN
CALSCALE:GREGORIAN
METHOD:PUBLISH
X-ORIGINAL-URL:https://thelaurelmagazine.com
X-WR-CALDESC:Events for Laurel Magazine
REFRESH-INTERVAL;VALUE=DURATION:PT1H
X-Robots-Tag:noindex
X-PUBLISHED-TTL:PT1H
BEGIN:VTIMEZONE
TZID:America/New_York
BEGIN:DAYLIGHT
TZOFFSETFROM:-0500
TZOFFSETTO:-0400
TZNAME:EDT
DTSTART:20240310T070000
END:DAYLIGHT
BEGIN:STANDARD
TZOFFSETFROM:-0400
TZOFFSETTO:-0500
TZNAME:EST
DTSTART:20241103T060000
END:STANDARD
BEGIN:DAYLIGHT
TZOFFSETFROM:-0500
TZOFFSETTO:-0400
TZNAME:EDT
DTSTART:20250309T070000
END:DAYLIGHT
BEGIN:STANDARD
TZOFFSETFROM:-0400
TZOFFSETTO:-0500
TZNAME:EST
DTSTART:20251102T060000
END:STANDARD
BEGIN:DAYLIGHT
TZOFFSETFROM:-0500
TZOFFSETTO:-0400
TZNAME:EDT
DTSTART:20260308T070000
END:DAYLIGHT
BEGIN:STANDARD
TZOFFSETFROM:-0400
TZOFFSETTO:-0500
TZNAME:EST
DTSTART:20261101T060000
END:STANDARD
END:VTIMEZONE
BEGIN:VEVENT
DTSTART;TZID=America/New_York:20251205T090000
DTEND;TZID=America/New_York:20251205T200000
DTSTAMP:20260423T165805
CREATED:20251124T063711Z
LAST-MODIFIED:20251124T063711Z
UID:105843-1764925200-1764964800@thelaurelmagazine.com
SUMMARY:A Christmas Wine Bar Pop Up at Duck Hawk Provisions
DESCRIPTION:Fridays in December\, we’re opening the cellar and keeping the Nest pouring until 8:00 p.m. Expect featured champagnes\, cozy reds\, and bottle discounts you won’t see every day. Holiday snacks are on: spiced pecans\, bacon‑wrapped figs\, and a few surprises. \nSwing through when it suits you. Grab a glass\, share a toast\, stay a while. Good wine\, good company\, and a little December glow.
URL:https://thelaurelmagazine.com/local-event/a-christmas-wine-bar-pop-up-at-duck-hawk-provisions/2025-12-05
LOCATION:Duck Hawk Provisions\, 281 US 64\, Cashiers\, NC\, 28717\, United States
CATEGORIES:Dining,Shopping
ATTACH;FMTTYPE=image/jpeg:https://thelaurelmagazine.com/wp-content/uploads/2025/11/cashiers-nc-dining-duck-hawk-provisions-christmas-pop-up-bar.jpg
END:VEVENT
END:VCALENDAR