BEGIN:VCALENDAR
VERSION:2.0
PRODID:-//Laurel Magazine - ECPv6.15.16//NONSGML v1.0//EN
CALSCALE:GREGORIAN
METHOD:PUBLISH
X-ORIGINAL-URL:https://thelaurelmagazine.com
X-WR-CALDESC:Events for Laurel Magazine
REFRESH-INTERVAL;VALUE=DURATION:PT1H
X-Robots-Tag:noindex
X-PUBLISHED-TTL:PT1H
BEGIN:VTIMEZONE
TZID:America/New_York
BEGIN:DAYLIGHT
TZOFFSETFROM:-0500
TZOFFSETTO:-0400
TZNAME:EDT
DTSTART:20240310T070000
END:DAYLIGHT
BEGIN:STANDARD
TZOFFSETFROM:-0400
TZOFFSETTO:-0500
TZNAME:EST
DTSTART:20241103T060000
END:STANDARD
BEGIN:DAYLIGHT
TZOFFSETFROM:-0500
TZOFFSETTO:-0400
TZNAME:EDT
DTSTART:20250309T070000
END:DAYLIGHT
BEGIN:STANDARD
TZOFFSETFROM:-0400
TZOFFSETTO:-0500
TZNAME:EST
DTSTART:20251102T060000
END:STANDARD
BEGIN:DAYLIGHT
TZOFFSETFROM:-0500
TZOFFSETTO:-0400
TZNAME:EDT
DTSTART:20260308T070000
END:DAYLIGHT
BEGIN:STANDARD
TZOFFSETFROM:-0400
TZOFFSETTO:-0500
TZNAME:EST
DTSTART:20261101T060000
END:STANDARD
END:VTIMEZONE
BEGIN:VEVENT
DTSTART;TZID=America/New_York:20251211T173000
DTEND;TZID=America/New_York:20251211T173000
DTSTAMP:20260423T145404
CREATED:20251110T191916Z
LAST-MODIFIED:20251110T191916Z
UID:105110-1765474200-1765474200@thelaurelmagazine.com
SUMMARY:Holiday Hits: Festive Cheeses and Board Making Tips at One Wicker Cheese Co
DESCRIPTION:Perfect for all cheese and wine enthusiasts! \nJoin us for the evening as we explore a selection of amazing cheeses paired with fun festive wines. We’ll talk through the basics of tasting\, pairing and chat holiday board building tips!
URL:https://thelaurelmagazine.com/local-event/holiday-hits-festive-cheeses-and-board-making-tips-at-one-wicker-cheese-co
LOCATION:One Wicker Cheese Co.\, 539 Main St\, Highlands\, NC\, 28741\, United States
CATEGORIES:Community,Dining
ATTACH;FMTTYPE=image/jpeg:https://thelaurelmagazine.com/wp-content/uploads/2025/11/highlands-nc-one-wicker-cheese-holiday-cheese-board.jpg
END:VEVENT
BEGIN:VEVENT
DTSTART;TZID=America/New_York:20251212T090000
DTEND;TZID=America/New_York:20251212T200000
DTSTAMP:20260423T145404
CREATED:20251124T063711Z
LAST-MODIFIED:20251124T063711Z
UID:105846-1765530000-1765569600@thelaurelmagazine.com
SUMMARY:A Christmas Wine Bar Pop Up at Duck Hawk Provisions
DESCRIPTION:Fridays in December\, we’re opening the cellar and keeping the Nest pouring until 8:00 p.m. Expect featured champagnes\, cozy reds\, and bottle discounts you won’t see every day. Holiday snacks are on: spiced pecans\, bacon‑wrapped figs\, and a few surprises. \nSwing through when it suits you. Grab a glass\, share a toast\, stay a while. Good wine\, good company\, and a little December glow.
URL:https://thelaurelmagazine.com/local-event/a-christmas-wine-bar-pop-up-at-duck-hawk-provisions/2025-12-12
LOCATION:Duck Hawk Provisions\, 281 US 64\, Cashiers\, NC\, 28717\, United States
CATEGORIES:Dining,Shopping
ATTACH;FMTTYPE=image/jpeg:https://thelaurelmagazine.com/wp-content/uploads/2025/11/cashiers-nc-dining-duck-hawk-provisions-christmas-pop-up-bar.jpg
END:VEVENT
BEGIN:VEVENT
DTSTART;TZID=America/New_York:20251213T150000
DTEND;TZID=America/New_York:20251213T170000
DTSTAMP:20260423T145404
CREATED:20251112T170121Z
LAST-MODIFIED:20251112T170121Z
UID:105282-1765638000-1765645200@thelaurelmagazine.com
SUMMARY:High Tea at Highlander Mountain House
DESCRIPTION:Step into the season’s cozy magic with our traditional High Tea at Highlander Mountain House. Enjoy finger sandwiches\, warm scones\, and sweet treats paired with teas from Rosenthal’s and Highlands Spice & Tea (plus optional mulled wine). \nTickets are $80 + tax and available here.
URL:https://thelaurelmagazine.com/local-event/high-tea-at-highlander-mountain-house/2025-12-13
LOCATION:Highlander Mountain House\, 270 Main St\, Highlands\, NC\, 28741\, United States
CATEGORIES:Dining
ATTACH;FMTTYPE=image/jpeg:https://thelaurelmagazine.com/wp-content/uploads/2025/11/highlands-nc-highlander-mountain-house-high-tea.jpg
END:VEVENT
END:VCALENDAR