BEGIN:VCALENDAR
VERSION:2.0
PRODID:-//Laurel Magazine - ECPv6.15.16//NONSGML v1.0//EN
CALSCALE:GREGORIAN
METHOD:PUBLISH
X-WR-CALNAME:Laurel Magazine
X-ORIGINAL-URL:https://thelaurelmagazine.com
X-WR-CALDESC:Events for Laurel Magazine
REFRESH-INTERVAL;VALUE=DURATION:PT1H
X-Robots-Tag:noindex
X-PUBLISHED-TTL:PT1H
BEGIN:VTIMEZONE
TZID:America/New_York
BEGIN:DAYLIGHT
TZOFFSETFROM:-0500
TZOFFSETTO:-0400
TZNAME:EDT
DTSTART:20240310T070000
END:DAYLIGHT
BEGIN:STANDARD
TZOFFSETFROM:-0400
TZOFFSETTO:-0500
TZNAME:EST
DTSTART:20241103T060000
END:STANDARD
BEGIN:DAYLIGHT
TZOFFSETFROM:-0500
TZOFFSETTO:-0400
TZNAME:EDT
DTSTART:20250309T070000
END:DAYLIGHT
BEGIN:STANDARD
TZOFFSETFROM:-0400
TZOFFSETTO:-0500
TZNAME:EST
DTSTART:20251102T060000
END:STANDARD
BEGIN:DAYLIGHT
TZOFFSETFROM:-0500
TZOFFSETTO:-0400
TZNAME:EDT
DTSTART:20260308T070000
END:DAYLIGHT
BEGIN:STANDARD
TZOFFSETFROM:-0400
TZOFFSETTO:-0500
TZNAME:EST
DTSTART:20261101T060000
END:STANDARD
END:VTIMEZONE
BEGIN:VEVENT
DTSTART;TZID=America/New_York:20251221T140000
DTEND;TZID=America/New_York:20251221T140000
DTSTAMP:20260423T172904
CREATED:20251215T181703Z
LAST-MODIFIED:20251215T181703Z
UID:107422-1766325600-1766325600@thelaurelmagazine.com
SUMMARY:Appalachian Holiday Tea at Highlands Supper Club
DESCRIPTION:Celebrate the season with an afternoon of cheer and experience our new tradition at our Holiday Tea!   Gather your friends  to enjoy an Appalachian take on the Afternoon tea. We’ll provide the tea\, and a tower of pimento cheese and smoked trout tea sandwiches\, our favorite biscuits and jams\, and sweets and treats\, and of course have wine and great cocktails to add on.
URL:https://thelaurelmagazine.com/local-event/appalachian-holiday-tea-at-highlands-supper-club/2025-12-21
LOCATION:Highlands Supper Club\, 130 Log Cabin Ln\, Highlands\, NC\, 28741\, United States
CATEGORIES:Dining
ATTACH;FMTTYPE=image/jpeg:https://thelaurelmagazine.com/wp-content/uploads/2025/12/highlands-nc-highlands-supper-club-appalachain-holiday-tea.jpg
END:VEVENT
BEGIN:VEVENT
DTSTART;TZID=America/New_York:20251226T090000
DTEND;TZID=America/New_York:20251226T200000
DTSTAMP:20260423T172904
CREATED:20251124T063711Z
LAST-MODIFIED:20251124T063711Z
UID:105848-1766739600-1766779200@thelaurelmagazine.com
SUMMARY:A Christmas Wine Bar Pop Up at Duck Hawk Provisions
DESCRIPTION:Fridays in December\, we’re opening the cellar and keeping the Nest pouring until 8:00 p.m. Expect featured champagnes\, cozy reds\, and bottle discounts you won’t see every day. Holiday snacks are on: spiced pecans\, bacon‑wrapped figs\, and a few surprises. \nSwing through when it suits you. Grab a glass\, share a toast\, stay a while. Good wine\, good company\, and a little December glow.
URL:https://thelaurelmagazine.com/local-event/a-christmas-wine-bar-pop-up-at-duck-hawk-provisions/2025-12-26
LOCATION:Duck Hawk Provisions\, 281 US 64\, Cashiers\, NC\, 28717\, United States
CATEGORIES:Dining,Shopping
ATTACH;FMTTYPE=image/jpeg:https://thelaurelmagazine.com/wp-content/uploads/2025/11/cashiers-nc-dining-duck-hawk-provisions-christmas-pop-up-bar.jpg
END:VEVENT
END:VCALENDAR