BEGIN:VCALENDAR
VERSION:2.0
PRODID:-//Laurel Magazine - ECPv6.15.16//NONSGML v1.0//EN
CALSCALE:GREGORIAN
METHOD:PUBLISH
X-WR-CALNAME:Laurel Magazine
X-ORIGINAL-URL:https://thelaurelmagazine.com
X-WR-CALDESC:Events for Laurel Magazine
REFRESH-INTERVAL;VALUE=DURATION:PT1H
X-Robots-Tag:noindex
X-PUBLISHED-TTL:PT1H
BEGIN:VTIMEZONE
TZID:America/New_York
BEGIN:DAYLIGHT
TZOFFSETFROM:-0500
TZOFFSETTO:-0400
TZNAME:EDT
DTSTART:20250309T070000
END:DAYLIGHT
BEGIN:STANDARD
TZOFFSETFROM:-0400
TZOFFSETTO:-0500
TZNAME:EST
DTSTART:20251102T060000
END:STANDARD
BEGIN:DAYLIGHT
TZOFFSETFROM:-0500
TZOFFSETTO:-0400
TZNAME:EDT
DTSTART:20260308T070000
END:DAYLIGHT
BEGIN:STANDARD
TZOFFSETFROM:-0400
TZOFFSETTO:-0500
TZNAME:EST
DTSTART:20261101T060000
END:STANDARD
BEGIN:DAYLIGHT
TZOFFSETFROM:-0500
TZOFFSETTO:-0400
TZNAME:EDT
DTSTART:20270314T070000
END:DAYLIGHT
BEGIN:STANDARD
TZOFFSETFROM:-0400
TZOFFSETTO:-0500
TZNAME:EST
DTSTART:20271107T060000
END:STANDARD
END:VTIMEZONE
BEGIN:VEVENT
DTSTART;TZID=America/New_York:20260215T180000
DTEND;TZID=America/New_York:20260215T180000
DTSTAMP:20260423T140700
CREATED:20260120T152059Z
LAST-MODIFIED:20260122T172624Z
UID:111204-1771178400-1771178400@thelaurelmagazine.com
SUMMARY:Slow Season Supper Club | Chef Santi of Ilda at Flat Mountain Farm
DESCRIPTION:Chef Santiago “Santi” Guzzetti\, the visionary behind Sylva’s acclaimed restaurant Ilda\, brings a world-class culinary perspective rooted in his Italian-Argentinian heritage and refined through years of experience in Argentina\, Spain\, and New York City before settling in Western North Carolina. At Ilda\, he and his wife Crystal Pace craft a seasonal Italian-Appalachian menu that celebrates local farmers and handmade techniques with heart and precision. \nFor Slow Season Supper Club\, Chef Santi will be preparing hand-rolled pasta as part of a thoughtfully composed four-course\, family-style supper club where food\, beverages\, and a memorable experience are included. \nExpertly paired wines are included in the ticket price and will be thoughtfully curated by Caleb Irby\, our Head of Hospitality and Beverage Director of Atlanta wine bar\, Larakin.
URL:https://thelaurelmagazine.com/local-event/slow-season-supper-club-chef-santi-of-ilda-at-flat-mountain-farm
LOCATION:Flat Mountain Farm\, 1359 Flat Mountain Road\, Highlands\, 28741\, United States
CATEGORIES:Dining
ATTACH;FMTTYPE=image/jpeg:https://thelaurelmagazine.com/wp-content/uploads/2026/01/highlands-nc-dining-flat-mountain-farm-slow-season-supper-club-chef-santi.jpg
END:VEVENT
BEGIN:VEVENT
DTSTART;TZID=America/New_York:20260218T170000
DTEND;TZID=America/New_York:20260218T170000
DTSTAMP:20260423T140700
CREATED:20251209T190005Z
LAST-MODIFIED:20251209T190005Z
UID:107043-1771434000-1771434000@thelaurelmagazine.com
SUMMARY:Dips & Sips Party  | A Wine Club Event at Duck Hawk Provisions
DESCRIPTION:Become a member of the Duck Hawk Provisions Wine Club and unlock exclusive monthly pairing parties crafted just for you. \n\n\n\nDips & Sips Party  \n\n\n\nJoin us for a casual pairing of our favorite dips and wines. \n\n\n\n20 guests per event – Always at 5:00pm – Always a good time \n\n\n\n 
URL:https://thelaurelmagazine.com/local-event/dips-sips-party-a-wine-club-event-at-duck-hawk-provisions
LOCATION:Duck Hawk Provisions\, 281 US 64\, Cashiers\, NC\, 28717\, United States
CATEGORIES:Dining
ATTACH;FMTTYPE=image/jpeg:https://thelaurelmagazine.com/wp-content/uploads/2025/12/cashiers-nc-dining-duck-hawk-provisions-firepit.jpg
END:VEVENT
BEGIN:VEVENT
DTSTART;TZID=America/New_York:20260220T180000
DTEND;TZID=America/New_York:20260220T180000
DTSTAMP:20260423T140700
CREATED:20260218T151529Z
LAST-MODIFIED:20260218T151529Z
UID:114840-1771610400-1771610400@thelaurelmagazine.com
SUMMARY:Celebrate National Boiled Peanut Day at Western Carolina Brew and Wine
DESCRIPTION:The ultimate Southern pairing — a cold beer and hot boiled peanuts. \nSwing by Western Carolina Brew & Wine for a pint\, a cup of salty goodness\, and a little porch‑sittin’\, beer‑sippin’ fun. Fair warning: laughter\, salty fingers\, and staying longer than planned are all part of the charm. \nOpen Thursday 4-8\, Friday- Saturday 12-8\, Sunday 1-6
URL:https://thelaurelmagazine.com/local-event/celebrate-national-boiled-peanut-day-at-western-carolina-brew-and-wine
LOCATION:Western Carolina Brew and Wine\, 454 Carolina Way\, Highlands\, NC\, 28741\, United States
CATEGORIES:Dining
ATTACH;FMTTYPE=image/jpeg:https://thelaurelmagazine.com/wp-content/uploads/2026/02/highlands-nc-dining-western-carolina-brew-wine-peanut-day.jpg
END:VEVENT
END:VCALENDAR