BEGIN:VCALENDAR
VERSION:2.0
PRODID:-//Laurel Magazine - ECPv6.15.16//NONSGML v1.0//EN
CALSCALE:GREGORIAN
METHOD:PUBLISH
X-ORIGINAL-URL:https://thelaurelmagazine.com
X-WR-CALDESC:Events for Laurel Magazine
REFRESH-INTERVAL;VALUE=DURATION:PT1H
X-Robots-Tag:noindex
X-PUBLISHED-TTL:PT1H
BEGIN:VTIMEZONE
TZID:America/New_York
BEGIN:DAYLIGHT
TZOFFSETFROM:-0500
TZOFFSETTO:-0400
TZNAME:EDT
DTSTART:20250309T070000
END:DAYLIGHT
BEGIN:STANDARD
TZOFFSETFROM:-0400
TZOFFSETTO:-0500
TZNAME:EST
DTSTART:20251102T060000
END:STANDARD
BEGIN:DAYLIGHT
TZOFFSETFROM:-0500
TZOFFSETTO:-0400
TZNAME:EDT
DTSTART:20260308T070000
END:DAYLIGHT
BEGIN:STANDARD
TZOFFSETFROM:-0400
TZOFFSETTO:-0500
TZNAME:EST
DTSTART:20261101T060000
END:STANDARD
BEGIN:DAYLIGHT
TZOFFSETFROM:-0500
TZOFFSETTO:-0400
TZNAME:EDT
DTSTART:20270314T070000
END:DAYLIGHT
BEGIN:STANDARD
TZOFFSETFROM:-0400
TZOFFSETTO:-0500
TZNAME:EST
DTSTART:20271107T060000
END:STANDARD
END:VTIMEZONE
BEGIN:VEVENT
DTSTART;TZID=America/New_York:20260517T180000
DTEND;TZID=America/New_York:20260517T220000
DTSTAMP:20260422T225443
CREATED:20260406T191130Z
LAST-MODIFIED:20260406T191130Z
UID:116795-1779040800-1779055200@thelaurelmagazine.com
SUMMARY:Chef's Circle | Celebrating the Flavors of Highlands at The Farm at Old Edwards
DESCRIPTION:Snag your seats for the Chef’s Circle Dinner at The Farm at Old Edwards on May 17 from 6-10 pm. It’ll be an unforgettable evening where the culinary heart of The Plateau comes alive. For one extraordinary night\, Highlands’ most celebrated chefs step out of their kitchens and into a shared space\, crafting a collaborative dining experience that blends creativity\, flavor\, and community in every course. \nEnjoy an elegant evening at The Farm at Old Edwards in Highlands featuring a collaborative culinary experience with acclaimed local favorites Edelweiss Highlands\, Paoletti’s\, The Stubborn Bull and The Stubborn Buddha\, Highlands Smokehouse\, Blue Hound Barbecue & Blue Bike Cafe\, Lakeside Restaurant\, Four65 Woodfire Bistro + Bar\, and Executive Chef Chris Huerta of Madison’s Restaurant\, along with other celebrated culinary talents.
URL:https://thelaurelmagazine.com/local-event/chefs-circle-celebrating-the-flavors-of-highlands-at-the-farm-at-old-edwards
LOCATION:The Farm at Old Edwards\, 336 Arnold Road\, Highlands\, NC\, 28741\, United States
CATEGORIES:Dining
ATTACH;FMTTYPE=image/jpeg:https://thelaurelmagazine.com/wp-content/uploads/2026/04/highlands-nc-dining-the-farm-old-edwards-chef-circle-celebrate-highlands.jpg
END:VEVENT
BEGIN:VEVENT
DTSTART;TZID=America/New_York:20260520T170000
DTEND;TZID=America/New_York:20260520T170000
DTSTAMP:20260422T225443
CREATED:20251209T191632Z
LAST-MODIFIED:20251209T192334Z
UID:107060-1779296400-1779296400@thelaurelmagazine.com
SUMMARY:Chicharrones & Cava | A Wine Club Event at Duck Hawk Provisions
DESCRIPTION:Become a member of the Duck Hawk Provisions Wine Club and unlock exclusive monthly pairing parties crafted just for you. \n\n\n\nChicharrones & Cava  \n\n\n\nJoin us for a unique pairing of pork rinds and bubbles \n20 guests per event – Always at 5:00 P.M. – Always a good time
URL:https://thelaurelmagazine.com/local-event/chicharrones-cava-a-wine-club-event-at-duck-hawk-provisions
LOCATION:Duck Hawk Provisions\, 281 US 64\, Cashiers\, NC\, 28717\, United States
CATEGORIES:Dining
ATTACH;FMTTYPE=image/jpeg:https://thelaurelmagazine.com/wp-content/uploads/2025/12/cashiers-nc-dining-duck-hawk-provisions-firepit.jpg
END:VEVENT
END:VCALENDAR