BEGIN:VCALENDAR
VERSION:2.0
PRODID:-//Laurel Magazine - ECPv6.15.16//NONSGML v1.0//EN
CALSCALE:GREGORIAN
METHOD:PUBLISH
X-WR-CALNAME:Laurel Magazine
X-ORIGINAL-URL:https://thelaurelmagazine.com
X-WR-CALDESC:Events for Laurel Magazine
REFRESH-INTERVAL;VALUE=DURATION:PT1H
X-Robots-Tag:noindex
X-PUBLISHED-TTL:PT1H
BEGIN:VTIMEZONE
TZID:America/New_York
BEGIN:DAYLIGHT
TZOFFSETFROM:-0500
TZOFFSETTO:-0400
TZNAME:EDT
DTSTART:20250309T070000
END:DAYLIGHT
BEGIN:STANDARD
TZOFFSETFROM:-0400
TZOFFSETTO:-0500
TZNAME:EST
DTSTART:20251102T060000
END:STANDARD
BEGIN:DAYLIGHT
TZOFFSETFROM:-0500
TZOFFSETTO:-0400
TZNAME:EDT
DTSTART:20260308T070000
END:DAYLIGHT
BEGIN:STANDARD
TZOFFSETFROM:-0400
TZOFFSETTO:-0500
TZNAME:EST
DTSTART:20261101T060000
END:STANDARD
BEGIN:DAYLIGHT
TZOFFSETFROM:-0500
TZOFFSETTO:-0400
TZNAME:EDT
DTSTART:20270314T070000
END:DAYLIGHT
BEGIN:STANDARD
TZOFFSETFROM:-0400
TZOFFSETTO:-0500
TZNAME:EST
DTSTART:20271107T060000
END:STANDARD
END:VTIMEZONE
BEGIN:VEVENT
DTSTART;TZID=America/New_York:20260609T180000
DTEND;TZID=America/New_York:20260609T180000
DTSTAMP:20260423T060300
CREATED:20260409T161414Z
LAST-MODIFIED:20260409T161414Z
UID:116972-1781028000-1781028000@thelaurelmagazine.com
SUMMARY:Under the Stars\, On the Rocks | Guest Chef Rob McDaniel at Skyline Lodge
DESCRIPTION:Enjoy a one-of-a-kind dining experience with our premier guest chef dinner series\, “Under the Stars\, On the Rocks”. \nHosted at Skyline Lodge against the stunning Blue Ridge Mountains\, this event offers an al fresco steakhouse dining experience. Featuring collaborations with renowned chefs from around the country and Oak Steakhouse’s culinary team\, each four-course meal will be family-style and is unique and personalized to the guest chef. \nChef Rob McDaniel is the Executive Chef and Owner of Helen and Bayonet in Birmingham\, Alabama\, where he showcases a thoughtful approach to contemporary Southern cuisine. Inspired by the traditional foods of his upbringing\, McDaniel has built a career centered on honoring regional ingredients\, foraging\, and sustainable practices\, developing a style that balances rustic roots with polished execution. A six-time James Beard Award semifinalist for Best Chef: South\, has earned national recognition for Helen\, which has been featured in publications including Esquire\, Food & Wine\, and Southern Living. With seafood-forward restaurant Bayonet\, which gained national acclaim after its opening with recognition from The New York Times’ prestigious list of America’s Best Restaurants of 2025\, Southern Living\, and more\, his seafood-forward concept\, he continues to explore the bounty of the Gulf and beyond. His cooking reflects a reverence for the land and sea\, and guests can anticipate a menu that is both deeply Southern and thoughtfully refined. \nFor $175 per person\, including beverage pairings\, plus tax and gratuity.
URL:https://thelaurelmagazine.com/local-event/under-the-stars-on-the-rocks-guest-chef-rob-mcdaniel-at-skyline-lodge
LOCATION:Skyline Lodge\, 470 Skyline Lodge Rd\, Highlands\, NC\, 28741\, United States
CATEGORIES:Dining
ATTACH;FMTTYPE=image/jpeg:https://thelaurelmagazine.com/wp-content/uploads/2026/04/highlands-nc-dining-skyline-lodge-under-stars-on-rock-chef-dinner.jpg
END:VEVENT
BEGIN:VEVENT
DTSTART;TZID=America/New_York:20260611T170000
DTEND;TZID=America/New_York:20260611T170000
DTSTAMP:20260423T060300
CREATED:20260325T133714Z
LAST-MODIFIED:20260325T133714Z
UID:116234-1781197200-1781197200@thelaurelmagazine.com
SUMMARY:Wine Tasting at Historic Toxaway Market
DESCRIPTION:Join in at Historic Toxaway Market for our signature wine tastings\, held every 2nd and 4th Thursday at 5pm.  \nSample six distinctive wines for just $25 and enjoy a relaxed\, welcoming evening of discovery\, conversation\, and great pours. It’s the perfect mid‑month and month‑end treat.
URL:https://thelaurelmagazine.com/local-event/wine-tasting-at-historic-toxaway-market/2026-06-11
LOCATION:Historic Toxaway Market\, 15889 Rosman Hwy\, Lake Toxaway\, NC\, 28747\, United States
CATEGORIES:Dining
ATTACH;FMTTYPE=image/jpeg:https://thelaurelmagazine.com/wp-content/uploads/2026/03/lake-toxaway-nc-historic-toxaway-market-wine-tastings.jpg
END:VEVENT
END:VCALENDAR