BEGIN:VCALENDAR
VERSION:2.0
PRODID:-//Laurel Magazine - ECPv6.15.16//NONSGML v1.0//EN
CALSCALE:GREGORIAN
METHOD:PUBLISH
X-WR-CALNAME:Laurel Magazine
X-ORIGINAL-URL:https://thelaurelmagazine.com
X-WR-CALDESC:Events for Laurel Magazine
REFRESH-INTERVAL;VALUE=DURATION:PT1H
X-Robots-Tag:noindex
X-PUBLISHED-TTL:PT1H
BEGIN:VTIMEZONE
TZID:America/New_York
BEGIN:DAYLIGHT
TZOFFSETFROM:-0500
TZOFFSETTO:-0400
TZNAME:EDT
DTSTART:20250309T070000
END:DAYLIGHT
BEGIN:STANDARD
TZOFFSETFROM:-0400
TZOFFSETTO:-0500
TZNAME:EST
DTSTART:20251102T060000
END:STANDARD
BEGIN:DAYLIGHT
TZOFFSETFROM:-0500
TZOFFSETTO:-0400
TZNAME:EDT
DTSTART:20260308T070000
END:DAYLIGHT
BEGIN:STANDARD
TZOFFSETFROM:-0400
TZOFFSETTO:-0500
TZNAME:EST
DTSTART:20261101T060000
END:STANDARD
BEGIN:DAYLIGHT
TZOFFSETFROM:-0500
TZOFFSETTO:-0400
TZNAME:EDT
DTSTART:20270314T070000
END:DAYLIGHT
BEGIN:STANDARD
TZOFFSETFROM:-0400
TZOFFSETTO:-0500
TZNAME:EST
DTSTART:20271107T060000
END:STANDARD
END:VTIMEZONE
BEGIN:VEVENT
DTSTART;TZID=America/New_York:20260707T180000
DTEND;TZID=America/New_York:20260707T180000
DTSTAMP:20260423T060302
CREATED:20260409T161747Z
LAST-MODIFIED:20260409T161747Z
UID:116974-1783447200-1783447200@thelaurelmagazine.com
SUMMARY:Under the Stars\, On the Rocks | Celebrating 5 Years of Skyline at Skyline Lodge
DESCRIPTION:Enjoy a one-of-a-kind dining experience with our premier guest chef dinner series\, “Under the Stars\, On the Rocks”. \nHosted at Skyline Lodge against the stunning Blue Ridge Mountains\, this event offers an al fresco steakhouse dining experience. Featuring collaborations with renowned chefs from around the country and Oak Steakhouse’s culinary team\, each four-course meal will be family-style and is unique and personalized to the guest chef. \nIn celebration of five years of Skyline\, chefs Markie McCullough\, Matt Weinstein\, Ashley Cannon\, Graham House\, and Josh Keeler of the Indigo Road Hospitality Group come together for a collaborative evening rooted in the spirit of gathering. Known for their restaurants across the Southeast that balance thoughtful techniques with genuine hospitality\, the Indigo Road family has built its reputation on seasonal ingredients\, welcoming spaces\, and serving with love. For this anniversary dinner\, these five chefs will cook side by side\, blending their individual styles into a celebratory menu. It’s an evening designed to honor the relationships\, memories\, and community that have defined Skyline over the past five years\, a true toast to the table\, under the stars. \nFor $175 per person\, including beverage pairings\, plus tax and gratuity.
URL:https://thelaurelmagazine.com/local-event/under-the-stars-on-the-rocks-celebrating-5-years-of-skyline-at-skyline-lodge
LOCATION:Skyline Lodge\, 470 Skyline Lodge Rd\, Highlands\, NC\, 28741\, United States
CATEGORIES:Dining
ATTACH;FMTTYPE=image/jpeg:https://thelaurelmagazine.com/wp-content/uploads/2025/06/highlands-nc-skyline-lodge-under-stars-on-the-rocks.jpg
END:VEVENT
BEGIN:VEVENT
DTSTART;TZID=America/New_York:20260709T170000
DTEND;TZID=America/New_York:20260709T170000
DTSTAMP:20260423T060302
CREATED:20260325T133714Z
LAST-MODIFIED:20260325T133714Z
UID:116236-1783616400-1783616400@thelaurelmagazine.com
SUMMARY:Wine Tasting at Historic Toxaway Market
DESCRIPTION:Join in at Historic Toxaway Market for our signature wine tastings\, held every 2nd and 4th Thursday at 5pm.  \nSample six distinctive wines for just $25 and enjoy a relaxed\, welcoming evening of discovery\, conversation\, and great pours. It’s the perfect mid‑month and month‑end treat.
URL:https://thelaurelmagazine.com/local-event/wine-tasting-at-historic-toxaway-market/2026-07-09
LOCATION:Historic Toxaway Market\, 15889 Rosman Hwy\, Lake Toxaway\, NC\, 28747\, United States
CATEGORIES:Dining
ATTACH;FMTTYPE=image/jpeg:https://thelaurelmagazine.com/wp-content/uploads/2026/03/lake-toxaway-nc-historic-toxaway-market-wine-tastings.jpg
END:VEVENT
END:VCALENDAR