BEGIN:VCALENDAR
VERSION:2.0
PRODID:-//Laurel Magazine - ECPv6.15.16//NONSGML v1.0//EN
CALSCALE:GREGORIAN
METHOD:PUBLISH
X-ORIGINAL-URL:https://thelaurelmagazine.com
X-WR-CALDESC:Events for Laurel Magazine
REFRESH-INTERVAL;VALUE=DURATION:PT1H
X-Robots-Tag:noindex
X-PUBLISHED-TTL:PT1H
BEGIN:VTIMEZONE
TZID:America/New_York
BEGIN:DAYLIGHT
TZOFFSETFROM:-0500
TZOFFSETTO:-0400
TZNAME:EDT
DTSTART:20250309T070000
END:DAYLIGHT
BEGIN:STANDARD
TZOFFSETFROM:-0400
TZOFFSETTO:-0500
TZNAME:EST
DTSTART:20251102T060000
END:STANDARD
BEGIN:DAYLIGHT
TZOFFSETFROM:-0500
TZOFFSETTO:-0400
TZNAME:EDT
DTSTART:20260308T070000
END:DAYLIGHT
BEGIN:STANDARD
TZOFFSETFROM:-0400
TZOFFSETTO:-0500
TZNAME:EST
DTSTART:20261101T060000
END:STANDARD
BEGIN:DAYLIGHT
TZOFFSETFROM:-0500
TZOFFSETTO:-0400
TZNAME:EDT
DTSTART:20270314T070000
END:DAYLIGHT
BEGIN:STANDARD
TZOFFSETFROM:-0400
TZOFFSETTO:-0500
TZNAME:EST
DTSTART:20271107T060000
END:STANDARD
END:VTIMEZONE
BEGIN:VEVENT
DTSTART;TZID=America/New_York:20260501T093000
DTEND;TZID=America/New_York:20260501T153000
DTSTAMP:20260420T030122
CREATED:20260416T161606Z
LAST-MODIFIED:20260416T161606Z
UID:117166-1777627800-1777649400@thelaurelmagazine.com
SUMMARY:Mindful Birding Workshop at Highlands Biological Station
DESCRIPTION:Mindful Birding with Instructor Topher Stephens \nMindful Birding is a practice of heightening our awareness and opening our senses—and our hearts—to the beauty of the natural world. Unlike traditional bird walks where identifying and listing species is the primary goal\, this workshop invites participants to slow down and experience birds in a more attentive and reflective way. \nThroughout the day\, we will move slowly through the landscape\, allowing ourselves the rare opportunity to observe individual birds with patience and curiosity. While we will certainly help participants spot birds and notice some of their distinctive characteristics\, our focus will be on presence\, observation\, and connection rather than checklists. \nUsing birds as our guides\, participants will explore ways to deepen their relationship with the living landscape while also becoming more aware of their own internal experiences of awe\, joy\, and wonder in nature. Through quiet observation\, guided reflection\, and gentle discussion\, this workshop creates space to engage with birds—and the environment around us—in a more mindful and meaningful way. \nMindful Birding is designed to be welcoming and accessible to everyone. No experience with birding or mindfulness practices is necessary. In fact\, we will all be cultivating a “beginner’s mind\,” approaching the natural world with openness\, curiosity\, and fresh attention. \nThis workshop offers a unique opportunity to slow down\, tune in\, and rediscover the simple yet profound experience of being present in nature. \nPlease Bring \n• Binoculars if you have them (loaner pairs will be available if needed)\n• A lightweight Crazy Creek–style camp chair or small foam pad for sitting\n• Weather-appropriate layers and comfortable outdoor footwear
URL:https://thelaurelmagazine.com/local-event/mindful-birding-workshop-at-highlands-biological-station
LOCATION:Highlands Biological Station\, 265 N 6th St\, Highlands\, NC\, 28741\, United States
CATEGORIES:Education
ATTACH;FMTTYPE=image/jpeg:https://thelaurelmagazine.com/wp-content/uploads/2026/04/highlands-nc-biological-station-mindful-birding-workshop.jpg
END:VEVENT
BEGIN:VEVENT
DTSTART;TZID=America/New_York:20260505T180000
DTEND;TZID=America/New_York:20260505T190000
DTSTAMP:20260420T030122
CREATED:20250611T174026Z
LAST-MODIFIED:20260204T151113Z
UID:103613-1778004000-1778007600@thelaurelmagazine.com
SUMMARY:Free ESL Classes at The Literacy and Learning Center
DESCRIPTION:Join us for free ESL classes at The Literacy & Learning Center!  \nTuesdays\n6 – 7 pm \nAt The Literacy & Learning Center
URL:https://thelaurelmagazine.com/local-event/free-esl-online-classes-with-the-literacy-and-learning-center/2026-05-05
LOCATION:The Literacy & Learning Center\, 675 S 4th Street\, Highlands\, NC\, 28741\, United States
CATEGORIES:Education
ATTACH;FMTTYPE=image/jpeg:https://thelaurelmagazine.com/wp-content/uploads/2025/06/highlands-nc-community-education-literacy-learning-center-logo.jpg
END:VEVENT
BEGIN:VEVENT
DTSTART;TZID=America/New_York:20260506T173000
DTEND;TZID=America/New_York:20260506T190000
DTSTAMP:20260420T030122
CREATED:20260317T143023Z
LAST-MODIFIED:20260317T143023Z
UID:116119-1778088600-1778094000@thelaurelmagazine.com
SUMMARY:Citizenship Class with Faviola Olvera at The Literacy & Learning Center
DESCRIPTION:Ready to take the next step toward U.S. citizenship? 🇺🇸 The Literacy & Learning Center is here to support your journey with our FREE weekly Citizenship Class!\n \nLed by Faviola Olvera\, this program is designed to help you navigate the naturalization exam with total confidence. \nWhat We Cover:\n \nEnglish Test Prep: Practice the speaking\, reading\, and writing skills needed for the exam.\nReading & Writing Proficiency: Get structured practice for the specific sentences you’ll need to read and write during the official test.\nCivics Test: We cover all 100 possible questions on U.S. history and government\, including the principles of democracy and the system of government. \nWednesdays 5:30-7 PM
URL:https://thelaurelmagazine.com/local-event/citizenship-class-with-faviola-olvera-at-the-literacy-learning-center/2026-05-06
LOCATION:The Literacy & Learning Center\, 675 S 4th Street\, Highlands\, NC\, 28741\, United States
CATEGORIES:Community,Education
ATTACH;FMTTYPE=image/jpeg:https://thelaurelmagazine.com/wp-content/uploads/2026/03/highlands-nc-education-literacy-learning-center-citizenship-class.jpg
END:VEVENT
BEGIN:VEVENT
DTSTART;TZID=America/New_York:20260512T180000
DTEND;TZID=America/New_York:20260512T190000
DTSTAMP:20260420T030122
CREATED:20250611T174026Z
LAST-MODIFIED:20260204T151119Z
UID:103614-1778608800-1778612400@thelaurelmagazine.com
SUMMARY:Free ESL Classes at The Literacy and Learning Center
DESCRIPTION:Join us for free ESL classes at The Literacy & Learning Center!  \nTuesdays\n6 – 7 pm \nAt The Literacy & Learning Center
URL:https://thelaurelmagazine.com/local-event/free-esl-online-classes-with-the-literacy-and-learning-center/2026-05-12
LOCATION:The Literacy & Learning Center\, 675 S 4th Street\, Highlands\, NC\, 28741\, United States
CATEGORIES:Education
ATTACH;FMTTYPE=image/jpeg:https://thelaurelmagazine.com/wp-content/uploads/2025/06/highlands-nc-community-education-literacy-learning-center-logo.jpg
END:VEVENT
BEGIN:VEVENT
DTSTART;TZID=America/New_York:20260513T130000
DTEND;TZID=America/New_York:20260513T150000
DTSTAMP:20260420T030122
CREATED:20230221T173551Z
LAST-MODIFIED:20260113T175009Z
UID:69531-1778677200-1778684400@thelaurelmagazine.com
SUMMARY:Tech Time at Hudson Library
DESCRIPTION:Have you ever received the gift of a new digital device\, like an iPad\, smartphone or laptop\, but had no idea how to use it? Hudson Library has the perfect solution- \nTech Time sessions offer one-on-one help on any personal digital device. Tech Time is a chance for residents of all ages to bring their devices and ask any questions. Learn how to set up an email account\, mute your cell phone\, back up and store files\, and more. \nTech Times are free. No library card is required and no appointment is necessary. Services are offered on a first-come\, first-served basis. \n 
URL:https://thelaurelmagazine.com/local-event/tech-time-at-hudson-library/2026-05-13
LOCATION:Hudson Library\, 554 Main St\, Highlands\, NC\, 28741\, United States
CATEGORIES:Education
ATTACH;FMTTYPE=image/jpeg:https://thelaurelmagazine.com/wp-content/uploads/2023/02/highlands-nc-hudson-library-tech-time.jpg
END:VEVENT
BEGIN:VEVENT
DTSTART;TZID=America/New_York:20260513T173000
DTEND;TZID=America/New_York:20260513T190000
DTSTAMP:20260420T030122
CREATED:20260317T143023Z
LAST-MODIFIED:20260317T143023Z
UID:116120-1778693400-1778698800@thelaurelmagazine.com
SUMMARY:Citizenship Class with Faviola Olvera at The Literacy & Learning Center
DESCRIPTION:Ready to take the next step toward U.S. citizenship? 🇺🇸 The Literacy & Learning Center is here to support your journey with our FREE weekly Citizenship Class!\n \nLed by Faviola Olvera\, this program is designed to help you navigate the naturalization exam with total confidence. \nWhat We Cover:\n \nEnglish Test Prep: Practice the speaking\, reading\, and writing skills needed for the exam.\nReading & Writing Proficiency: Get structured practice for the specific sentences you’ll need to read and write during the official test.\nCivics Test: We cover all 100 possible questions on U.S. history and government\, including the principles of democracy and the system of government. \nWednesdays 5:30-7 PM
URL:https://thelaurelmagazine.com/local-event/citizenship-class-with-faviola-olvera-at-the-literacy-learning-center/2026-05-13
LOCATION:The Literacy & Learning Center\, 675 S 4th Street\, Highlands\, NC\, 28741\, United States
CATEGORIES:Community,Education
ATTACH;FMTTYPE=image/jpeg:https://thelaurelmagazine.com/wp-content/uploads/2026/03/highlands-nc-education-literacy-learning-center-citizenship-class.jpg
END:VEVENT
BEGIN:VEVENT
DTSTART;TZID=America/New_York:20260519T173000
DTEND;TZID=America/New_York:20260519T173000
DTSTAMP:20260420T030122
CREATED:20260417T181027Z
LAST-MODIFIED:20260417T181027Z
UID:117296-1779211800-1779211800@thelaurelmagazine.com
SUMMARY:Village Nature Series | Embracing the Dark at The Village Green
DESCRIPTION:Embracing the Dark- Light Pollution\, Health and the Environment with Stephan Martin \nFor more than a century\, artificial lighting has transformed our nights—brightening our homes\, streets\, and cities. But only recently have scientists begun to fully understand the hidden costs of this constant illumination. Light pollution is now recognized as a significant factor affecting wildlife behavior\, human health\, and the balance of our environment. In this talk\, we’ll explore why natural darkness is essential—not just for ecosystems\, but for our own physical\, mental\, and emotional well-being. We’ll look at how excessive nighttime lighting disrupts sleep cycles\, impacts animals\, and alters natural rhythms that have existed for millennia. We’ll also focus on practical solutions. You’ll learn simple\, effective ways to reduce light pollution at home and in your neighborhood—strategies that can improve your health\, lower energy costs\, and help restore the night sky for everyone.
URL:https://thelaurelmagazine.com/local-event/village-nature-series-embracing-the-dark-at-the-village-green
LOCATION:The Village Green\, 160 Frank Allen Road\, Cashiers\, NC\, 28717\, United States
CATEGORIES:Community,Education
ATTACH;FMTTYPE=image/jpeg:https://thelaurelmagazine.com/wp-content/uploads/2026/04/cashiers-nc-village-green-nature-series-embracing-the-dark.jpg
END:VEVENT
BEGIN:VEVENT
DTSTART;TZID=America/New_York:20260519T180000
DTEND;TZID=America/New_York:20260519T190000
DTSTAMP:20260420T030122
CREATED:20250611T174026Z
LAST-MODIFIED:20260204T151119Z
UID:103615-1779213600-1779217200@thelaurelmagazine.com
SUMMARY:Free ESL Classes at The Literacy and Learning Center
DESCRIPTION:Join us for free ESL classes at The Literacy & Learning Center!  \nTuesdays\n6 – 7 pm \nAt The Literacy & Learning Center
URL:https://thelaurelmagazine.com/local-event/free-esl-online-classes-with-the-literacy-and-learning-center/2026-05-19
LOCATION:The Literacy & Learning Center\, 675 S 4th Street\, Highlands\, NC\, 28741\, United States
CATEGORIES:Education
ATTACH;FMTTYPE=image/jpeg:https://thelaurelmagazine.com/wp-content/uploads/2025/06/highlands-nc-community-education-literacy-learning-center-logo.jpg
END:VEVENT
BEGIN:VEVENT
DTSTART;TZID=America/New_York:20260520T173000
DTEND;TZID=America/New_York:20260520T190000
DTSTAMP:20260420T030122
CREATED:20260317T143023Z
LAST-MODIFIED:20260317T143023Z
UID:116121-1779298200-1779303600@thelaurelmagazine.com
SUMMARY:Citizenship Class with Faviola Olvera at The Literacy & Learning Center
DESCRIPTION:Ready to take the next step toward U.S. citizenship? 🇺🇸 The Literacy & Learning Center is here to support your journey with our FREE weekly Citizenship Class!\n \nLed by Faviola Olvera\, this program is designed to help you navigate the naturalization exam with total confidence. \nWhat We Cover:\n \nEnglish Test Prep: Practice the speaking\, reading\, and writing skills needed for the exam.\nReading & Writing Proficiency: Get structured practice for the specific sentences you’ll need to read and write during the official test.\nCivics Test: We cover all 100 possible questions on U.S. history and government\, including the principles of democracy and the system of government. \nWednesdays 5:30-7 PM
URL:https://thelaurelmagazine.com/local-event/citizenship-class-with-faviola-olvera-at-the-literacy-learning-center/2026-05-20
LOCATION:The Literacy & Learning Center\, 675 S 4th Street\, Highlands\, NC\, 28741\, United States
CATEGORIES:Community,Education
ATTACH;FMTTYPE=image/jpeg:https://thelaurelmagazine.com/wp-content/uploads/2026/03/highlands-nc-education-literacy-learning-center-citizenship-class.jpg
END:VEVENT
BEGIN:VEVENT
DTSTART;TZID=America/New_York:20260526T160000
DTEND;TZID=America/New_York:20260526T170000
DTSTAMP:20260420T030122
CREATED:20260417T175929Z
LAST-MODIFIED:20260417T175929Z
UID:117275-1779811200-1779814800@thelaurelmagazine.com
SUMMARY:Youth Nature Series | Map & Compass Nature Treasure Hunt at The Village Green
DESCRIPTION:This nature based map and compass scavenger hunt is an engaging adventure where participants use compasses to locate natural items and nature themed prizes. Participants will learn cardinal directions (North\, South\, East\, West)\, beginner map reading skills\, spatial awareness\, pacing\, teamwork and communication. This scavenger hunt will be a fun and exciting adventure while participants experience the benefits of connecting with the natural environment and the community around them. \nYouth of all ages are invited to participate in these educational and interactive programs!  \nAll of the Nature Series Programs\, adult and youth\, are FREE\, family-friendly\, held RAIN OR SHINE\, and no reservations are required.
URL:https://thelaurelmagazine.com/local-event/youth-nature-series-map-compass-nature-treasure-hunt-at-the-village-green
LOCATION:The Village Green\, 160 Frank Allen Road\, Cashiers\, NC\, 28717\, United States
CATEGORIES:Community,Education
ATTACH;FMTTYPE=image/jpeg:https://thelaurelmagazine.com/wp-content/uploads/2026/04/cashiers-nc-village-green-youth-nature-series-nature-treasure-hunt.jpg
END:VEVENT
BEGIN:VEVENT
DTSTART;TZID=America/New_York:20260526T180000
DTEND;TZID=America/New_York:20260526T190000
DTSTAMP:20260420T030122
CREATED:20250611T174026Z
LAST-MODIFIED:20260204T151119Z
UID:103616-1779818400-1779822000@thelaurelmagazine.com
SUMMARY:Free ESL Classes at The Literacy and Learning Center
DESCRIPTION:Join us for free ESL classes at The Literacy & Learning Center!  \nTuesdays\n6 – 7 pm \nAt The Literacy & Learning Center
URL:https://thelaurelmagazine.com/local-event/free-esl-online-classes-with-the-literacy-and-learning-center/2026-05-26
LOCATION:The Literacy & Learning Center\, 675 S 4th Street\, Highlands\, NC\, 28741\, United States
CATEGORIES:Education
ATTACH;FMTTYPE=image/jpeg:https://thelaurelmagazine.com/wp-content/uploads/2025/06/highlands-nc-community-education-literacy-learning-center-logo.jpg
END:VEVENT
BEGIN:VEVENT
DTSTART;TZID=America/New_York:20260527T130000
DTEND;TZID=America/New_York:20260527T150000
DTSTAMP:20260420T030122
CREATED:20230221T173551Z
LAST-MODIFIED:20260113T175009Z
UID:70842-1779886800-1779894000@thelaurelmagazine.com
SUMMARY:Tech Time at Hudson Library
DESCRIPTION:Have you ever received the gift of a new digital device\, like an iPad\, smartphone or laptop\, but had no idea how to use it? Hudson Library has the perfect solution- \nTech Time sessions offer one-on-one help on any personal digital device. Tech Time is a chance for residents of all ages to bring their devices and ask any questions. Learn how to set up an email account\, mute your cell phone\, back up and store files\, and more. \nTech Times are free. No library card is required and no appointment is necessary. Services are offered on a first-come\, first-served basis. \n 
URL:https://thelaurelmagazine.com/local-event/tech-time-at-hudson-library/2026-05-27
LOCATION:Hudson Library\, 554 Main St\, Highlands\, NC\, 28741\, United States
CATEGORIES:Education
ATTACH;FMTTYPE=image/jpeg:https://thelaurelmagazine.com/wp-content/uploads/2023/02/highlands-nc-hudson-library-tech-time.jpg
END:VEVENT
BEGIN:VEVENT
DTSTART;TZID=America/New_York:20260527T173000
DTEND;TZID=America/New_York:20260527T190000
DTSTAMP:20260420T030122
CREATED:20260317T143023Z
LAST-MODIFIED:20260317T143023Z
UID:116122-1779903000-1779908400@thelaurelmagazine.com
SUMMARY:Citizenship Class with Faviola Olvera at The Literacy & Learning Center
DESCRIPTION:Ready to take the next step toward U.S. citizenship? 🇺🇸 The Literacy & Learning Center is here to support your journey with our FREE weekly Citizenship Class!\n \nLed by Faviola Olvera\, this program is designed to help you navigate the naturalization exam with total confidence. \nWhat We Cover:\n \nEnglish Test Prep: Practice the speaking\, reading\, and writing skills needed for the exam.\nReading & Writing Proficiency: Get structured practice for the specific sentences you’ll need to read and write during the official test.\nCivics Test: We cover all 100 possible questions on U.S. history and government\, including the principles of democracy and the system of government. \nWednesdays 5:30-7 PM
URL:https://thelaurelmagazine.com/local-event/citizenship-class-with-faviola-olvera-at-the-literacy-learning-center/2026-05-27
LOCATION:The Literacy & Learning Center\, 675 S 4th Street\, Highlands\, NC\, 28741\, United States
CATEGORIES:Community,Education
ATTACH;FMTTYPE=image/jpeg:https://thelaurelmagazine.com/wp-content/uploads/2026/03/highlands-nc-education-literacy-learning-center-citizenship-class.jpg
END:VEVENT
END:VCALENDAR