BEGIN:VCALENDAR
VERSION:2.0
PRODID:-//Laurel Magazine - ECPv6.15.16//NONSGML v1.0//EN
CALSCALE:GREGORIAN
METHOD:PUBLISH
X-ORIGINAL-URL:https://thelaurelmagazine.com
X-WR-CALDESC:Events for Laurel Magazine
REFRESH-INTERVAL;VALUE=DURATION:PT1H
X-Robots-Tag:noindex
X-PUBLISHED-TTL:PT1H
BEGIN:VTIMEZONE
TZID:America/New_York
BEGIN:DAYLIGHT
TZOFFSETFROM:-0500
TZOFFSETTO:-0400
TZNAME:EDT
DTSTART:20240310T070000
END:DAYLIGHT
BEGIN:STANDARD
TZOFFSETFROM:-0400
TZOFFSETTO:-0500
TZNAME:EST
DTSTART:20241103T060000
END:STANDARD
BEGIN:DAYLIGHT
TZOFFSETFROM:-0500
TZOFFSETTO:-0400
TZNAME:EDT
DTSTART:20250309T070000
END:DAYLIGHT
BEGIN:STANDARD
TZOFFSETFROM:-0400
TZOFFSETTO:-0500
TZNAME:EST
DTSTART:20251102T060000
END:STANDARD
BEGIN:DAYLIGHT
TZOFFSETFROM:-0500
TZOFFSETTO:-0400
TZNAME:EDT
DTSTART:20260308T070000
END:DAYLIGHT
BEGIN:STANDARD
TZOFFSETFROM:-0400
TZOFFSETTO:-0500
TZNAME:EST
DTSTART:20261101T060000
END:STANDARD
END:VTIMEZONE
BEGIN:VEVENT
DTSTART;TZID=America/New_York:20250626T130000
DTEND;TZID=America/New_York:20250626T130000
DTSTAMP:20260421T091141
CREATED:20250605T170611Z
LAST-MODIFIED:20250605T170611Z
UID:90006-1750942800-1750942800@thelaurelmagazine.com
SUMMARY:Summer Writing Workshop at Albert Carlton Cashiers Community Library
DESCRIPTION:Beginning on June 5 at 1:00 p.m. and continuing every Thursday until August 28\, ACCCL staff member Michael Redman will lead a writing workshop that is free and open to everyone\, regardless of previous writing experience. \nThe workshop will be a place to be introduced to techniques\, perspectives\, and exercises to help you develop your writing. It will also provide a safe\,welcoming environment for you to share your own thoughts\, ideas\, and questions.
URL:https://thelaurelmagazine.com/local-event/summer-writing-workshop-at-albert-carlton-cashiers-community-library/2025-06-26
LOCATION:Albert-Carlton Community Library\, 249 Frank Allen Rd\, Cashiers\, NC\, 28741\, United States
CATEGORIES:Community,Education
END:VEVENT
BEGIN:VEVENT
DTSTART;TZID=America/New_York:20250626T180000
DTEND;TZID=America/New_York:20250626T190000
DTSTAMP:20260421T091141
CREATED:20250616T173931Z
LAST-MODIFIED:20250616T173931Z
UID:91082-1750960800-1750964400@thelaurelmagazine.com
SUMMARY:Zahner Lecture Series | Bats in Your Backyard at Highlands Nature Center
DESCRIPTION:Featured Speaker: Rada Petric\, Assistant Research Professor and Director of the UNC IE Highlands Field Site\, UNC Institute for the Environment. \nUrbanization\, landscape modification and concomitant pollutants (sound\, light\, and chemical compounds) alter the natural landscape which in turn influences animal behavior\, biology\, and survival. Sound\, light and microplastics are emerging contaminants of interest. Due to the increased detection of these emerging contaminants\, most habitats have become threatened. Despite the documented record of their occurrence in literature\, there remains a great deal of mystery surrounding their occurrence’s ecological consequence. Her primary research interest is understanding how anthropogenic disturbances are altering community composition and reshaping ecosystems. Here\, we discuss several studies focused on understanding how bats and small mammals respond to human disturbances. \nFREE | No registration required \nSponsored by Mary Todd & Jimmy Davis\, Nancy & Lyle Nichols\, and Miriam & Vernon Skiles.
URL:https://thelaurelmagazine.com/local-event/zahner-lecture-series-bats-in-your-backyard-at-highlands-nature-center
LOCATION:Highlands Nature Center\, 930 Horse Cove Rd\, Highlands\, NC\, 28741
CATEGORIES:Community,Education
ATTACH;FMTTYPE=image/jpeg:https://thelaurelmagazine.com/wp-content/uploads/2025/06/highlands-nc-nature-center-zahner-lecture-series-rada-petric.jpg
END:VEVENT
END:VCALENDAR