BEGIN:VCALENDAR
VERSION:2.0
PRODID:-//Laurel Magazine - ECPv6.15.16//NONSGML v1.0//EN
CALSCALE:GREGORIAN
METHOD:PUBLISH
X-ORIGINAL-URL:https://thelaurelmagazine.com
X-WR-CALDESC:Events for Laurel Magazine
REFRESH-INTERVAL;VALUE=DURATION:PT1H
X-Robots-Tag:noindex
X-PUBLISHED-TTL:PT1H
BEGIN:VTIMEZONE
TZID:America/New_York
BEGIN:DAYLIGHT
TZOFFSETFROM:-0500
TZOFFSETTO:-0400
TZNAME:EDT
DTSTART:20240310T070000
END:DAYLIGHT
BEGIN:STANDARD
TZOFFSETFROM:-0400
TZOFFSETTO:-0500
TZNAME:EST
DTSTART:20241103T060000
END:STANDARD
BEGIN:DAYLIGHT
TZOFFSETFROM:-0500
TZOFFSETTO:-0400
TZNAME:EDT
DTSTART:20250309T070000
END:DAYLIGHT
BEGIN:STANDARD
TZOFFSETFROM:-0400
TZOFFSETTO:-0500
TZNAME:EST
DTSTART:20251102T060000
END:STANDARD
BEGIN:DAYLIGHT
TZOFFSETFROM:-0500
TZOFFSETTO:-0400
TZNAME:EDT
DTSTART:20260308T070000
END:DAYLIGHT
BEGIN:STANDARD
TZOFFSETFROM:-0400
TZOFFSETTO:-0500
TZNAME:EST
DTSTART:20261101T060000
END:STANDARD
END:VTIMEZONE
BEGIN:VEVENT
DTSTART;TZID=America/New_York:20250714T100000
DTEND;TZID=America/New_York:20250714T120000
DTSTAMP:20260421T074125
CREATED:20250708T182633Z
LAST-MODIFIED:20250708T182633Z
UID:92992-1752487200-1752494400@thelaurelmagazine.com
SUMMARY:The Collapse of Trust in News and How to Win It Back at Center for Life Enrichment
DESCRIPTION:Trust in news is arguably at an all time low. Many Americans have lost confidence in the press\, citing concerns about bias\, sensationalism\, exaggeration or even deception. It’s tempting to look back to the days of Walter Cronkite with nostalgia. But this lecture will argue that the postwar era (1945-Watergate) was actually a historical aberration\, and that polarization in news today reflects older traditions in journalism including the hyper-partisan press of the early Republic\, penny press and the yellow press. Looking forward\, we’ll examine how trust in news has been lost and how serious\, committed journalists can win it back.
URL:https://thelaurelmagazine.com/local-event/the-collapse-of-trust-in-news-and-how-to-win-it-back-at-center-for-life-enrichment
LOCATION:Center For Life Enrichment\, 348 S 5th St\, Highlands\, NC\, 28741\, United States
CATEGORIES:Education
END:VEVENT
END:VCALENDAR