BEGIN:VCALENDAR
VERSION:2.0
PRODID:-//Laurel Magazine - ECPv6.15.16//NONSGML v1.0//EN
CALSCALE:GREGORIAN
METHOD:PUBLISH
X-WR-CALNAME:Laurel Magazine
X-ORIGINAL-URL:https://thelaurelmagazine.com
X-WR-CALDESC:Events for Laurel Magazine
REFRESH-INTERVAL;VALUE=DURATION:PT1H
X-Robots-Tag:noindex
X-PUBLISHED-TTL:PT1H
BEGIN:VTIMEZONE
TZID:America/New_York
BEGIN:DAYLIGHT
TZOFFSETFROM:-0500
TZOFFSETTO:-0400
TZNAME:EDT
DTSTART:20240310T070000
END:DAYLIGHT
BEGIN:STANDARD
TZOFFSETFROM:-0400
TZOFFSETTO:-0500
TZNAME:EST
DTSTART:20241103T060000
END:STANDARD
BEGIN:DAYLIGHT
TZOFFSETFROM:-0500
TZOFFSETTO:-0400
TZNAME:EDT
DTSTART:20250309T070000
END:DAYLIGHT
BEGIN:STANDARD
TZOFFSETFROM:-0400
TZOFFSETTO:-0500
TZNAME:EST
DTSTART:20251102T060000
END:STANDARD
BEGIN:DAYLIGHT
TZOFFSETFROM:-0500
TZOFFSETTO:-0400
TZNAME:EDT
DTSTART:20260308T070000
END:DAYLIGHT
BEGIN:STANDARD
TZOFFSETFROM:-0400
TZOFFSETTO:-0500
TZNAME:EST
DTSTART:20261101T060000
END:STANDARD
END:VTIMEZONE
BEGIN:VEVENT
DTSTART;TZID=America/New_York:20250715T100000
DTEND;TZID=America/New_York:20250715T140000
DTSTAMP:20260421T080009
CREATED:20250708T183331Z
LAST-MODIFIED:20250708T183331Z
UID:92994-1752573600-1752588000@thelaurelmagazine.com
SUMMARY:Higher Education in the Political Cross Hairs? at Center for Life Enrichment
DESCRIPTION:Until recently\, a college degree was widely considered a reliable path to success in life. Higher education has now become a political and legal battlefield. To critics\, colleges and universities do not educate; they indoctrinate. Among the most significant issues at stake: the role of the Department of Education; political interference in academic governance; defunding academic departments or programs; restricting curriculum content; political bias in hiring and promotion; elimination of tenure; elimination of affirmative action and related DEI initiatives; transgender participants in sports; free speech and cancel culture; and the need for more skills-based content in college curriculums. Is the value of a college education in serious need of reconsideration? \nOur speakers have extensive experience as higher education leaders in both the private and public sectors. They will discuss how and why this debate emerged but also provide insight into the trajectory of the debate going forward.
URL:https://thelaurelmagazine.com/local-event/higher-education-in-the-political-cross-hairs-at-center-for-life-enrichment
LOCATION:Center For Life Enrichment\, 348 S 5th St\, Highlands\, NC\, 28741\, United States
CATEGORIES:Education
END:VEVENT
BEGIN:VEVENT
DTSTART;TZID=America/New_York:20250715T140000
DTEND;TZID=America/New_York:20250715T160000
DTSTAMP:20260421T080009
CREATED:20250708T184116Z
LAST-MODIFIED:20250708T184116Z
UID:92996-1752588000-1752595200@thelaurelmagazine.com
SUMMARY:Drawing for All at Center for Life Enrichment
DESCRIPTION:Back by popular demand! Mary will teach you how to draw using the elements of art: line\, shape\, form\, value\, and texture. Graphite pencils\, ebony pencils\, Sharpies\, etc.\, are your tools. Using these elements\, we will create a value scale and simple drawings of still life and landscape. Bring a sketchbook or journal. This will be a “process over product” style of learning. \nAll participants will be supported in drawing ideas they would like to develop. All materials for this class are provided\, and you will leave with a supply list for continuing your art exploration at home.
URL:https://thelaurelmagazine.com/local-event/drawing-for-all-at-center-for-life-enrichment
LOCATION:Center For Life Enrichment\, 348 S 5th St\, Highlands\, NC\, 28741\, United States
CATEGORIES:Education
END:VEVENT
BEGIN:VEVENT
DTSTART;TZID=America/New_York:20250715T200000
DTEND;TZID=America/New_York:20250715T210000
DTSTAMP:20260421T080009
CREATED:20250616T195718Z
LAST-MODIFIED:20250616T195718Z
UID:91097-1752609600-1752613200@thelaurelmagazine.com
SUMMARY:Nature Center Nights | Salamander Meander at Highlands Nature Center
DESCRIPTION:Join our Naturalists on a nighttime search for our secretive salamander friends. \nAll ages welcome\nFREE | Registration required\n(Weather dependent)
URL:https://thelaurelmagazine.com/local-event/nature-center-nights-salamander-meander-at-highlands-nature-center-2/2025-07-15
LOCATION:Highlands Nature Center\, 930 Horse Cove Rd\, Highlands\, NC\, 28741
CATEGORIES:Community,Education
ATTACH;FMTTYPE=image/jpeg:https://thelaurelmagazine.com/wp-content/uploads/2025/06/highlands-nc-nature-center-nights-salamander-meander.jpg
END:VEVENT
END:VCALENDAR