BEGIN:VCALENDAR
VERSION:2.0
PRODID:-//Laurel Magazine - ECPv6.15.16//NONSGML v1.0//EN
CALSCALE:GREGORIAN
METHOD:PUBLISH
X-ORIGINAL-URL:https://thelaurelmagazine.com
X-WR-CALDESC:Events for Laurel Magazine
REFRESH-INTERVAL;VALUE=DURATION:PT1H
X-Robots-Tag:noindex
X-PUBLISHED-TTL:PT1H
BEGIN:VTIMEZONE
TZID:America/New_York
BEGIN:DAYLIGHT
TZOFFSETFROM:-0500
TZOFFSETTO:-0400
TZNAME:EDT
DTSTART:20240310T070000
END:DAYLIGHT
BEGIN:STANDARD
TZOFFSETFROM:-0400
TZOFFSETTO:-0500
TZNAME:EST
DTSTART:20241103T060000
END:STANDARD
BEGIN:DAYLIGHT
TZOFFSETFROM:-0500
TZOFFSETTO:-0400
TZNAME:EDT
DTSTART:20250309T070000
END:DAYLIGHT
BEGIN:STANDARD
TZOFFSETFROM:-0400
TZOFFSETTO:-0500
TZNAME:EST
DTSTART:20251102T060000
END:STANDARD
BEGIN:DAYLIGHT
TZOFFSETFROM:-0500
TZOFFSETTO:-0400
TZNAME:EDT
DTSTART:20260308T070000
END:DAYLIGHT
BEGIN:STANDARD
TZOFFSETFROM:-0400
TZOFFSETTO:-0500
TZNAME:EST
DTSTART:20261101T060000
END:STANDARD
END:VTIMEZONE
BEGIN:VEVENT
DTSTART;TZID=America/New_York:20250718T100000
DTEND;TZID=America/New_York:20250718T120000
DTSTAMP:20260421T074205
CREATED:20250709T142725Z
LAST-MODIFIED:20250709T142725Z
UID:93009-1752832800-1752840000@thelaurelmagazine.com
SUMMARY:Shifting Alliances: Navigating the Future of U.S. Foreign Policy in a Changing World at Center for Life Enrichment
DESCRIPTION:The global world order is at a potential inflection point\, shaped by a new U.S. presidential administration\, a rising China\, and a surge in global conflicts. What do these developments mean for the future of U.S. foreign policy\, peace\, and security? This presentation examines the critical issues that lie ahead\, drawing insights from within and beyond the U.S. security community. Can the United States sustain its leadership on the world stage\, and if so\, what strategies will be most effective? Will the U.S. continue to wield its power as it has since the Cold War\, or are we on the brink of a new paradigm? \nMoving beyond partisan politics\, Professor Matthew Auer will offer a forward-looking analysis of emerging flashpoints and areas of concern\, providing a nuanced perspective on the challenges and opportunities shaping the future of the U.S. and the global community
URL:https://thelaurelmagazine.com/local-event/shifting-alliances-navigating-the-future-of-u-s-foreign-policy-in-a-changing-world-at-center-for-life-enrichment
LOCATION:Center For Life Enrichment\, 348 S 5th St\, Highlands\, NC\, 28741\, United States
CATEGORIES:Community,Education
END:VEVENT
END:VCALENDAR