BEGIN:VCALENDAR
VERSION:2.0
PRODID:-//Laurel Magazine - ECPv6.15.16//NONSGML v1.0//EN
CALSCALE:GREGORIAN
METHOD:PUBLISH
X-WR-CALNAME:Laurel Magazine
X-ORIGINAL-URL:https://thelaurelmagazine.com
X-WR-CALDESC:Events for Laurel Magazine
REFRESH-INTERVAL;VALUE=DURATION:PT1H
X-Robots-Tag:noindex
X-PUBLISHED-TTL:PT1H
BEGIN:VTIMEZONE
TZID:America/New_York
BEGIN:DAYLIGHT
TZOFFSETFROM:-0500
TZOFFSETTO:-0400
TZNAME:EDT
DTSTART:20240310T070000
END:DAYLIGHT
BEGIN:STANDARD
TZOFFSETFROM:-0400
TZOFFSETTO:-0500
TZNAME:EST
DTSTART:20241103T060000
END:STANDARD
BEGIN:DAYLIGHT
TZOFFSETFROM:-0500
TZOFFSETTO:-0400
TZNAME:EDT
DTSTART:20250309T070000
END:DAYLIGHT
BEGIN:STANDARD
TZOFFSETFROM:-0400
TZOFFSETTO:-0500
TZNAME:EST
DTSTART:20251102T060000
END:STANDARD
BEGIN:DAYLIGHT
TZOFFSETFROM:-0500
TZOFFSETTO:-0400
TZNAME:EDT
DTSTART:20260308T070000
END:DAYLIGHT
BEGIN:STANDARD
TZOFFSETFROM:-0400
TZOFFSETTO:-0500
TZNAME:EST
DTSTART:20261101T060000
END:STANDARD
END:VTIMEZONE
BEGIN:VEVENT
DTSTART;TZID=America/New_York:20250728T140000
DTEND;TZID=America/New_York:20250728T160000
DTSTAMP:20260421T055343
CREATED:20250709T165758Z
LAST-MODIFIED:20250709T165758Z
UID:93042-1753711200-1753718400@thelaurelmagazine.com
SUMMARY:Triumph and Tragedy Zionism\, the Palestinians\, and the Creation of Israel\, 1917-1948 at Center for Life Enrichment
DESCRIPTION:Join Professor Kevin Jones for this session covering the early history of the Israel-Palestine conflict\, from the beginning of the British Mandate to the creation of the state of Israel. \nWe will cover four key thematic questions: (1) Why were the Zionists more successful than the Palestinians in establishing organizations and institutions that could function as the nucleus of an independent state? (2) Why did Palestinians turn from diplomacy to resistance and rebellion against both Britain and the Zionists during the course of the colonial period\, and how successful was the strategy of violence? (3) How did the relatively small Israeli army (IDF) so decisively defeat the much larger combined forces of the Palestinians and their Arab state allies? (4) Did the Palestinian refugees “flee” or were they “expelled” from their homes during the 1948 war\, and why has the ensuing Palestinian refugee crisis endured for so much longer than other comparable refugee crises?
URL:https://thelaurelmagazine.com/local-event/triumph-and-tragedy-zionism-the-palestinians-and-the-creation-of-israel-1917-1948-at-center-for-life-enrichment
LOCATION:Center For Life Enrichment\, 348 S 5th St\, Highlands\, NC\, 28741\, United States
CATEGORIES:Community,Education
END:VEVENT
END:VCALENDAR