BEGIN:VCALENDAR
VERSION:2.0
PRODID:-//Laurel Magazine - ECPv6.15.16//NONSGML v1.0//EN
CALSCALE:GREGORIAN
METHOD:PUBLISH
X-WR-CALNAME:Laurel Magazine
X-ORIGINAL-URL:https://thelaurelmagazine.com
X-WR-CALDESC:Events for Laurel Magazine
REFRESH-INTERVAL;VALUE=DURATION:PT1H
X-Robots-Tag:noindex
X-PUBLISHED-TTL:PT1H
BEGIN:VTIMEZONE
TZID:America/New_York
BEGIN:DAYLIGHT
TZOFFSETFROM:-0500
TZOFFSETTO:-0400
TZNAME:EDT
DTSTART:20240310T070000
END:DAYLIGHT
BEGIN:STANDARD
TZOFFSETFROM:-0400
TZOFFSETTO:-0500
TZNAME:EST
DTSTART:20241103T060000
END:STANDARD
BEGIN:DAYLIGHT
TZOFFSETFROM:-0500
TZOFFSETTO:-0400
TZNAME:EDT
DTSTART:20250309T070000
END:DAYLIGHT
BEGIN:STANDARD
TZOFFSETFROM:-0400
TZOFFSETTO:-0500
TZNAME:EST
DTSTART:20251102T060000
END:STANDARD
BEGIN:DAYLIGHT
TZOFFSETFROM:-0500
TZOFFSETTO:-0400
TZNAME:EDT
DTSTART:20260308T070000
END:DAYLIGHT
BEGIN:STANDARD
TZOFFSETFROM:-0400
TZOFFSETTO:-0500
TZNAME:EST
DTSTART:20261101T060000
END:STANDARD
END:VTIMEZONE
BEGIN:VEVENT
DTSTART;TZID=America/New_York:20250805T100000
DTEND;TZID=America/New_York:20250805T120000
DTSTAMP:20260421T055343
CREATED:20250721T011509Z
LAST-MODIFIED:20250721T011509Z
UID:93370-1754388000-1754395200@thelaurelmagazine.com
SUMMARY:Fascism Unbound: Exploring the Rise of Transnational Movements Then and Now at Center for Life Enrichment
DESCRIPTION:With the recent rise of far-right governments around the world\, fascism is back in the news. But what is fascism? And how do we identify a “fascist”? These questions are hauntingly similar to those of the interwar period. When Benito Mussolini came to power in 1922\, he declared that fascism was “not for export.” Nonetheless\, far-right nationalists across Europe borrowed from Mussolini’s fascism\, creating hybrid\, syncretic movements that scholars have labeled “transnational fascism.” \nThis session uses the concept of transnational fascism to analyze illuminating\, historical case studies\, including Mussolini’s Italy\, Adolf Hitler’s Germany\, Gyula Gömbös’s Hungary\, and Kārlis Ulmanis’s Latvia. Ultimately\, the session will unveil the appeal of transnational fascism\, both historically and in the present day.
URL:https://thelaurelmagazine.com/local-event/fascism-unbound-exploring-the-rise-of-transnational-movements-then-and-now-at-center-for-life-enrichment
LOCATION:Center For Life Enrichment\, 348 S 5th St\, Highlands\, NC\, 28741\, United States
CATEGORIES:Education
END:VEVENT
BEGIN:VEVENT
DTSTART;TZID=America/New_York:20250805T150000
DTEND;TZID=America/New_York:20250805T170000
DTSTAMP:20260421T055343
CREATED:20250721T012117Z
LAST-MODIFIED:20250721T012117Z
UID:93373-1754406000-1754413200@thelaurelmagazine.com
SUMMARY:CLE | An Exploration of Old World/New World Wines at High Country Wine and Provision
DESCRIPTION:Step into the captivating world of wine as we guide you on a journey through the timeless classics of Old World wines and the bold\, innovative flavors of New World wines! \nIn this class\, you’ll learn the key differences between these two wine regions\, from Europe’s traditional\, terroir-driven wines to the more contemporary and fruit-forward styles of areas like California\, Australia\, and South America.
URL:https://thelaurelmagazine.com/local-event/cle-an-exploration-of-old-world-new-world-wines-at-high-country-wine-and-provision
LOCATION:High Country Wine & Provisions\, 621 Franklin Rd\, Highlands\, NC\, 28741\, United States
CATEGORIES:Education
END:VEVENT
BEGIN:VEVENT
DTSTART;TZID=America/New_York:20250805T200000
DTEND;TZID=America/New_York:20250805T210000
DTSTAMP:20260421T055343
CREATED:20250616T171405Z
LAST-MODIFIED:20250616T171405Z
UID:91101-1754424000-1754427600@thelaurelmagazine.com
SUMMARY:Nature Center Nights | What Bat is That? at Highlands Nature Center
DESCRIPTION:Stretch your wings and tune into the sounds of the many special bats of the Highlands area! Join our Naturalists on a walk through the Botanical Garden to watch them in flight. \nAll ages welcome\nFREE | Registration required\n(Weather dependent)
URL:https://thelaurelmagazine.com/local-event/nature-center-nights-what-bat-is-that-at-highlands-nature-center/2025-08-05
LOCATION:Highlands Nature Center\, 930 Horse Cove Rd\, Highlands\, NC\, 28741
CATEGORIES:Community,Education
ATTACH;FMTTYPE=image/jpeg:https://thelaurelmagazine.com/wp-content/uploads/2025/06/highlands-nc-nature-center-what-bat-is-that.jpg
END:VEVENT
END:VCALENDAR