BEGIN:VCALENDAR
VERSION:2.0
PRODID:-//Laurel Magazine - ECPv6.15.16//NONSGML v1.0//EN
CALSCALE:GREGORIAN
METHOD:PUBLISH
X-ORIGINAL-URL:https://thelaurelmagazine.com
X-WR-CALDESC:Events for Laurel Magazine
REFRESH-INTERVAL;VALUE=DURATION:PT1H
X-Robots-Tag:noindex
X-PUBLISHED-TTL:PT1H
BEGIN:VTIMEZONE
TZID:America/New_York
BEGIN:DAYLIGHT
TZOFFSETFROM:-0500
TZOFFSETTO:-0400
TZNAME:EDT
DTSTART:20240310T070000
END:DAYLIGHT
BEGIN:STANDARD
TZOFFSETFROM:-0400
TZOFFSETTO:-0500
TZNAME:EST
DTSTART:20241103T060000
END:STANDARD
BEGIN:DAYLIGHT
TZOFFSETFROM:-0500
TZOFFSETTO:-0400
TZNAME:EDT
DTSTART:20250309T070000
END:DAYLIGHT
BEGIN:STANDARD
TZOFFSETFROM:-0400
TZOFFSETTO:-0500
TZNAME:EST
DTSTART:20251102T060000
END:STANDARD
BEGIN:DAYLIGHT
TZOFFSETFROM:-0500
TZOFFSETTO:-0400
TZNAME:EDT
DTSTART:20260308T070000
END:DAYLIGHT
BEGIN:STANDARD
TZOFFSETFROM:-0400
TZOFFSETTO:-0500
TZNAME:EST
DTSTART:20261101T060000
END:STANDARD
END:VTIMEZONE
BEGIN:VEVENT
DTSTART;TZID=America/New_York:20250806T100000
DTEND;TZID=America/New_York:20250806T120000
DTSTAMP:20260421T055341
CREATED:20250721T014551Z
LAST-MODIFIED:20250721T014551Z
UID:93375-1754474400-1754481600@thelaurelmagazine.com
SUMMARY:CLE | Rooted in Restoration: A Garden Tour with Lisa Dailey
DESCRIPTION:Join Lisa Dailey of Cultivation for an immersive horticulture restoration class on plant diversity\, soil rebuilding\, and sustainable gardening practices. \nThis interactive tour will guide you through a stunning 5-acre in-town mountain property\, showcasing everything from untouched spaces to sophisticated gardens. Discover how Lisa integrates native plants\, cutting gardens\, dahlias\, and seasonal vegetables into her landscape. Learn about the stages of garden development and soil rejuvenation. We’ll cover about 1/2 acre on foot with moderate inclines\, so please dress accordingly and wear sturdy\, comfortable footwear. \nCLE will provide a sack lunch\, and there will be time to sit and reflect after the tour. Bring a camping chair or folding chair for comfort.
URL:https://thelaurelmagazine.com/local-event/cle-rooted-in-restoration-a-garden-tour-with-lisa-dailey
LOCATION:NC
CATEGORIES:Community,Education
END:VEVENT
BEGIN:VEVENT
DTSTART;TZID=America/New_York:20250806T110000
DTEND;TZID=America/New_York:20250806T120000
DTSTAMP:20260421T055341
CREATED:20250609T164604Z
LAST-MODIFIED:20250702T153757Z
UID:90617-1754478000-1754481600@thelaurelmagazine.com
SUMMARY:Tinker Time for Tots at The Literacy and Learning Center
DESCRIPTION:The Literacy & Learning Center is excited to bring back another season of engaging workshops tailored for preschoolers and their parents. The aim is to empower parents by demonstrating inventive ways to utilize everyday household items for their children’s educational benefit. \nThese sessions will showcase practical activities that parents can seamlessly incorporate into their daily routines\, fostering a rich learning environment at home.
URL:https://thelaurelmagazine.com/local-event/tinker-time-for-tots-at-the-literacy-and-learning-center/2025-08-06
LOCATION:The Literacy & Learning Center\, 675 S 4th Street\, Highlands\, NC\, 28741\, United States
CATEGORIES:Community,Education
ATTACH;FMTTYPE=image/jpeg:https://thelaurelmagazine.com/wp-content/uploads/2025/06/highlands-nc-literacy-learning-center-tinker-for-tots.jpg
END:VEVENT
BEGIN:VEVENT
DTSTART;TZID=America/New_York:20250806T140000
DTEND;TZID=America/New_York:20250806T160000
DTSTAMP:20260421T055341
CREATED:20250721T020716Z
LAST-MODIFIED:20250721T020716Z
UID:93377-1754488800-1754496000@thelaurelmagazine.com
SUMMARY:Free Expression from Ben Franklin to Facebook at Center for Life Enrichment
DESCRIPTION:What do we mean when we say that free expression should be regulated by the “free marketplace of ideas?” This seductive metaphor has gained widespread currency in the modern United States. For this reason\, it is worth thinking about its history. Who popularized the idea? Who opposed it? How is the market to be regulated (as all markets are)? \nThis illustrated lecture surveys the long history of free expression in the United States from the enactment of the First Amendment in 1791 which limited the power of Congress to restrict the press\, to the rise of the Internet\, and the challenges posed by AI. Among the topics that we will consider will be the abolitionist mails controversy of the 1830s\, Oliver Wendell Holmes\, Jr.’s famous dissents in First World War era sedition cases\, the regulation of movies and radio during the Second World War\, and a little known law—Section 230 of the Communications Decency Act of 1996—that has structured public discourse on social media platforms and other on-line communications today.
URL:https://thelaurelmagazine.com/local-event/free-expression-from-ben-franklin-to-facebook-at-center-for-life-enrichment
LOCATION:Center For Life Enrichment\, 348 S 5th St\, Highlands\, NC\, 28741\, United States
CATEGORIES:Education
END:VEVENT
END:VCALENDAR