BEGIN:VCALENDAR
VERSION:2.0
PRODID:-//Laurel Magazine - ECPv6.15.16//NONSGML v1.0//EN
CALSCALE:GREGORIAN
METHOD:PUBLISH
X-WR-CALNAME:Laurel Magazine
X-ORIGINAL-URL:https://thelaurelmagazine.com
X-WR-CALDESC:Events for Laurel Magazine
REFRESH-INTERVAL;VALUE=DURATION:PT1H
X-Robots-Tag:noindex
X-PUBLISHED-TTL:PT1H
BEGIN:VTIMEZONE
TZID:America/New_York
BEGIN:DAYLIGHT
TZOFFSETFROM:-0500
TZOFFSETTO:-0400
TZNAME:EDT
DTSTART:20240310T070000
END:DAYLIGHT
BEGIN:STANDARD
TZOFFSETFROM:-0400
TZOFFSETTO:-0500
TZNAME:EST
DTSTART:20241103T060000
END:STANDARD
BEGIN:DAYLIGHT
TZOFFSETFROM:-0500
TZOFFSETTO:-0400
TZNAME:EDT
DTSTART:20250309T070000
END:DAYLIGHT
BEGIN:STANDARD
TZOFFSETFROM:-0400
TZOFFSETTO:-0500
TZNAME:EST
DTSTART:20251102T060000
END:STANDARD
BEGIN:DAYLIGHT
TZOFFSETFROM:-0500
TZOFFSETTO:-0400
TZNAME:EDT
DTSTART:20260308T070000
END:DAYLIGHT
BEGIN:STANDARD
TZOFFSETFROM:-0400
TZOFFSETTO:-0500
TZNAME:EST
DTSTART:20261101T060000
END:STANDARD
END:VTIMEZONE
BEGIN:VEVENT
DTSTART;TZID=America/New_York:20250807T100000
DTEND;TZID=America/New_York:20250807T120000
DTSTAMP:20260421T074109
CREATED:20250721T023856Z
LAST-MODIFIED:20250721T023856Z
UID:93379-1754560800-1754568000@thelaurelmagazine.com
SUMMARY:Exclusive! How Journalists Skewered Big Business in U. S. History—and Why It Mattered at Center for Life Enrichment
DESCRIPTION:Thoughtful Americans have long resented special privilege and foreign domination. For much of U. S. history\, one word—monopoly–symbolized both of these perils. To combat these perils\, journalists —in conjunction with jurists\, government officials\, social scientists\, and business people—have popularized an anti-monopoly vision that has shaped law\, public policy\, and popular culture. This illustrated lecture (with lots of cartoons) surveys the long history of journalistic representations of big business in U S. history. Why is big business so often represented as an octopus? What about “Mr. Money Bags”—the comic figure in the popular board game “Monopoly”? Anti-monopoly is often conflated with the “big is bad” ethos identified with an 1890 law known as the Sherman Act. This is misleading. The journalistic critique of big business in U. S. history is much more capacious. In 1904\, for example\, journalist William Randolph Hearst ran for president on a platform that was anti-trust\, but pro-municipal ownership. The journalistic indictment of big business—in cartoons\, fiction\, and oratory\, as well as the law—offers us a window on one of the most enduring political impulses in American history. In this lecture\, we will not only see how\, but also why\, this indictment mattered in the past\, and how it can help us think more constructively about plutocracy\, health care\, finance\, digital media platforms\, and the “tech-industrial complex” of the present.
URL:https://thelaurelmagazine.com/local-event/exclusive-how-journalists-skewered-big-business-in-u-s-history-and-why-it-mattered-at-center-for-life-enrichment
LOCATION:Center For Life Enrichment\, 348 S 5th St\, Highlands\, NC\, 28741\, United States
CATEGORIES:Community,Education
END:VEVENT
BEGIN:VEVENT
DTSTART;TZID=America/New_York:20250807T130000
DTEND;TZID=America/New_York:20250807T130000
DTSTAMP:20260421T074109
CREATED:20250605T170611Z
LAST-MODIFIED:20250605T170611Z
UID:90012-1754571600-1754571600@thelaurelmagazine.com
SUMMARY:Summer Writing Workshop at Albert Carlton Cashiers Community Library
DESCRIPTION:Beginning on June 5 at 1:00 p.m. and continuing every Thursday until August 28\, ACCCL staff member Michael Redman will lead a writing workshop that is free and open to everyone\, regardless of previous writing experience. \nThe workshop will be a place to be introduced to techniques\, perspectives\, and exercises to help you develop your writing. It will also provide a safe\,welcoming environment for you to share your own thoughts\, ideas\, and questions.
URL:https://thelaurelmagazine.com/local-event/summer-writing-workshop-at-albert-carlton-cashiers-community-library/2025-08-07
LOCATION:Albert-Carlton Community Library\, 249 Frank Allen Rd\, Cashiers\, NC\, 28741\, United States
CATEGORIES:Community,Education
END:VEVENT
BEGIN:VEVENT
DTSTART;TZID=America/New_York:20250807T153000
DTEND;TZID=America/New_York:20250807T153000
DTSTAMP:20260421T074109
CREATED:20220705T184645Z
LAST-MODIFIED:20220705T184645Z
UID:59171-1754580600-1754580600@thelaurelmagazine.com
SUMMARY:Kids Zone at Hudson Library
DESCRIPTION:Kids Zone features a variety of fun and interesting programs where kids can explore art\, nature\, science & more! Best for ages 5 and up.
URL:https://thelaurelmagazine.com/local-event/kids-zone-thursday-afternoons/2025-08-07
LOCATION:Hudson Library\, 554 Main St\, Highlands\, NC\, 28741\, United States
CATEGORIES:Community,Education
ATTACH;FMTTYPE=image/jpeg:https://thelaurelmagazine.com/wp-content/uploads/2022/07/highlands-nc-hudson-library-program-kids-zone.jpg
END:VEVENT
BEGIN:VEVENT
DTSTART;TZID=America/New_York:20250807T180000
DTEND;TZID=America/New_York:20250807T190000
DTSTAMP:20260421T074109
CREATED:20250616T201256Z
LAST-MODIFIED:20250616T201256Z
UID:91112-1754589600-1754593200@thelaurelmagazine.com
SUMMARY:Zahner Conservation Lecture Series | Finding the Fabulous Ordinary at Highlands Nature Center
DESCRIPTION:Featured Speaker: Georgann Eubanks\, author\, University of North Carolina Press \nNature writer Georgann Eubanks gives us a guidebook to the spectacular seasonal joys of ecosystems in the Southeast. The destinations and events she explores in her latest work are scattered across seven states. They include such wonders as bugling elk in the Smokies\, a half-million purple martins roosting on an island in a South Carolina lake in July\, the bloom of thirty acres of dimpled trout lilies in a remote Georgia forest in February\, and gnat larvae that glow like stars on the rock walls of an obscure Alabama canyon. These magical sites are great destinations to visit with children\, inspiring wonder and the impulse for protection. \nFREE | No registration required
URL:https://thelaurelmagazine.com/local-event/zahner-conservation-lecture-series-finding-the-fabulous-ordinary-at-highlands-nature-center
LOCATION:Highlands Nature Center\, 930 Horse Cove Rd\, Highlands\, NC\, 28741
CATEGORIES:Community,Education
ATTACH;FMTTYPE=image/jpeg:https://thelaurelmagazine.com/wp-content/uploads/2025/06/highlands-nc-nature-center-zahner-lecture-series-georgann-eubanks.jpg
END:VEVENT
END:VCALENDAR