BEGIN:VCALENDAR
VERSION:2.0
PRODID:-//Laurel Magazine - ECPv6.15.16//NONSGML v1.0//EN
CALSCALE:GREGORIAN
METHOD:PUBLISH
X-WR-CALNAME:Laurel Magazine
X-ORIGINAL-URL:https://thelaurelmagazine.com
X-WR-CALDESC:Events for Laurel Magazine
REFRESH-INTERVAL;VALUE=DURATION:PT1H
X-Robots-Tag:noindex
X-PUBLISHED-TTL:PT1H
BEGIN:VTIMEZONE
TZID:America/New_York
BEGIN:DAYLIGHT
TZOFFSETFROM:-0500
TZOFFSETTO:-0400
TZNAME:EDT
DTSTART:20240310T070000
END:DAYLIGHT
BEGIN:STANDARD
TZOFFSETFROM:-0400
TZOFFSETTO:-0500
TZNAME:EST
DTSTART:20241103T060000
END:STANDARD
BEGIN:DAYLIGHT
TZOFFSETFROM:-0500
TZOFFSETTO:-0400
TZNAME:EDT
DTSTART:20250309T070000
END:DAYLIGHT
BEGIN:STANDARD
TZOFFSETFROM:-0400
TZOFFSETTO:-0500
TZNAME:EST
DTSTART:20251102T060000
END:STANDARD
BEGIN:DAYLIGHT
TZOFFSETFROM:-0500
TZOFFSETTO:-0400
TZNAME:EDT
DTSTART:20260308T070000
END:DAYLIGHT
BEGIN:STANDARD
TZOFFSETFROM:-0400
TZOFFSETTO:-0500
TZNAME:EST
DTSTART:20261101T060000
END:STANDARD
END:VTIMEZONE
BEGIN:VEVENT
DTSTART;TZID=America/New_York:20250808T100000
DTEND;TZID=America/New_York:20250808T120000
DTSTAMP:20260421T055320
CREATED:20250721T025848Z
LAST-MODIFIED:20250721T025848Z
UID:93381-1754647200-1754654400@thelaurelmagazine.com
SUMMARY:Judging the Court: The Evolving Role of the Supreme Court in Modern America at Center for Life Enrichment
DESCRIPTION:In the Federalist 78 Alexander Hamilton called the Supreme Court an “intermediary” between the “People” and the legislature\, as the Court served as a “bulwark” for a limited Constitution. Some contemporary judicial critics challenge this notion\, as public opinion of the Supreme Court has decreased\, long-standing precedents have been overturned\, and personal issues with the justices have created controversies. Others see the Supreme Court as protecting the fundamental and essential principles of the United States’ founding. All perceptions\, of course\, are filtered by partisan ideology in these modern times. \nThis presentation will examine the current Supreme Court\, putting these issues in historical context and placing emphasis on cases from the 2024-2025 term.
URL:https://thelaurelmagazine.com/local-event/judging-the-court-the-evolving-role-of-the-supreme-court-in-modern-america-at-center-for-life-enrichment
LOCATION:Center For Life Enrichment\, 348 S 5th St\, Highlands\, NC\, 28741\, United States
CATEGORIES:Community,Education
END:VEVENT
BEGIN:VEVENT
DTSTART;TZID=America/New_York:20250808T140000
DTEND;TZID=America/New_York:20250808T160000
DTSTAMP:20260421T055320
CREATED:20250721T030641Z
LAST-MODIFIED:20250721T030641Z
UID:93383-1754661600-1754668800@thelaurelmagazine.com
SUMMARY:Art Workshop - Creating a Watercolor Brush Painting in the Style of Japanese Tradition at Center for Life Enrichment
DESCRIPTION:Create a work of art based on the tradition of watercolor brush painting! Practicing traditional techniques and using traditional design materials\, class participants will produce a final project: a watercolor painting of a “sakura” cherry blossom tree on handmade paper. All materials will be provided for this class\, and you will leave with a supply list for continuing your art exploration at home.
URL:https://thelaurelmagazine.com/local-event/art-workshop-creating-a-watercolor-brush-painting-in-the-style-of-japanese-tradition-at-center-for-life-enrichment
LOCATION:Center For Life Enrichment\, 348 S 5th St\, Highlands\, NC\, 28741\, United States
CATEGORIES:Community,Education
END:VEVENT
END:VCALENDAR