BEGIN:VCALENDAR
VERSION:2.0
PRODID:-//Laurel Magazine - ECPv6.15.16//NONSGML v1.0//EN
CALSCALE:GREGORIAN
METHOD:PUBLISH
X-WR-CALNAME:Laurel Magazine
X-ORIGINAL-URL:https://thelaurelmagazine.com
X-WR-CALDESC:Events for Laurel Magazine
REFRESH-INTERVAL;VALUE=DURATION:PT1H
X-Robots-Tag:noindex
X-PUBLISHED-TTL:PT1H
BEGIN:VTIMEZONE
TZID:America/New_York
BEGIN:DAYLIGHT
TZOFFSETFROM:-0500
TZOFFSETTO:-0400
TZNAME:EDT
DTSTART:20240310T070000
END:DAYLIGHT
BEGIN:STANDARD
TZOFFSETFROM:-0400
TZOFFSETTO:-0500
TZNAME:EST
DTSTART:20241103T060000
END:STANDARD
BEGIN:DAYLIGHT
TZOFFSETFROM:-0500
TZOFFSETTO:-0400
TZNAME:EDT
DTSTART:20250309T070000
END:DAYLIGHT
BEGIN:STANDARD
TZOFFSETFROM:-0400
TZOFFSETTO:-0500
TZNAME:EST
DTSTART:20251102T060000
END:STANDARD
BEGIN:DAYLIGHT
TZOFFSETFROM:-0500
TZOFFSETTO:-0400
TZNAME:EDT
DTSTART:20260308T070000
END:DAYLIGHT
BEGIN:STANDARD
TZOFFSETFROM:-0400
TZOFFSETTO:-0500
TZNAME:EST
DTSTART:20261101T060000
END:STANDARD
END:VTIMEZONE
BEGIN:VEVENT
DTSTART;TZID=America/New_York:20250813T110000
DTEND;TZID=America/New_York:20250813T120000
DTSTAMP:20260421T074014
CREATED:20250609T164604Z
LAST-MODIFIED:20250702T153803Z
UID:90618-1755082800-1755086400@thelaurelmagazine.com
SUMMARY:Tinker Time for Tots at The Literacy and Learning Center
DESCRIPTION:The Literacy & Learning Center is excited to bring back another season of engaging workshops tailored for preschoolers and their parents. The aim is to empower parents by demonstrating inventive ways to utilize everyday household items for their children’s educational benefit. \nThese sessions will showcase practical activities that parents can seamlessly incorporate into their daily routines\, fostering a rich learning environment at home.
URL:https://thelaurelmagazine.com/local-event/tinker-time-for-tots-at-the-literacy-and-learning-center/2025-08-13
LOCATION:The Literacy & Learning Center\, 675 S 4th Street\, Highlands\, NC\, 28741\, United States
CATEGORIES:Community,Education
ATTACH;FMTTYPE=image/jpeg:https://thelaurelmagazine.com/wp-content/uploads/2025/06/highlands-nc-literacy-learning-center-tinker-for-tots.jpg
END:VEVENT
BEGIN:VEVENT
DTSTART;TZID=America/New_York:20250813T130000
DTEND;TZID=America/New_York:20250813T150000
DTSTAMP:20260421T074014
CREATED:20230221T173551Z
LAST-MODIFIED:20260113T174959Z
UID:59235-1755090000-1755097200@thelaurelmagazine.com
SUMMARY:Tech Time at Hudson Library
DESCRIPTION:Have you ever received the gift of a new digital device\, like an iPad\, smartphone or laptop\, but had no idea how to use it? Hudson Library has the perfect solution- \nTech Time sessions offer one-on-one help on any personal digital device. Tech Time is a chance for residents of all ages to bring their devices and ask any questions. Learn how to set up an email account\, mute your cell phone\, back up and store files\, and more. \nTech Times are free. No library card is required and no appointment is necessary. Services are offered on a first-come\, first-served basis. \n 
URL:https://thelaurelmagazine.com/local-event/tech-time-at-hudson-library/2025-08-13
LOCATION:Hudson Library\, 554 Main St\, Highlands\, NC\, 28741\, United States
CATEGORIES:Education
ATTACH;FMTTYPE=image/jpeg:https://thelaurelmagazine.com/wp-content/uploads/2023/02/highlands-nc-hudson-library-tech-time.jpg
END:VEVENT
BEGIN:VEVENT
DTSTART;TZID=America/New_York:20250813T140000
DTEND;TZID=America/New_York:20250813T160000
DTSTAMP:20260421T074014
CREATED:20250721T033920Z
LAST-MODIFIED:20250721T033920Z
UID:93392-1755093600-1755100800@thelaurelmagazine.com
SUMMARY:Jimmy Carter: An American Giant at Center for Life Enrichment
DESCRIPTION:Join US Presidential Historian Douglas Brinkley for a discussion on why Jimmy Carter is one of the great figures of the 20th and 21st centuries. He will evaluate the lasting importance of Carter’s Camp David Accords; personal diplomacy with China’s Deng Xiaoping; lifetime humanitarian work in Africa; and the sudden controversial Panama Canal treaty. Brinkley will also discuss in detail why Carter was the most successful land and water conservation president since Theodore Roosevelt. Having written a biography of Carter ‘s post White House years titled\, The Unfinished Presidency\, Brinkley will offer personal stories about his own experiences with the ex-president including Habitat for Humanity house builds and travels to Israel/Gaza.
URL:https://thelaurelmagazine.com/local-event/jimmy-carter-an-american-giant-at-center-for-life-enrichment
LOCATION:Center For Life Enrichment\, 348 S 5th St\, Highlands\, NC\, 28741\, United States
CATEGORIES:Community,Education
END:VEVENT
END:VCALENDAR