BEGIN:VCALENDAR
VERSION:2.0
PRODID:-//Laurel Magazine - ECPv6.15.16//NONSGML v1.0//EN
CALSCALE:GREGORIAN
METHOD:PUBLISH
X-WR-CALNAME:Laurel Magazine
X-ORIGINAL-URL:https://thelaurelmagazine.com
X-WR-CALDESC:Events for Laurel Magazine
REFRESH-INTERVAL;VALUE=DURATION:PT1H
X-Robots-Tag:noindex
X-PUBLISHED-TTL:PT1H
BEGIN:VTIMEZONE
TZID:America/New_York
BEGIN:DAYLIGHT
TZOFFSETFROM:-0500
TZOFFSETTO:-0400
TZNAME:EDT
DTSTART:20240310T070000
END:DAYLIGHT
BEGIN:STANDARD
TZOFFSETFROM:-0400
TZOFFSETTO:-0500
TZNAME:EST
DTSTART:20241103T060000
END:STANDARD
BEGIN:DAYLIGHT
TZOFFSETFROM:-0500
TZOFFSETTO:-0400
TZNAME:EDT
DTSTART:20250309T070000
END:DAYLIGHT
BEGIN:STANDARD
TZOFFSETFROM:-0400
TZOFFSETTO:-0500
TZNAME:EST
DTSTART:20251102T060000
END:STANDARD
BEGIN:DAYLIGHT
TZOFFSETFROM:-0500
TZOFFSETTO:-0400
TZNAME:EDT
DTSTART:20260308T070000
END:DAYLIGHT
BEGIN:STANDARD
TZOFFSETFROM:-0400
TZOFFSETTO:-0500
TZNAME:EST
DTSTART:20261101T060000
END:STANDARD
END:VTIMEZONE
BEGIN:VEVENT
DTSTART;TZID=America/New_York:20250821T130000
DTEND;TZID=America/New_York:20250821T130000
DTSTAMP:20260421T074111
CREATED:20250605T170611Z
LAST-MODIFIED:20250605T170611Z
UID:90014-1755781200-1755781200@thelaurelmagazine.com
SUMMARY:Summer Writing Workshop at Albert Carlton Cashiers Community Library
DESCRIPTION:Beginning on June 5 at 1:00 p.m. and continuing every Thursday until August 28\, ACCCL staff member Michael Redman will lead a writing workshop that is free and open to everyone\, regardless of previous writing experience. \nThe workshop will be a place to be introduced to techniques\, perspectives\, and exercises to help you develop your writing. It will also provide a safe\,welcoming environment for you to share your own thoughts\, ideas\, and questions.
URL:https://thelaurelmagazine.com/local-event/summer-writing-workshop-at-albert-carlton-cashiers-community-library/2025-08-21
LOCATION:Albert-Carlton Community Library\, 249 Frank Allen Rd\, Cashiers\, NC\, 28741\, United States
CATEGORIES:Community,Education
END:VEVENT
BEGIN:VEVENT
DTSTART;TZID=America/New_York:20250821T153000
DTEND;TZID=America/New_York:20250821T153000
DTSTAMP:20260421T074111
CREATED:20220705T184645Z
LAST-MODIFIED:20220705T184645Z
UID:59433-1755790200-1755790200@thelaurelmagazine.com
SUMMARY:Kids Zone at Hudson Library
DESCRIPTION:Kids Zone features a variety of fun and interesting programs where kids can explore art\, nature\, science & more! Best for ages 5 and up.
URL:https://thelaurelmagazine.com/local-event/kids-zone-thursday-afternoons/2025-08-21
LOCATION:Hudson Library\, 554 Main St\, Highlands\, NC\, 28741\, United States
CATEGORIES:Community,Education
ATTACH;FMTTYPE=image/jpeg:https://thelaurelmagazine.com/wp-content/uploads/2022/07/highlands-nc-hudson-library-program-kids-zone.jpg
END:VEVENT
BEGIN:VEVENT
DTSTART;TZID=America/New_York:20250821T160000
DTEND;TZID=America/New_York:20250821T180000
DTSTAMP:20260421T074111
CREATED:20250812T155800Z
LAST-MODIFIED:20250812T155800Z
UID:95421-1755792000-1755799200@thelaurelmagazine.com
SUMMARY:Author Reception | Darwin and the Art of Botany at Center for Life Enrichment
DESCRIPTION:Join us at one of Highlands’ many beautiful homes for this presentation and author reception for Highlands’ own Dr. Jim Costa! From finches and tortoises to barnacles and pigeons\, Charles Darwin is most often associated with the iconic animals that he studied\, but in fact a larger part of his contribution to the natural sciences is based on plants. \nDarwin’s botanical observations and experiments are crucial to our modern understanding of so much about plant biology\, from pollination to plant carnivory to the way that vines climb. To help modern audiences better appreciate Darwin’s botany as well as the rich tradition of botanical art\, Dr. Costa teamed up with his friend\, the botanical artist Bobbi Angell (www.bobbiangell.com/)\, to produce Darwin and the Art of Botany: Observations on the Curious World of Plants. A celebration of Darwin’s often overlooked botanical enthusiasms\, the book spotlights 45 fascinating plants studied by Darwin\, each illustrated with beautiful and historically significant botanical artwork that Bobbi curated from the Library at the Oak Spring Garden Foundation in Upperville\, Virginia. \nThis “arts and sciences” course will inspire a new appreciation for Darwin’s creative botanical investigations and the ways in which plants helped shape our understanding of the world around us\, as well as the history of botanical art and illustration.
URL:https://thelaurelmagazine.com/local-event/author-reception-darwin-and-the-art-of-botany-at-center-for-life-enrichment
LOCATION:NC
CATEGORIES:Community,Education
ATTACH;FMTTYPE=image/jpeg:https://thelaurelmagazine.com/wp-content/uploads/2025/08/highlands-nc-center-life-enrichment-author-reception-darin-art-botany.jpg
END:VEVENT
END:VCALENDAR