BEGIN:VCALENDAR
VERSION:2.0
PRODID:-//Laurel Magazine - ECPv6.15.16//NONSGML v1.0//EN
CALSCALE:GREGORIAN
METHOD:PUBLISH
X-WR-CALNAME:Laurel Magazine
X-ORIGINAL-URL:https://thelaurelmagazine.com
X-WR-CALDESC:Events for Laurel Magazine
REFRESH-INTERVAL;VALUE=DURATION:PT1H
X-Robots-Tag:noindex
X-PUBLISHED-TTL:PT1H
BEGIN:VTIMEZONE
TZID:America/New_York
BEGIN:DAYLIGHT
TZOFFSETFROM:-0500
TZOFFSETTO:-0400
TZNAME:EDT
DTSTART:20250309T070000
END:DAYLIGHT
BEGIN:STANDARD
TZOFFSETFROM:-0400
TZOFFSETTO:-0500
TZNAME:EST
DTSTART:20251102T060000
END:STANDARD
BEGIN:DAYLIGHT
TZOFFSETFROM:-0500
TZOFFSETTO:-0400
TZNAME:EDT
DTSTART:20260308T070000
END:DAYLIGHT
BEGIN:STANDARD
TZOFFSETFROM:-0400
TZOFFSETTO:-0500
TZNAME:EST
DTSTART:20261101T060000
END:STANDARD
BEGIN:DAYLIGHT
TZOFFSETFROM:-0500
TZOFFSETTO:-0400
TZNAME:EDT
DTSTART:20270314T070000
END:DAYLIGHT
BEGIN:STANDARD
TZOFFSETFROM:-0400
TZOFFSETTO:-0500
TZNAME:EST
DTSTART:20271107T060000
END:STANDARD
END:VTIMEZONE
BEGIN:VEVENT
DTSTART;TZID=America/New_York:20260314T100000
DTEND;TZID=America/New_York:20260314T153000
DTSTAMP:20260420T063542
CREATED:20260309T174706Z
LAST-MODIFIED:20260309T174706Z
UID:115989-1773482400-1773502200@thelaurelmagazine.com
SUMMARY:EcoExplore Plant Scavenger Hunt at Highlands Nature Center
DESCRIPTION:Spring is right around the corner\, and we’re already seeing some fresh pops of green! We will kick off the ecoEXPLORE Botany Field Season with a plant scavenger hunt along the Botanical Garden trails and the Boardwalk. Participants will work to complete a plant identification challenge while gaining a deeper understanding of the natural world around them.\n\necoEXPLORE is a community science program created by the North Carolina Arboretum\, where children of all ages can learn to identify wildlife around them\, help scientists track wildlife activity\, and earn fun badges and prizes all at once! To learn more\, please visit . \nMarch 13-14 & 27-28\nFREE | Drop-in from 10 am – 3:30 pm
URL:https://thelaurelmagazine.com/local-event/ecoexplore-plant-scavenger-hunt-at-highlands-nature-center/2026-03-14
LOCATION:Highlands Nature Center\, 930 Horse Cove Rd\, Highlands\, NC\, 28741
CATEGORIES:Community,Education
ATTACH;FMTTYPE=image/jpeg:https://thelaurelmagazine.com/wp-content/uploads/2026/03/highlands-nc-highlands-nature-center-ecoexplorers.jpg
END:VEVENT
BEGIN:VEVENT
DTSTART;TZID=America/New_York:20260314T100000
DTEND;TZID=America/New_York:20260314T153000
DTSTAMP:20260420T063542
CREATED:20260309T204225Z
LAST-MODIFIED:20260309T204225Z
UID:116005-1773482400-1773502200@thelaurelmagazine.com
SUMMARY:Tree Texture Investigation at Highlands Nature Center
DESCRIPTION:Join us at the Nature Center to make your very own Bark Book! \nEnjoy a stroll through the forest to create unique texture impressions of different tree bark patterns\, and learn some tips and tricks to help you identify your findings. Making your own Bark Book is a great way to explore nature\, learn about trees\, and create art! \nMarch 13-14 & 27-28\nFREE | Drop-in from 10 am – 3:30 pm
URL:https://thelaurelmagazine.com/local-event/tree-texture-investigation-at-highlands-nature-center/2026-03-14
LOCATION:Highlands Nature Center\, 930 Horse Cove Rd\, Highlands\, NC\, 28741
CATEGORIES:Community,Education
ATTACH;FMTTYPE=image/jpeg:https://thelaurelmagazine.com/wp-content/uploads/2026/03/highlands-nc-highlands-nature-center-tree-texture-investigation.jpg
END:VEVENT
END:VCALENDAR