BEGIN:VCALENDAR
VERSION:2.0
PRODID:-//Laurel Magazine - ECPv6.15.16//NONSGML v1.0//EN
CALSCALE:GREGORIAN
METHOD:PUBLISH
X-ORIGINAL-URL:https://thelaurelmagazine.com
X-WR-CALDESC:Events for Laurel Magazine
REFRESH-INTERVAL;VALUE=DURATION:PT1H
X-Robots-Tag:noindex
X-PUBLISHED-TTL:PT1H
BEGIN:VTIMEZONE
TZID:America/New_York
BEGIN:DAYLIGHT
TZOFFSETFROM:-0500
TZOFFSETTO:-0400
TZNAME:EDT
DTSTART:20250309T070000
END:DAYLIGHT
BEGIN:STANDARD
TZOFFSETFROM:-0400
TZOFFSETTO:-0500
TZNAME:EST
DTSTART:20251102T060000
END:STANDARD
BEGIN:DAYLIGHT
TZOFFSETFROM:-0500
TZOFFSETTO:-0400
TZNAME:EDT
DTSTART:20260308T070000
END:DAYLIGHT
BEGIN:STANDARD
TZOFFSETFROM:-0400
TZOFFSETTO:-0500
TZNAME:EST
DTSTART:20261101T060000
END:STANDARD
BEGIN:DAYLIGHT
TZOFFSETFROM:-0500
TZOFFSETTO:-0400
TZNAME:EDT
DTSTART:20270314T070000
END:DAYLIGHT
BEGIN:STANDARD
TZOFFSETFROM:-0400
TZOFFSETTO:-0500
TZNAME:EST
DTSTART:20271107T060000
END:STANDARD
END:VTIMEZONE
BEGIN:VEVENT
DTSTART;TZID=America/New_York:20260408T130000
DTEND;TZID=America/New_York:20260408T150000
DTSTAMP:20260420T030142
CREATED:20230221T173551Z
LAST-MODIFIED:20260113T175009Z
UID:68765-1775653200-1775660400@thelaurelmagazine.com
SUMMARY:Tech Time at Hudson Library
DESCRIPTION:Have you ever received the gift of a new digital device\, like an iPad\, smartphone or laptop\, but had no idea how to use it? Hudson Library has the perfect solution- \nTech Time sessions offer one-on-one help on any personal digital device. Tech Time is a chance for residents of all ages to bring their devices and ask any questions. Learn how to set up an email account\, mute your cell phone\, back up and store files\, and more. \nTech Times are free. No library card is required and no appointment is necessary. Services are offered on a first-come\, first-served basis. \n 
URL:https://thelaurelmagazine.com/local-event/tech-time-at-hudson-library/2026-04-08
LOCATION:Hudson Library\, 554 Main St\, Highlands\, NC\, 28741\, United States
CATEGORIES:Education
ATTACH;FMTTYPE=image/jpeg:https://thelaurelmagazine.com/wp-content/uploads/2023/02/highlands-nc-hudson-library-tech-time.jpg
END:VEVENT
BEGIN:VEVENT
DTSTART;TZID=America/New_York:20260408T173000
DTEND;TZID=America/New_York:20260408T190000
DTSTAMP:20260420T030142
CREATED:20260317T143023Z
LAST-MODIFIED:20260317T143023Z
UID:116115-1775669400-1775674800@thelaurelmagazine.com
SUMMARY:Citizenship Class with Faviola Olvera at The Literacy & Learning Center
DESCRIPTION:Ready to take the next step toward U.S. citizenship? 🇺🇸 The Literacy & Learning Center is here to support your journey with our FREE weekly Citizenship Class!\n \nLed by Faviola Olvera\, this program is designed to help you navigate the naturalization exam with total confidence. \nWhat We Cover:\n \nEnglish Test Prep: Practice the speaking\, reading\, and writing skills needed for the exam.\nReading & Writing Proficiency: Get structured practice for the specific sentences you’ll need to read and write during the official test.\nCivics Test: We cover all 100 possible questions on U.S. history and government\, including the principles of democracy and the system of government. \nWednesdays 5:30-7 PM
URL:https://thelaurelmagazine.com/local-event/citizenship-class-with-faviola-olvera-at-the-literacy-learning-center/2026-04-08
LOCATION:The Literacy & Learning Center\, 675 S 4th Street\, Highlands\, NC\, 28741\, United States
CATEGORIES:Community,Education
ATTACH;FMTTYPE=image/jpeg:https://thelaurelmagazine.com/wp-content/uploads/2026/03/highlands-nc-education-literacy-learning-center-citizenship-class.jpg
END:VEVENT
END:VCALENDAR