BEGIN:VCALENDAR
VERSION:2.0
PRODID:-//Laurel Magazine - ECPv6.15.16//NONSGML v1.0//EN
CALSCALE:GREGORIAN
METHOD:PUBLISH
X-WR-CALNAME:Laurel Magazine
X-ORIGINAL-URL:https://thelaurelmagazine.com
X-WR-CALDESC:Events for Laurel Magazine
REFRESH-INTERVAL;VALUE=DURATION:PT1H
X-Robots-Tag:noindex
X-PUBLISHED-TTL:PT1H
BEGIN:VTIMEZONE
TZID:America/New_York
BEGIN:DAYLIGHT
TZOFFSETFROM:-0500
TZOFFSETTO:-0400
TZNAME:EDT
DTSTART:20230312T070000
END:DAYLIGHT
BEGIN:STANDARD
TZOFFSETFROM:-0400
TZOFFSETTO:-0500
TZNAME:EST
DTSTART:20231105T060000
END:STANDARD
BEGIN:DAYLIGHT
TZOFFSETFROM:-0500
TZOFFSETTO:-0400
TZNAME:EDT
DTSTART:20240310T070000
END:DAYLIGHT
BEGIN:STANDARD
TZOFFSETFROM:-0400
TZOFFSETTO:-0500
TZNAME:EST
DTSTART:20241103T060000
END:STANDARD
BEGIN:DAYLIGHT
TZOFFSETFROM:-0500
TZOFFSETTO:-0400
TZNAME:EDT
DTSTART:20250309T070000
END:DAYLIGHT
BEGIN:STANDARD
TZOFFSETFROM:-0400
TZOFFSETTO:-0500
TZNAME:EST
DTSTART:20251102T060000
END:STANDARD
END:VTIMEZONE
BEGIN:VEVENT
DTSTART;TZID=America/New_York:20240730T173000
DTEND;TZID=America/New_York:20240730T173000
DTSTAMP:20260422T062909
CREATED:20240326T223157Z
LAST-MODIFIED:20240326T223157Z
UID:68494-1722360600-1722360600@thelaurelmagazine.com
SUMMARY:Village Nature Series at The Village Green
DESCRIPTION:The Highlands-Cashiers Land Trust and The Village Green co-host a series of lectures each summer. Visitors and residents learn about wildlife\, habitats\, conservation\, and local cultural heritage from expert speakers in their fields! \nThe Village Nature Series will begin at 5:30pm on the last Tuesday of each month (August’s presentation will be held on the 20th) from April through September at The Village Green in Cashiers. \nThese programs are FREE\, family-friendly\, held rain or shine\, and no registration is required. \nThank you to Cedar Creek Club for sponsoring the Village Nature Series!
URL:https://thelaurelmagazine.com/local-event/village-nature-series-at-the-village-green/2024-07-30
LOCATION:The Village Green\, 160 Frank Allen Road\, Cashiers\, NC\, 28717\, United States
CATEGORIES:Community,Education
ATTACH;FMTTYPE=image/jpeg:https://thelaurelmagazine.com/wp-content/uploads/2024/03/cashiers-nc-village-green-village-nature-series-logo.jpg
END:VEVENT
BEGIN:VEVENT
DTSTART;TZID=America/New_York:20240801T180000
DTEND;TZID=America/New_York:20240801T180000
DTSTAMP:20260422T062909
CREATED:20240313T122843Z
LAST-MODIFIED:20240313T122843Z
UID:70882-1722535200-1722535200@thelaurelmagazine.com
SUMMARY:Zahner Lecture Series at Highlands Biological Station
DESCRIPTION:Join the Highlands Biological Foundation for their annual Zahner Conservation Lecture series. These talks serve to educate and inspire the public through a series of talks from well-known regional scientists\, conservationists\, artists\, and writers. \nThese free\, public programs will be held at the Highlands Nature Center (930 Horse Cove Road) each Thursday evening at 6:00 p.m. between June 13 and August 8. \nFor more information visit highlandsbiological.org or call 828-526-2623.
URL:https://thelaurelmagazine.com/local-event/zahner-lecture-series-at-highlands-biological-station/2024-08-01
LOCATION:NC
CATEGORIES:Community,Education
ATTACH;FMTTYPE=image/jpeg:https://thelaurelmagazine.com/wp-content/uploads/2021/08/highlands-biological-station-butterfly.jpg
ORGANIZER;CN="Highlands Biological Station":MAILTO:sonya@highlandsbiological.org
END:VEVENT
END:VCALENDAR