BEGIN:VCALENDAR
VERSION:2.0
PRODID:-//Laurel Magazine - ECPv6.15.16//NONSGML v1.0//EN
CALSCALE:GREGORIAN
METHOD:PUBLISH
X-ORIGINAL-URL:https://thelaurelmagazine.com
X-WR-CALDESC:Events for Laurel Magazine
REFRESH-INTERVAL;VALUE=DURATION:PT1H
X-Robots-Tag:noindex
X-PUBLISHED-TTL:PT1H
BEGIN:VTIMEZONE
TZID:America/New_York
BEGIN:DAYLIGHT
TZOFFSETFROM:-0500
TZOFFSETTO:-0400
TZNAME:EDT
DTSTART:20240310T070000
END:DAYLIGHT
BEGIN:STANDARD
TZOFFSETFROM:-0400
TZOFFSETTO:-0500
TZNAME:EST
DTSTART:20241103T060000
END:STANDARD
BEGIN:DAYLIGHT
TZOFFSETFROM:-0500
TZOFFSETTO:-0400
TZNAME:EDT
DTSTART:20250309T070000
END:DAYLIGHT
BEGIN:STANDARD
TZOFFSETFROM:-0400
TZOFFSETTO:-0500
TZNAME:EST
DTSTART:20251102T060000
END:STANDARD
BEGIN:DAYLIGHT
TZOFFSETFROM:-0500
TZOFFSETTO:-0400
TZNAME:EDT
DTSTART:20260308T070000
END:DAYLIGHT
BEGIN:STANDARD
TZOFFSETFROM:-0400
TZOFFSETTO:-0500
TZNAME:EST
DTSTART:20261101T060000
END:STANDARD
END:VTIMEZONE
BEGIN:VEVENT
DTSTART;TZID=America/New_York:20250617T200000
DTEND;TZID=America/New_York:20250617T210000
DTSTAMP:20260421T110507
CREATED:20250616T171405Z
LAST-MODIFIED:20250616T195549Z
UID:91073-1750190400-1750194000@thelaurelmagazine.com
SUMMARY:Nature Center Nights | What Bat is That? at Highlands Nature Center
DESCRIPTION:Stretch your wings and tune into the sounds of the many special bats of the Highlands area! Join our Naturalists on a walk through the Botanical Garden to watch them in flight. \nAll ages welcome\nFREE | Registration required\n(Weather dependent)
URL:https://thelaurelmagazine.com/local-event/nature-center-nights-what-bat-is-that-at-highlands-nature-center/2025-06-17
LOCATION:Highlands Nature Center\, 930 Horse Cove Rd\, Highlands\, NC\, 28741
CATEGORIES:Community,Education
ATTACH;FMTTYPE=image/jpeg:https://thelaurelmagazine.com/wp-content/uploads/2025/06/highlands-nc-nature-center-what-bat-is-that.jpg
END:VEVENT
BEGIN:VEVENT
DTSTART;TZID=America/New_York:20250618T110000
DTEND;TZID=America/New_York:20250618T120000
DTSTAMP:20260421T110508
CREATED:20250609T164604Z
LAST-MODIFIED:20250702T153710Z
UID:90611-1750244400-1750248000@thelaurelmagazine.com
SUMMARY:Tinker Time for Tots at The Literacy and Learning Center
DESCRIPTION:The Literacy & Learning Center is excited to bring back another season of engaging workshops tailored for preschoolers and their parents. The aim is to empower parents by demonstrating inventive ways to utilize everyday household items for their children’s educational benefit. \nThese sessions will showcase practical activities that parents can seamlessly incorporate into their daily routines\, fostering a rich learning environment at home.
URL:https://thelaurelmagazine.com/local-event/tinker-time-for-tots-at-the-literacy-and-learning-center/2025-06-18
LOCATION:The Literacy & Learning Center\, 675 S 4th Street\, Highlands\, NC\, 28741\, United States
CATEGORIES:Community,Education
ATTACH;FMTTYPE=image/jpeg:https://thelaurelmagazine.com/wp-content/uploads/2025/06/highlands-nc-literacy-learning-center-tinker-for-tots.jpg
END:VEVENT
BEGIN:VEVENT
DTSTART;TZID=America/New_York:20250619T100000
DTEND;TZID=America/New_York:20250619T150000
DTSTAMP:20260421T110508
CREATED:20250605T185901Z
LAST-MODIFIED:20250605T185901Z
UID:90079-1750327200-1750345200@thelaurelmagazine.com
SUMMARY:CHS | Jan Wyatt Symposium at Chimney Pond Farm
DESCRIPTION:Jan Wyatt Symposium: Campfires & the Embers of Youth: The History of Residential Summer Camps in Western North Carolina \nThis engaging topic allows us to explore the many ways summer camps have shaped the social\, economic\, and cultural history of western North Carolina. \nThe event will include a slate of speakers and presentations\, round-table panel discussions\, and a catered lunch.
URL:https://thelaurelmagazine.com/local-event/chs-jan-wyatt-symposium-at-chimney-pond-farm
LOCATION:Chimney Pond Farm\, 240 Chimney Pond Rd\, Glenville\, NC\, 28736\, United States
CATEGORIES:Community,Education
ATTACH;FMTTYPE=image/jpeg:https://thelaurelmagazine.com/wp-content/uploads/2025/06/cashiers-nc-cashiers-historical-society-jan-wyatt-symposium.jpg
ORGANIZER;CN="Cashiers Historical Society":MAILTO:info@cashiershistoricalsociety.org
END:VEVENT
BEGIN:VEVENT
DTSTART;TZID=America/New_York:20250619T130000
DTEND;TZID=America/New_York:20250619T130000
DTSTAMP:20260421T110508
CREATED:20250605T170611Z
LAST-MODIFIED:20250605T170611Z
UID:90005-1750338000-1750338000@thelaurelmagazine.com
SUMMARY:Summer Writing Workshop at Albert Carlton Cashiers Community Library
DESCRIPTION:Beginning on June 5 at 1:00 p.m. and continuing every Thursday until August 28\, ACCCL staff member Michael Redman will lead a writing workshop that is free and open to everyone\, regardless of previous writing experience. \nThe workshop will be a place to be introduced to techniques\, perspectives\, and exercises to help you develop your writing. It will also provide a safe\,welcoming environment for you to share your own thoughts\, ideas\, and questions.
URL:https://thelaurelmagazine.com/local-event/summer-writing-workshop-at-albert-carlton-cashiers-community-library/2025-06-19
LOCATION:Albert-Carlton Community Library\, 249 Frank Allen Rd\, Cashiers\, NC\, 28741\, United States
CATEGORIES:Community,Education
END:VEVENT
BEGIN:VEVENT
DTSTART;TZID=America/New_York:20250619T163000
DTEND;TZID=America/New_York:20250619T163000
DTSTAMP:20260421T110508
CREATED:20250603T163731Z
LAST-MODIFIED:20250603T163731Z
UID:89965-1750350600-1750350600@thelaurelmagazine.com
SUMMARY:Candle Pour Party with Desert Stream Candle Co. at The Molly Grace
DESCRIPTION:If you love a candle\, you don’t want to miss pouring your own! Sign up NOW for a Candle Pour Party with Desert Stream Candle Co. at The Molly Grace on Thursday\, June 19th. \nClasses will happen at 4:30 & 6:30 pm\, but spots are limited so sign up ASAP to get in on the fun! You’ll get to grab a beautiful dough bow\, set your wicks\, pick your favorite scent\, pour the organic soy wax\, add dried flowers if you wish & watch your candle come to life!
URL:https://thelaurelmagazine.com/local-event/candle-pour-party-with-desert-stream-candle-co-at-the-molly-grace/2025-06-19
LOCATION:The Molly Grace\, 207 N 4th St\, Highlands\, NC\, 28741\, United States
CATEGORIES:Community,Education,Shopping
ATTACH;FMTTYPE=image/jpeg:https://thelaurelmagazine.com/wp-content/uploads/2025/06/highlands-nc-molly-grace-candle-pouring-party.jpg
END:VEVENT
BEGIN:VEVENT
DTSTART;TZID=America/New_York:20250619T180000
DTEND;TZID=America/New_York:20250619T180000
DTSTAMP:20260421T110508
CREATED:20250605T190622Z
LAST-MODIFIED:20250605T190622Z
UID:90084-1750356000-1750356000@thelaurelmagazine.com
SUMMARY:Zahner Lecture Series 2 | Are You BearWise? at Highlands Nature Center
DESCRIPTION:Are you BearWise? with Tanya Poole\, Conservation Initiatives Engagement Coordinator for NC Wildlife Resources Commission \nIt’s spring and you know what that means. Warmer temperatures\, beautiful flowers\, trees blooming\, and people venturing out to enjoy it all. It turns out black bears are coming out in large numbers to enjoy some of the same things that humans enjoy. Learn about the conditions that contribute to the black bear population continuing to thrive in Western North Carolina in proximity to so many people. Tanya Poole\, Conservation Initiatives Engagement Coordinator for NC Wildlife Resources Commission\, discusses BearWise strategies recommended by wildlife experts that will help people better coexist with these amazing animals.
URL:https://thelaurelmagazine.com/local-event/zahner-lecture-series-2-are-you-bearwise-at-highlands-nature-center
LOCATION:Highlands Nature Center\, 930 Horse Cove Rd\, Highlands\, NC\, 28741
CATEGORIES:Community,Education
ATTACH;FMTTYPE=image/jpeg:https://thelaurelmagazine.com/wp-content/uploads/2025/06/highlands-nc-nature-center-zahner-lecture-series-tanya-poole-bearwise.jpg
ORGANIZER;CN="Highlands Biological Station":MAILTO:sonya@highlandsbiological.org
END:VEVENT
END:VCALENDAR