BEGIN:VCALENDAR
VERSION:2.0
PRODID:-//Laurel Magazine - ECPv6.15.16//NONSGML v1.0//EN
CALSCALE:GREGORIAN
METHOD:PUBLISH
X-WR-CALNAME:Laurel Magazine
X-ORIGINAL-URL:https://thelaurelmagazine.com
X-WR-CALDESC:Events for Laurel Magazine
REFRESH-INTERVAL;VALUE=DURATION:PT1H
X-Robots-Tag:noindex
X-PUBLISHED-TTL:PT1H
BEGIN:VTIMEZONE
TZID:America/New_York
BEGIN:DAYLIGHT
TZOFFSETFROM:-0500
TZOFFSETTO:-0400
TZNAME:EDT
DTSTART:20240310T070000
END:DAYLIGHT
BEGIN:STANDARD
TZOFFSETFROM:-0400
TZOFFSETTO:-0500
TZNAME:EST
DTSTART:20241103T060000
END:STANDARD
BEGIN:DAYLIGHT
TZOFFSETFROM:-0500
TZOFFSETTO:-0400
TZNAME:EDT
DTSTART:20250309T070000
END:DAYLIGHT
BEGIN:STANDARD
TZOFFSETFROM:-0400
TZOFFSETTO:-0500
TZNAME:EST
DTSTART:20251102T060000
END:STANDARD
BEGIN:DAYLIGHT
TZOFFSETFROM:-0500
TZOFFSETTO:-0400
TZNAME:EDT
DTSTART:20260308T070000
END:DAYLIGHT
BEGIN:STANDARD
TZOFFSETFROM:-0400
TZOFFSETTO:-0500
TZNAME:EST
DTSTART:20261101T060000
END:STANDARD
END:VTIMEZONE
BEGIN:VEVENT
DTSTART;TZID=America/New_York:20250708T183000
DTEND;TZID=America/New_York:20250708T193000
DTSTAMP:20260421T123734
CREATED:20250616T183302Z
LAST-MODIFIED:20250616T183302Z
UID:91089-1751999400-1752003000@thelaurelmagazine.com
SUMMARY:Nature Center Nights | Hunters in the Sky at Highlands Nature Center
DESCRIPTION:Birds of Prey are fascinating\, but are sometimes misperceived due to their predatory instincts. Meet some live raptors and learn about their day to day struggle to survive in our constantly changing world. \nThis program features Carlton Burke of Carolina Mountain Naturalists. \nAll ages welcome\nFREE | Registration required\n(Weather dependent)
URL:https://thelaurelmagazine.com/local-event/nature-center-nights-hunters-in-the-sky-at-highlands-nature-center
LOCATION:Highlands Nature Center\, 930 Horse Cove Rd\, Highlands\, NC\, 28741
CATEGORIES:Community,Education
ATTACH;FMTTYPE=image/jpeg:https://thelaurelmagazine.com/wp-content/uploads/2025/06/highlands-nc-nature-center-nights-hunters-in-the-sky.jpg
END:VEVENT
BEGIN:VEVENT
DTSTART;TZID=America/New_York:20250709T110000
DTEND;TZID=America/New_York:20250709T120000
DTSTAMP:20260421T123734
CREATED:20250609T164604Z
LAST-MODIFIED:20250702T153728Z
UID:90613-1752058800-1752062400@thelaurelmagazine.com
SUMMARY:Tinker Time for Tots at The Literacy and Learning Center
DESCRIPTION:The Literacy & Learning Center is excited to bring back another season of engaging workshops tailored for preschoolers and their parents. The aim is to empower parents by demonstrating inventive ways to utilize everyday household items for their children’s educational benefit. \nThese sessions will showcase practical activities that parents can seamlessly incorporate into their daily routines\, fostering a rich learning environment at home.
URL:https://thelaurelmagazine.com/local-event/tinker-time-for-tots-at-the-literacy-and-learning-center/2025-07-09
LOCATION:The Literacy & Learning Center\, 675 S 4th Street\, Highlands\, NC\, 28741\, United States
CATEGORIES:Community,Education
ATTACH;FMTTYPE=image/jpeg:https://thelaurelmagazine.com/wp-content/uploads/2025/06/highlands-nc-literacy-learning-center-tinker-for-tots.jpg
END:VEVENT
BEGIN:VEVENT
DTSTART;TZID=America/New_York:20250709T130000
DTEND;TZID=America/New_York:20250709T150000
DTSTAMP:20260421T123734
CREATED:20230221T173551Z
LAST-MODIFIED:20260113T174958Z
UID:58167-1752066000-1752073200@thelaurelmagazine.com
SUMMARY:Tech Time at Hudson Library
DESCRIPTION:Have you ever received the gift of a new digital device\, like an iPad\, smartphone or laptop\, but had no idea how to use it? Hudson Library has the perfect solution- \nTech Time sessions offer one-on-one help on any personal digital device. Tech Time is a chance for residents of all ages to bring their devices and ask any questions. Learn how to set up an email account\, mute your cell phone\, back up and store files\, and more. \nTech Times are free. No library card is required and no appointment is necessary. Services are offered on a first-come\, first-served basis. \n 
URL:https://thelaurelmagazine.com/local-event/tech-time-at-hudson-library/2025-07-09
LOCATION:Hudson Library\, 554 Main St\, Highlands\, NC\, 28741\, United States
CATEGORIES:Education
ATTACH;FMTTYPE=image/jpeg:https://thelaurelmagazine.com/wp-content/uploads/2023/02/highlands-nc-hudson-library-tech-time.jpg
END:VEVENT
BEGIN:VEVENT
DTSTART;TZID=America/New_York:20250710T130000
DTEND;TZID=America/New_York:20250710T130000
DTSTAMP:20260421T123734
CREATED:20250605T170611Z
LAST-MODIFIED:20250605T170611Z
UID:90008-1752152400-1752152400@thelaurelmagazine.com
SUMMARY:Summer Writing Workshop at Albert Carlton Cashiers Community Library
DESCRIPTION:Beginning on June 5 at 1:00 p.m. and continuing every Thursday until August 28\, ACCCL staff member Michael Redman will lead a writing workshop that is free and open to everyone\, regardless of previous writing experience. \nThe workshop will be a place to be introduced to techniques\, perspectives\, and exercises to help you develop your writing. It will also provide a safe\,welcoming environment for you to share your own thoughts\, ideas\, and questions.
URL:https://thelaurelmagazine.com/local-event/summer-writing-workshop-at-albert-carlton-cashiers-community-library/2025-07-10
LOCATION:Albert-Carlton Community Library\, 249 Frank Allen Rd\, Cashiers\, NC\, 28741\, United States
CATEGORIES:Community,Education
END:VEVENT
BEGIN:VEVENT
DTSTART;TZID=America/New_York:20250710T153000
DTEND;TZID=America/New_York:20250710T153000
DTSTAMP:20260421T123734
CREATED:20220705T184645Z
LAST-MODIFIED:20220705T184645Z
UID:58198-1752161400-1752161400@thelaurelmagazine.com
SUMMARY:Kids Zone at Hudson Library
DESCRIPTION:Kids Zone features a variety of fun and interesting programs where kids can explore art\, nature\, science & more! Best for ages 5 and up.
URL:https://thelaurelmagazine.com/local-event/kids-zone-thursday-afternoons/2025-07-10
LOCATION:Hudson Library\, 554 Main St\, Highlands\, NC\, 28741\, United States
CATEGORIES:Community,Education
ATTACH;FMTTYPE=image/jpeg:https://thelaurelmagazine.com/wp-content/uploads/2022/07/highlands-nc-hudson-library-program-kids-zone.jpg
END:VEVENT
BEGIN:VEVENT
DTSTART;TZID=America/New_York:20250710T180000
DTEND;TZID=America/New_York:20250710T180000
DTSTAMP:20260421T123734
CREATED:20250616T194839Z
LAST-MODIFIED:20250628T161934Z
UID:91092-1752170400-1752170400@thelaurelmagazine.com
SUMMARY:Zahner Conservation Lecture Series | Cohabitate; Living with Nature at Highlands Nature Center
DESCRIPTION:Sonya Carpenter\, Co-founder and President of Co-habitate Inc. \nThe Highlands Plateau is rich in biological diversity and appreciated for its natural beauty. Development pressure is increasing in Highlands\, and threatens to have a negative impact on our natural resources. Therefore\, neighbors must work together to ensure the natural resources we all appreciate such as clean air and water are protected. We as a community must create a culture in which native species are celebrated\, encouraged\, and harmoniously integrated into public and private landscapes. This is the vision for the new community-based organization\, Co-habitate\, which is dedicated to engaging and educating our neighbors on the intrinsic value of our ecosystem and seeking solutions to environmental degradation due to the pressures of development. Co-habitate co-founders Sonya Carpenter and Canty Worley have a vision for this work and hope to ensure that our plateau is a place where we can all reap the health benefits of nature. In this talk Sonya will introduce some of the activities\, projects\, and opportunities of this new initiative and offer ways that each of us can promote a healthier environment for humans and all of the other species who share the Highlands Plateau. \nSponsored by Jennie Stowers. \nFREE | No registration required
URL:https://thelaurelmagazine.com/local-event/zahner-conservation-lecture-series-cohabitate-living-with-nature-at-highlands-nature-center
LOCATION:Highlands Nature Center\, 930 Horse Cove Rd\, Highlands\, NC\, 28741
CATEGORIES:Community,Education
ATTACH;FMTTYPE=image/jpeg:https://thelaurelmagazine.com/wp-content/uploads/2025/06/highlands-nc-nature-cemter-zahner-lecture-series-4-sonya-carpenter.jpg
END:VEVENT
END:VCALENDAR