BEGIN:VCALENDAR
VERSION:2.0
PRODID:-//Laurel Magazine - ECPv6.15.16//NONSGML v1.0//EN
CALSCALE:GREGORIAN
METHOD:PUBLISH
X-ORIGINAL-URL:https://thelaurelmagazine.com
X-WR-CALDESC:Events for Laurel Magazine
REFRESH-INTERVAL;VALUE=DURATION:PT1H
X-Robots-Tag:noindex
X-PUBLISHED-TTL:PT1H
BEGIN:VTIMEZONE
TZID:America/New_York
BEGIN:DAYLIGHT
TZOFFSETFROM:-0500
TZOFFSETTO:-0400
TZNAME:EDT
DTSTART:20240310T070000
END:DAYLIGHT
BEGIN:STANDARD
TZOFFSETFROM:-0400
TZOFFSETTO:-0500
TZNAME:EST
DTSTART:20241103T060000
END:STANDARD
BEGIN:DAYLIGHT
TZOFFSETFROM:-0500
TZOFFSETTO:-0400
TZNAME:EDT
DTSTART:20250309T070000
END:DAYLIGHT
BEGIN:STANDARD
TZOFFSETFROM:-0400
TZOFFSETTO:-0500
TZNAME:EST
DTSTART:20251102T060000
END:STANDARD
BEGIN:DAYLIGHT
TZOFFSETFROM:-0500
TZOFFSETTO:-0400
TZNAME:EDT
DTSTART:20260308T070000
END:DAYLIGHT
BEGIN:STANDARD
TZOFFSETFROM:-0400
TZOFFSETTO:-0500
TZNAME:EST
DTSTART:20261101T060000
END:STANDARD
END:VTIMEZONE
BEGIN:VEVENT
DTSTART;TZID=America/New_York:20250721T100000
DTEND;TZID=America/New_York:20250721T120000
DTSTAMP:20260421T091738
CREATED:20250709T151543Z
LAST-MODIFIED:20250709T151543Z
UID:93013-1753092000-1753099200@thelaurelmagazine.com
SUMMARY:CLE |Trump 2.0: A Conversation with Andrew Weissmann and Benjamin Wittes at Center for Life Enrichment
DESCRIPTION:Andrew Weissmann\, a CLE favorite\, and Benjamin Wittes\, editor in chief of Lawfare\, will discuss the Trump 2.0 administration’s impact on the United States Department of Justice\, the FBI\, the Intelligence Community and national security. Has the threat to liberal democracy and authoritarian capture that many predicted prior to the election materialized? If not\, what “guardrails” have held\, and can they continue to do so? If so\, what strategies remain available to push back given the extraordinary legal powers delegated to the President in the Constitution and by Congress? How successful has Trump been in “reining in” the media and silencing those opposed to him\, either by initiating criminal investigations or chilling their speech through civil proceedings? Weissmann and Wittes will assess the response of the courts to Trump’s assertions of executive power and his administration’s attempt at “structural deregulation” of administrative agencies. \nExpect a deep dive into the activities of the President\, the administrative state and the courts by two of the country’s foremost thinkers about democracy\, national security and the rule of law.
URL:https://thelaurelmagazine.com/local-event/cle-trump-2-0-a-conversation-with-andrew-weissmann-and-benjamin-wittes-at-center-for-life-enrichment
LOCATION:Center For Life Enrichment\, 348 S 5th St\, Highlands\, NC\, 28741\, United States
CATEGORIES:Community,Education
END:VEVENT
BEGIN:VEVENT
DTSTART;TZID=America/New_York:20250721T140000
DTEND;TZID=America/New_York:20250721T160000
DTSTAMP:20260421T091738
CREATED:20250611T183517Z
LAST-MODIFIED:20250611T183517Z
UID:91046-1753106400-1753113600@thelaurelmagazine.com
SUMMARY:College Essay Boot Camp at The Literacy & Learning Center
DESCRIPTION:High School Seniors  \nCollege Essay Boot Camp is an intensive\, hands-on workshop designed to help students craft standout college application essays. Led by Cameron Alexander\, who taught high school English at Wesleyan School for eight years\, this camp covers the differences between essay types\, analyzes successful examples\, and guides students through brainstorming\, drafting\, peer review\, and editing. By the end of the week\, students will have a polished\, ready-to-submit college essay!
URL:https://thelaurelmagazine.com/local-event/college-essay-boot-camp-at-the-literacy-learning-center
LOCATION:The Literacy & Learning Center\, 675 S 4th Street\, Highlands\, NC\, 28741\, United States
CATEGORIES:Community,Education
ATTACH;FMTTYPE=image/jpeg:https://thelaurelmagazine.com/wp-content/uploads/2025/06/highlands-nc-literacy-learning-center-college-essay-camp.jpg
END:VEVENT
BEGIN:VEVENT
DTSTART;TZID=America/New_York:20250722T140000
DTEND;TZID=America/New_York:20250722T160000
DTSTAMP:20260421T091738
CREATED:20250709T154439Z
LAST-MODIFIED:20250709T154439Z
UID:93021-1753192800-1753200000@thelaurelmagazine.com
SUMMARY:Henry Ossawa Tanner\, America’s First Internationally Recognized African-American Artist at Center for Life Enrichment
DESCRIPTION:In this lecture Dr. Harvey sketches the career of Henry O. Tanner\, from his roots in the AME Church to his studies with Thomas Eakins in Philadelphia and his blossoming career in Paris. Although he is best known for his religious subjects\, painted after his arrival in Paris in 1892\, Tanner has an important connection to Highlands\, where he spent the summer of 1888 during a teaching stint in Atlanta at Clark University. His experiences here influenced two of his widely admired paintings of the African-American community\, The Banjo Lesson (1893) and The Thankful Poor (1894)\, both exhibited to wide acclaim in Europe. \nThis program is in collaboration with the Highlands Historical Society. \nJoin us after Dr. Harvey’s presentation from 4:30 – 6:30 for a wine reception at High Country Wine & Provisions!
URL:https://thelaurelmagazine.com/local-event/henry-ossawa-tanner-americas-first-internationally-recognized-african-american-artist-at-center-for-life-enrichment
LOCATION:Center For Life Enrichment\, 348 S 5th St\, Highlands\, NC\, 28741\, United States
CATEGORIES:Community,Education
END:VEVENT
BEGIN:VEVENT
DTSTART;TZID=America/New_York:20250722T200000
DTEND;TZID=America/New_York:20250722T210000
DTSTAMP:20260421T091738
CREATED:20250616T171405Z
LAST-MODIFIED:20250616T171405Z
UID:91100-1753214400-1753218000@thelaurelmagazine.com
SUMMARY:Nature Center Nights | What Bat is That? at Highlands Nature Center
DESCRIPTION:Stretch your wings and tune into the sounds of the many special bats of the Highlands area! Join our Naturalists on a walk through the Botanical Garden to watch them in flight. \nAll ages welcome\nFREE | Registration required\n(Weather dependent)
URL:https://thelaurelmagazine.com/local-event/nature-center-nights-what-bat-is-that-at-highlands-nature-center/2025-07-22
LOCATION:Highlands Nature Center\, 930 Horse Cove Rd\, Highlands\, NC\, 28741
CATEGORIES:Community,Education
ATTACH;FMTTYPE=image/jpeg:https://thelaurelmagazine.com/wp-content/uploads/2025/06/highlands-nc-nature-center-what-bat-is-that.jpg
END:VEVENT
BEGIN:VEVENT
DTSTART;TZID=America/New_York:20250723T110000
DTEND;TZID=America/New_York:20250723T120000
DTSTAMP:20260421T091738
CREATED:20250609T164604Z
LAST-MODIFIED:20250702T153743Z
UID:90615-1753268400-1753272000@thelaurelmagazine.com
SUMMARY:Tinker Time for Tots at The Literacy and Learning Center
DESCRIPTION:The Literacy & Learning Center is excited to bring back another season of engaging workshops tailored for preschoolers and their parents. The aim is to empower parents by demonstrating inventive ways to utilize everyday household items for their children’s educational benefit. \nThese sessions will showcase practical activities that parents can seamlessly incorporate into their daily routines\, fostering a rich learning environment at home.
URL:https://thelaurelmagazine.com/local-event/tinker-time-for-tots-at-the-literacy-and-learning-center/2025-07-23
LOCATION:The Literacy & Learning Center\, 675 S 4th Street\, Highlands\, NC\, 28741\, United States
CATEGORIES:Community,Education
ATTACH;FMTTYPE=image/jpeg:https://thelaurelmagazine.com/wp-content/uploads/2025/06/highlands-nc-literacy-learning-center-tinker-for-tots.jpg
END:VEVENT
BEGIN:VEVENT
DTSTART;TZID=America/New_York:20250723T130000
DTEND;TZID=America/New_York:20250723T150000
DTSTAMP:20260421T091738
CREATED:20230221T173551Z
LAST-MODIFIED:20260113T174958Z
UID:59236-1753275600-1753282800@thelaurelmagazine.com
SUMMARY:Tech Time at Hudson Library
DESCRIPTION:Have you ever received the gift of a new digital device\, like an iPad\, smartphone or laptop\, but had no idea how to use it? Hudson Library has the perfect solution- \nTech Time sessions offer one-on-one help on any personal digital device. Tech Time is a chance for residents of all ages to bring their devices and ask any questions. Learn how to set up an email account\, mute your cell phone\, back up and store files\, and more. \nTech Times are free. No library card is required and no appointment is necessary. Services are offered on a first-come\, first-served basis. \n 
URL:https://thelaurelmagazine.com/local-event/tech-time-at-hudson-library/2025-07-23
LOCATION:Hudson Library\, 554 Main St\, Highlands\, NC\, 28741\, United States
CATEGORIES:Education
ATTACH;FMTTYPE=image/jpeg:https://thelaurelmagazine.com/wp-content/uploads/2023/02/highlands-nc-hudson-library-tech-time.jpg
END:VEVENT
BEGIN:VEVENT
DTSTART;TZID=America/New_York:20250723T140000
DTEND;TZID=America/New_York:20250723T150000
DTSTAMP:20260421T091738
CREATED:20250709T160541Z
LAST-MODIFIED:20250709T160541Z
UID:93023-1753279200-1753282800@thelaurelmagazine.com
SUMMARY:Unearthing the Past: Geologic Foundations and the Quest for Lithium in the Carolinas at Center for Life Enrichment
DESCRIPTION:The geologic history of the Carolinas spans over one billion years. The forces that built the foundation of the Carolinas have shuffled us between super continents and provided us a wealth of mineral resources. Human history is a tiny fraction of geologic history; however\, we have learned to exploit geology beginning with favored rocks for stone tools through lithium resources for batteries. Research into lithium in the Carolinas is significantly impacted by local\, State\, and national politics\, as well as the global market. Even over the past few years\, there have been significant swings in the enthusiasm surrounding exploration for\, and extraction of\, lithium in the Carolinas. Presently\, the US Geological Survey is taking new stock of historically mined products across the USA searching for resources once cast aside as waste but now valuable. \nThe talk will summarize the geologic history of the Carolinas and link the formation of economic deposits to their origin story. We will see the role of dating rocks in mineral exploration.
URL:https://thelaurelmagazine.com/local-event/unearthing-the-past-geologic-foundations-and-the-quest-for-lithium-in-the-carolinas-at-center-for-life-enrichment
LOCATION:Center For Life Enrichment\, 348 S 5th St\, Highlands\, NC\, 28741\, United States
CATEGORIES:Community,Education
END:VEVENT
BEGIN:VEVENT
DTSTART;TZID=America/New_York:20250724T100000
DTEND;TZID=America/New_York:20250724T120000
DTSTAMP:20260421T091738
CREATED:20250709T160809Z
LAST-MODIFIED:20250709T160809Z
UID:93025-1753351200-1753358400@thelaurelmagazine.com
SUMMARY:Understanding Generative AI: Demystifying the Technology Shaping Our Future at Center for Life Enrichment
DESCRIPTION:Generative AI is reshaping industries and redefining what’s possible in technology\, creativity\, and decision making. In this talk\, we will demystify the terms surrounding AI\, explain the current AI landscape\, and explore its exciting possibilities. From breakthroughs in art and science to its integration into business and healthcare\, generative AI is a transformative force. However\, with great power comes great responsibility. \nThis session will also delve into the risks\, including over reliance\, biased decision-making\, and ethical concerns\, offering a balanced perspective on what AI might mean for the future.
URL:https://thelaurelmagazine.com/local-event/understanding-generative-ai-demystifying-the-technology-shaping-our-future-at-center-for-life-enrichment
LOCATION:Center For Life Enrichment\, 348 S 5th St\, Highlands\, NC\, 28741\, United States
CATEGORIES:Community,Education
END:VEVENT
BEGIN:VEVENT
DTSTART;TZID=America/New_York:20250724T130000
DTEND;TZID=America/New_York:20250724T130000
DTSTAMP:20260421T091738
CREATED:20250605T170611Z
LAST-MODIFIED:20250605T170611Z
UID:90010-1753362000-1753362000@thelaurelmagazine.com
SUMMARY:Summer Writing Workshop at Albert Carlton Cashiers Community Library
DESCRIPTION:Beginning on June 5 at 1:00 p.m. and continuing every Thursday until August 28\, ACCCL staff member Michael Redman will lead a writing workshop that is free and open to everyone\, regardless of previous writing experience. \nThe workshop will be a place to be introduced to techniques\, perspectives\, and exercises to help you develop your writing. It will also provide a safe\,welcoming environment for you to share your own thoughts\, ideas\, and questions.
URL:https://thelaurelmagazine.com/local-event/summer-writing-workshop-at-albert-carlton-cashiers-community-library/2025-07-24
LOCATION:Albert-Carlton Community Library\, 249 Frank Allen Rd\, Cashiers\, NC\, 28741\, United States
CATEGORIES:Community,Education
END:VEVENT
BEGIN:VEVENT
DTSTART;TZID=America/New_York:20250724T130000
DTEND;TZID=America/New_York:20250724T150000
DTSTAMP:20260421T091738
CREATED:20250709T163019Z
LAST-MODIFIED:20250709T163019Z
UID:93027-1753362000-1753369200@thelaurelmagazine.com
SUMMARY:Useful Apps for Adults at Center for Life Enrichment
DESCRIPTION:Join CLE’s tech expert\, Loraine Smith\, for an exciting and educational course of useful apps for adults! News\, Transportation\, Medical/Prescriptions\, Fitness\, Weather\, Delivery\, Accessibility\, Calendar/Tasks\, Travel\, Reminders\, Entertainment\, Payment Systems\, Find My Car\, Find My Phone\, and so much more will be covered! \nPlease bring a charged iPhone or iPad to class. \nAll experience levels are welcome!
URL:https://thelaurelmagazine.com/local-event/useful-apps-for-adults-at-center-for-life-enrichment
LOCATION:NC
CATEGORIES:Community,Education
END:VEVENT
BEGIN:VEVENT
DTSTART;TZID=America/New_York:20250724T153000
DTEND;TZID=America/New_York:20250724T153000
DTSTAMP:20260421T091738
CREATED:20220705T184645Z
LAST-MODIFIED:20220705T184645Z
UID:58485-1753371000-1753371000@thelaurelmagazine.com
SUMMARY:Kids Zone at Hudson Library
DESCRIPTION:Kids Zone features a variety of fun and interesting programs where kids can explore art\, nature\, science & more! Best for ages 5 and up.
URL:https://thelaurelmagazine.com/local-event/kids-zone-thursday-afternoons/2025-07-24
LOCATION:Hudson Library\, 554 Main St\, Highlands\, NC\, 28741\, United States
CATEGORIES:Community,Education
ATTACH;FMTTYPE=image/jpeg:https://thelaurelmagazine.com/wp-content/uploads/2022/07/highlands-nc-hudson-library-program-kids-zone.jpg
END:VEVENT
BEGIN:VEVENT
DTSTART;TZID=America/New_York:20250724T153000
DTEND;TZID=America/New_York:20250724T163000
DTSTAMP:20260421T091738
CREATED:20250709T164929Z
LAST-MODIFIED:20250709T164929Z
UID:93038-1753371000-1753374600@thelaurelmagazine.com
SUMMARY:Password Management at Center for Life Enrichment
DESCRIPTION:In this digital day and age\, it’s easy to lose track of our passwords. Join this helpful course on password management. Learn about various password management apps\, PassKeys\, where to record your passwords\, what a Legacy Contact is\, why it’s important to let trusted loved ones know where your passwords are if needed\, and more. \nSome familiarity with using your Apple device is recommended. \nPlease bring a charged iPhone or iPad to class.
URL:https://thelaurelmagazine.com/local-event/password-management-at-center-for-life-enrichment
LOCATION:Center For Life Enrichment\, 348 S 5th St\, Highlands\, NC\, 28741\, United States
CATEGORIES:Community,Education
END:VEVENT
BEGIN:VEVENT
DTSTART;TZID=America/New_York:20250724T180000
DTEND;TZID=America/New_York:20250724T190000
DTSTAMP:20260421T091738
CREATED:20250616T200407Z
LAST-MODIFIED:20250616T200407Z
UID:91105-1753380000-1753383600@thelaurelmagazine.com
SUMMARY:Zahner Conservation Lecture Series | Understanding Helene as a Geologic Event in Southern Appalachia at Highlands Nature Center
DESCRIPTION:Zahner Conservation Lecture Series Understanding Helene as a Geologic Event in Southern Appalachia…and What is a “Geologic Event” Anyway? \nPhilip S. Prince\, Ph.D.\, Project Geologist\, Appalachian Landslide Consultants\, PLLC\, Virginia Tech Department of Geosciences \n\n\nHelene’s impacts on rivers and slopes in the southern Appalachians exceeded all recorded storms\, establishing a new benchmark for flooding and landsliding from Haywood County to southwest Virginia. The storm’s severity resulted from a specific combination of weather movement and the unique southern Appalachian topography\, whose southeast-facing slopes are perfectly oriented to focus impacts of weather systems from the Gulf. This talk will place the Helene event in a geologic and topographic context\, focusing on what the storm actually did to the landscape and river channels from the perspective of fieldwork and remote sensing. LiDAR imagery and the results of past storms will shed some light on just how long the scars of Helene may last and offer some insight into just how important similar storms may have been in shaping the mountains into what we see today. \nSponsored by Ruthie & Berry Edwards.
URL:https://thelaurelmagazine.com/local-event/zahner-conservation-lecture-series-understanding-helene-as-a-geologic-event-in-southern-appalachia-at-highlands-nature-center
LOCATION:Highlands Nature Center\, 930 Horse Cove Rd\, Highlands\, NC\, 28741
CATEGORIES:Community,Education
ATTACH;FMTTYPE=image/jpeg:https://thelaurelmagazine.com/wp-content/uploads/2025/06/highlands-nc-nature-center-zahner-lecture-philip-prince.jpg
END:VEVENT
BEGIN:VEVENT
DTSTART;TZID=America/New_York:20250725T100000
DTEND;TZID=America/New_York:20250725T120000
DTSTAMP:20260421T091738
CREATED:20250709T165230Z
LAST-MODIFIED:20250709T165230Z
UID:93040-1753437600-1753444800@thelaurelmagazine.com
SUMMARY:Weathering the Storm: Understanding Climate's Impact on Our Future at Center for Life Enrichment
DESCRIPTION:In the aftermath of Hurricane Helene and the raging fires in California\, extreme weather is a topic of wide public concern. When someone asks about the weather\, the focus is typically on what is going on now. When someone asks about climate\, the focus is much broader – the weather over time. The answers to those questions involve a host of variables: pollutants in the atmosphere\, volcanic activity\, solar winds\, and the salinity and temperature of the oceans\, etc. \nDr. Shepherd will discuss how these variables shape weather patterns we experience daily and what can be done now to manage and mitigate their most serious consequences over time. It is a discussion that encompasses not only science and technology but political\, economic\, and social disruption.
URL:https://thelaurelmagazine.com/local-event/weathering-the-storm-understanding-climates-impact-on-our-future-at-center-for-life-enrichment
LOCATION:Center For Life Enrichment\, 348 S 5th St\, Highlands\, NC\, 28741\, United States
CATEGORIES:Community,Education
END:VEVENT
END:VCALENDAR