BEGIN:VCALENDAR
VERSION:2.0
PRODID:-//Laurel Magazine - ECPv6.15.16//NONSGML v1.0//EN
CALSCALE:GREGORIAN
METHOD:PUBLISH
X-ORIGINAL-URL:https://thelaurelmagazine.com
X-WR-CALDESC:Events for Laurel Magazine
REFRESH-INTERVAL;VALUE=DURATION:PT1H
X-Robots-Tag:noindex
X-PUBLISHED-TTL:PT1H
BEGIN:VTIMEZONE
TZID:America/New_York
BEGIN:DAYLIGHT
TZOFFSETFROM:-0500
TZOFFSETTO:-0400
TZNAME:EDT
DTSTART:20250309T070000
END:DAYLIGHT
BEGIN:STANDARD
TZOFFSETFROM:-0400
TZOFFSETTO:-0500
TZNAME:EST
DTSTART:20251102T060000
END:STANDARD
BEGIN:DAYLIGHT
TZOFFSETFROM:-0500
TZOFFSETTO:-0400
TZNAME:EDT
DTSTART:20260308T070000
END:DAYLIGHT
BEGIN:STANDARD
TZOFFSETFROM:-0400
TZOFFSETTO:-0500
TZNAME:EST
DTSTART:20261101T060000
END:STANDARD
BEGIN:DAYLIGHT
TZOFFSETFROM:-0500
TZOFFSETTO:-0400
TZNAME:EDT
DTSTART:20270314T070000
END:DAYLIGHT
BEGIN:STANDARD
TZOFFSETFROM:-0400
TZOFFSETTO:-0500
TZNAME:EST
DTSTART:20271107T060000
END:STANDARD
END:VTIMEZONE
BEGIN:VEVENT
DTSTART;TZID=America/New_York:20260224T180000
DTEND;TZID=America/New_York:20260224T190000
DTSTAMP:20260420T114536
CREATED:20250611T174026Z
LAST-MODIFIED:20260204T151104Z
UID:103603-1771956000-1771959600@thelaurelmagazine.com
SUMMARY:Free ESL Classes at The Literacy and Learning Center
DESCRIPTION:Join us for free ESL classes at The Literacy & Learning Center!  \nTuesdays\n6 – 7 pm \nAt The Literacy & Learning Center
URL:https://thelaurelmagazine.com/local-event/free-esl-online-classes-with-the-literacy-and-learning-center/2026-02-24
LOCATION:The Literacy & Learning Center\, 675 S 4th Street\, Highlands\, NC\, 28741\, United States
CATEGORIES:Education
ATTACH;FMTTYPE=image/jpeg:https://thelaurelmagazine.com/wp-content/uploads/2025/06/highlands-nc-community-education-literacy-learning-center-logo.jpg
END:VEVENT
BEGIN:VEVENT
DTSTART;TZID=America/New_York:20260225T130000
DTEND;TZID=America/New_York:20260225T150000
DTSTAMP:20260420T114536
CREATED:20230221T173551Z
LAST-MODIFIED:20260113T175002Z
UID:67992-1772024400-1772031600@thelaurelmagazine.com
SUMMARY:Tech Time at Hudson Library
DESCRIPTION:Have you ever received the gift of a new digital device\, like an iPad\, smartphone or laptop\, but had no idea how to use it? Hudson Library has the perfect solution- \nTech Time sessions offer one-on-one help on any personal digital device. Tech Time is a chance for residents of all ages to bring their devices and ask any questions. Learn how to set up an email account\, mute your cell phone\, back up and store files\, and more. \nTech Times are free. No library card is required and no appointment is necessary. Services are offered on a first-come\, first-served basis. \n 
URL:https://thelaurelmagazine.com/local-event/tech-time-at-hudson-library/2026-02-25
LOCATION:Hudson Library\, 554 Main St\, Highlands\, NC\, 28741\, United States
CATEGORIES:Education
ATTACH;FMTTYPE=image/jpeg:https://thelaurelmagazine.com/wp-content/uploads/2023/02/highlands-nc-hudson-library-tech-time.jpg
END:VEVENT
END:VCALENDAR