BEGIN:VCALENDAR
VERSION:2.0
PRODID:-//Laurel Magazine - ECPv6.15.16//NONSGML v1.0//EN
CALSCALE:GREGORIAN
METHOD:PUBLISH
X-WR-CALNAME:Laurel Magazine
X-ORIGINAL-URL:https://thelaurelmagazine.com
X-WR-CALDESC:Events for Laurel Magazine
REFRESH-INTERVAL;VALUE=DURATION:PT1H
X-Robots-Tag:noindex
X-PUBLISHED-TTL:PT1H
BEGIN:VTIMEZONE
TZID:America/New_York
BEGIN:DAYLIGHT
TZOFFSETFROM:-0500
TZOFFSETTO:-0400
TZNAME:EDT
DTSTART:20250309T070000
END:DAYLIGHT
BEGIN:STANDARD
TZOFFSETFROM:-0400
TZOFFSETTO:-0500
TZNAME:EST
DTSTART:20251102T060000
END:STANDARD
BEGIN:DAYLIGHT
TZOFFSETFROM:-0500
TZOFFSETTO:-0400
TZNAME:EDT
DTSTART:20260308T070000
END:DAYLIGHT
BEGIN:STANDARD
TZOFFSETFROM:-0400
TZOFFSETTO:-0500
TZNAME:EST
DTSTART:20261101T060000
END:STANDARD
BEGIN:DAYLIGHT
TZOFFSETFROM:-0500
TZOFFSETTO:-0400
TZNAME:EDT
DTSTART:20270314T070000
END:DAYLIGHT
BEGIN:STANDARD
TZOFFSETFROM:-0400
TZOFFSETTO:-0500
TZNAME:EST
DTSTART:20271107T060000
END:STANDARD
END:VTIMEZONE
BEGIN:VEVENT
DTSTART;TZID=America/New_York:20260310T180000
DTEND;TZID=America/New_York:20260310T190000
DTSTAMP:20260420T151925
CREATED:20250611T174026Z
LAST-MODIFIED:20260204T151112Z
UID:103605-1773165600-1773169200@thelaurelmagazine.com
SUMMARY:Free ESL Classes at The Literacy and Learning Center
DESCRIPTION:Join us for free ESL classes at The Literacy & Learning Center!  \nTuesdays\n6 – 7 pm \nAt The Literacy & Learning Center
URL:https://thelaurelmagazine.com/local-event/free-esl-online-classes-with-the-literacy-and-learning-center/2026-03-10
LOCATION:The Literacy & Learning Center\, 675 S 4th Street\, Highlands\, NC\, 28741\, United States
CATEGORIES:Education
ATTACH;FMTTYPE=image/jpeg:https://thelaurelmagazine.com/wp-content/uploads/2025/06/highlands-nc-community-education-literacy-learning-center-logo.jpg
END:VEVENT
BEGIN:VEVENT
DTSTART;TZID=America/New_York:20260311T130000
DTEND;TZID=America/New_York:20260311T150000
DTSTAMP:20260420T151925
CREATED:20230221T173551Z
LAST-MODIFIED:20260113T175002Z
UID:67991-1773234000-1773241200@thelaurelmagazine.com
SUMMARY:Tech Time at Hudson Library
DESCRIPTION:Have you ever received the gift of a new digital device\, like an iPad\, smartphone or laptop\, but had no idea how to use it? Hudson Library has the perfect solution- \nTech Time sessions offer one-on-one help on any personal digital device. Tech Time is a chance for residents of all ages to bring their devices and ask any questions. Learn how to set up an email account\, mute your cell phone\, back up and store files\, and more. \nTech Times are free. No library card is required and no appointment is necessary. Services are offered on a first-come\, first-served basis. \n 
URL:https://thelaurelmagazine.com/local-event/tech-time-at-hudson-library/2026-03-11
LOCATION:Hudson Library\, 554 Main St\, Highlands\, NC\, 28741\, United States
CATEGORIES:Education
ATTACH;FMTTYPE=image/jpeg:https://thelaurelmagazine.com/wp-content/uploads/2023/02/highlands-nc-hudson-library-tech-time.jpg
END:VEVENT
BEGIN:VEVENT
DTSTART;TZID=America/New_York:20260311T173000
DTEND;TZID=America/New_York:20260311T190000
DTSTAMP:20260420T151925
CREATED:20260317T143023Z
LAST-MODIFIED:20260317T143023Z
UID:116107-1773250200-1773255600@thelaurelmagazine.com
SUMMARY:Citizenship Class with Faviola Olvera at The Literacy & Learning Center
DESCRIPTION:Ready to take the next step toward U.S. citizenship? 🇺🇸 The Literacy & Learning Center is here to support your journey with our FREE weekly Citizenship Class!\n \nLed by Faviola Olvera\, this program is designed to help you navigate the naturalization exam with total confidence. \nWhat We Cover:\n \nEnglish Test Prep: Practice the speaking\, reading\, and writing skills needed for the exam.\nReading & Writing Proficiency: Get structured practice for the specific sentences you’ll need to read and write during the official test.\nCivics Test: We cover all 100 possible questions on U.S. history and government\, including the principles of democracy and the system of government. \nWednesdays 5:30-7 PM
URL:https://thelaurelmagazine.com/local-event/citizenship-class-with-faviola-olvera-at-the-literacy-learning-center/2026-03-11
LOCATION:The Literacy & Learning Center\, 675 S 4th Street\, Highlands\, NC\, 28741\, United States
CATEGORIES:Community,Education
ATTACH;FMTTYPE=image/jpeg:https://thelaurelmagazine.com/wp-content/uploads/2026/03/highlands-nc-education-literacy-learning-center-citizenship-class.jpg
END:VEVENT
BEGIN:VEVENT
DTSTART;TZID=America/New_York:20260313T100000
DTEND;TZID=America/New_York:20260313T153000
DTSTAMP:20260420T151925
CREATED:20260309T174706Z
LAST-MODIFIED:20260309T174706Z
UID:115986-1773396000-1773415800@thelaurelmagazine.com
SUMMARY:EcoExplore Plant Scavenger Hunt at Highlands Nature Center
DESCRIPTION:Spring is right around the corner\, and we’re already seeing some fresh pops of green! We will kick off the ecoEXPLORE Botany Field Season with a plant scavenger hunt along the Botanical Garden trails and the Boardwalk. Participants will work to complete a plant identification challenge while gaining a deeper understanding of the natural world around them.\n\necoEXPLORE is a community science program created by the North Carolina Arboretum\, where children of all ages can learn to identify wildlife around them\, help scientists track wildlife activity\, and earn fun badges and prizes all at once! To learn more\, please visit . \nMarch 13-14 & 27-28\nFREE | Drop-in from 10 am – 3:30 pm
URL:https://thelaurelmagazine.com/local-event/ecoexplore-plant-scavenger-hunt-at-highlands-nature-center/2026-03-13
LOCATION:Highlands Nature Center\, 930 Horse Cove Rd\, Highlands\, NC\, 28741
CATEGORIES:Community,Education
ATTACH;FMTTYPE=image/jpeg:https://thelaurelmagazine.com/wp-content/uploads/2026/03/highlands-nc-highlands-nature-center-ecoexplorers.jpg
END:VEVENT
BEGIN:VEVENT
DTSTART;TZID=America/New_York:20260313T100000
DTEND;TZID=America/New_York:20260313T153000
DTSTAMP:20260420T151925
CREATED:20260309T204225Z
LAST-MODIFIED:20260309T204225Z
UID:116001-1773396000-1773415800@thelaurelmagazine.com
SUMMARY:Tree Texture Investigation at Highlands Nature Center
DESCRIPTION:Join us at the Nature Center to make your very own Bark Book! \nEnjoy a stroll through the forest to create unique texture impressions of different tree bark patterns\, and learn some tips and tricks to help you identify your findings. Making your own Bark Book is a great way to explore nature\, learn about trees\, and create art! \nMarch 13-14 & 27-28\nFREE | Drop-in from 10 am – 3:30 pm
URL:https://thelaurelmagazine.com/local-event/tree-texture-investigation-at-highlands-nature-center/2026-03-13
LOCATION:Highlands Nature Center\, 930 Horse Cove Rd\, Highlands\, NC\, 28741
CATEGORIES:Community,Education
ATTACH;FMTTYPE=image/jpeg:https://thelaurelmagazine.com/wp-content/uploads/2026/03/highlands-nc-highlands-nature-center-tree-texture-investigation.jpg
END:VEVENT
BEGIN:VEVENT
DTSTART;TZID=America/New_York:20260314T100000
DTEND;TZID=America/New_York:20260314T153000
DTSTAMP:20260420T151925
CREATED:20260309T174706Z
LAST-MODIFIED:20260309T174706Z
UID:115989-1773482400-1773502200@thelaurelmagazine.com
SUMMARY:EcoExplore Plant Scavenger Hunt at Highlands Nature Center
DESCRIPTION:Spring is right around the corner\, and we’re already seeing some fresh pops of green! We will kick off the ecoEXPLORE Botany Field Season with a plant scavenger hunt along the Botanical Garden trails and the Boardwalk. Participants will work to complete a plant identification challenge while gaining a deeper understanding of the natural world around them.\n\necoEXPLORE is a community science program created by the North Carolina Arboretum\, where children of all ages can learn to identify wildlife around them\, help scientists track wildlife activity\, and earn fun badges and prizes all at once! To learn more\, please visit . \nMarch 13-14 & 27-28\nFREE | Drop-in from 10 am – 3:30 pm
URL:https://thelaurelmagazine.com/local-event/ecoexplore-plant-scavenger-hunt-at-highlands-nature-center/2026-03-14
LOCATION:Highlands Nature Center\, 930 Horse Cove Rd\, Highlands\, NC\, 28741
CATEGORIES:Community,Education
ATTACH;FMTTYPE=image/jpeg:https://thelaurelmagazine.com/wp-content/uploads/2026/03/highlands-nc-highlands-nature-center-ecoexplorers.jpg
END:VEVENT
BEGIN:VEVENT
DTSTART;TZID=America/New_York:20260314T100000
DTEND;TZID=America/New_York:20260314T153000
DTSTAMP:20260420T151925
CREATED:20260309T204225Z
LAST-MODIFIED:20260309T204225Z
UID:116005-1773482400-1773502200@thelaurelmagazine.com
SUMMARY:Tree Texture Investigation at Highlands Nature Center
DESCRIPTION:Join us at the Nature Center to make your very own Bark Book! \nEnjoy a stroll through the forest to create unique texture impressions of different tree bark patterns\, and learn some tips and tricks to help you identify your findings. Making your own Bark Book is a great way to explore nature\, learn about trees\, and create art! \nMarch 13-14 & 27-28\nFREE | Drop-in from 10 am – 3:30 pm
URL:https://thelaurelmagazine.com/local-event/tree-texture-investigation-at-highlands-nature-center/2026-03-14
LOCATION:Highlands Nature Center\, 930 Horse Cove Rd\, Highlands\, NC\, 28741
CATEGORIES:Community,Education
ATTACH;FMTTYPE=image/jpeg:https://thelaurelmagazine.com/wp-content/uploads/2026/03/highlands-nc-highlands-nature-center-tree-texture-investigation.jpg
END:VEVENT
END:VCALENDAR