BEGIN:VCALENDAR
VERSION:2.0
PRODID:-//Laurel Magazine - ECPv6.15.16//NONSGML v1.0//EN
CALSCALE:GREGORIAN
METHOD:PUBLISH
X-ORIGINAL-URL:https://thelaurelmagazine.com
X-WR-CALDESC:Events for Laurel Magazine
REFRESH-INTERVAL;VALUE=DURATION:PT1H
X-Robots-Tag:noindex
X-PUBLISHED-TTL:PT1H
BEGIN:VTIMEZONE
TZID:America/New_York
BEGIN:DAYLIGHT
TZOFFSETFROM:-0500
TZOFFSETTO:-0400
TZNAME:EDT
DTSTART:20250309T070000
END:DAYLIGHT
BEGIN:STANDARD
TZOFFSETFROM:-0400
TZOFFSETTO:-0500
TZNAME:EST
DTSTART:20251102T060000
END:STANDARD
BEGIN:DAYLIGHT
TZOFFSETFROM:-0500
TZOFFSETTO:-0400
TZNAME:EDT
DTSTART:20260308T070000
END:DAYLIGHT
BEGIN:STANDARD
TZOFFSETFROM:-0400
TZOFFSETTO:-0500
TZNAME:EST
DTSTART:20261101T060000
END:STANDARD
BEGIN:DAYLIGHT
TZOFFSETFROM:-0500
TZOFFSETTO:-0400
TZNAME:EDT
DTSTART:20270314T070000
END:DAYLIGHT
BEGIN:STANDARD
TZOFFSETFROM:-0400
TZOFFSETTO:-0500
TZNAME:EST
DTSTART:20271107T060000
END:STANDARD
END:VTIMEZONE
BEGIN:VEVENT
DTSTART;TZID=America/New_York:20260428T180000
DTEND;TZID=America/New_York:20260428T190000
DTSTAMP:20260420T152036
CREATED:20250611T174026Z
LAST-MODIFIED:20260204T151113Z
UID:103612-1777399200-1777402800@thelaurelmagazine.com
SUMMARY:Free ESL Classes at The Literacy and Learning Center
DESCRIPTION:Join us for free ESL classes at The Literacy & Learning Center!  \nTuesdays\n6 – 7 pm \nAt The Literacy & Learning Center
URL:https://thelaurelmagazine.com/local-event/free-esl-online-classes-with-the-literacy-and-learning-center/2026-04-28
LOCATION:The Literacy & Learning Center\, 675 S 4th Street\, Highlands\, NC\, 28741\, United States
CATEGORIES:Education
ATTACH;FMTTYPE=image/jpeg:https://thelaurelmagazine.com/wp-content/uploads/2025/06/highlands-nc-community-education-literacy-learning-center-logo.jpg
END:VEVENT
BEGIN:VEVENT
DTSTART;TZID=America/New_York:20260429T173000
DTEND;TZID=America/New_York:20260429T190000
DTSTAMP:20260420T152036
CREATED:20260317T143023Z
LAST-MODIFIED:20260317T143023Z
UID:116118-1777483800-1777489200@thelaurelmagazine.com
SUMMARY:Citizenship Class with Faviola Olvera at The Literacy & Learning Center
DESCRIPTION:Ready to take the next step toward U.S. citizenship? 🇺🇸 The Literacy & Learning Center is here to support your journey with our FREE weekly Citizenship Class!\n \nLed by Faviola Olvera\, this program is designed to help you navigate the naturalization exam with total confidence. \nWhat We Cover:\n \nEnglish Test Prep: Practice the speaking\, reading\, and writing skills needed for the exam.\nReading & Writing Proficiency: Get structured practice for the specific sentences you’ll need to read and write during the official test.\nCivics Test: We cover all 100 possible questions on U.S. history and government\, including the principles of democracy and the system of government. \nWednesdays 5:30-7 PM
URL:https://thelaurelmagazine.com/local-event/citizenship-class-with-faviola-olvera-at-the-literacy-learning-center/2026-04-29
LOCATION:The Literacy & Learning Center\, 675 S 4th Street\, Highlands\, NC\, 28741\, United States
CATEGORIES:Community,Education
ATTACH;FMTTYPE=image/jpeg:https://thelaurelmagazine.com/wp-content/uploads/2026/03/highlands-nc-education-literacy-learning-center-citizenship-class.jpg
END:VEVENT
BEGIN:VEVENT
DTSTART;TZID=America/New_York:20260501T093000
DTEND;TZID=America/New_York:20260501T153000
DTSTAMP:20260420T152036
CREATED:20260416T161606Z
LAST-MODIFIED:20260416T161606Z
UID:117166-1777627800-1777649400@thelaurelmagazine.com
SUMMARY:Mindful Birding Workshop at Highlands Biological Station
DESCRIPTION:Mindful Birding with Instructor Topher Stephens \nMindful Birding is a practice of heightening our awareness and opening our senses—and our hearts—to the beauty of the natural world. Unlike traditional bird walks where identifying and listing species is the primary goal\, this workshop invites participants to slow down and experience birds in a more attentive and reflective way. \nThroughout the day\, we will move slowly through the landscape\, allowing ourselves the rare opportunity to observe individual birds with patience and curiosity. While we will certainly help participants spot birds and notice some of their distinctive characteristics\, our focus will be on presence\, observation\, and connection rather than checklists. \nUsing birds as our guides\, participants will explore ways to deepen their relationship with the living landscape while also becoming more aware of their own internal experiences of awe\, joy\, and wonder in nature. Through quiet observation\, guided reflection\, and gentle discussion\, this workshop creates space to engage with birds—and the environment around us—in a more mindful and meaningful way. \nMindful Birding is designed to be welcoming and accessible to everyone. No experience with birding or mindfulness practices is necessary. In fact\, we will all be cultivating a “beginner’s mind\,” approaching the natural world with openness\, curiosity\, and fresh attention. \nThis workshop offers a unique opportunity to slow down\, tune in\, and rediscover the simple yet profound experience of being present in nature. \nPlease Bring \n• Binoculars if you have them (loaner pairs will be available if needed)\n• A lightweight Crazy Creek–style camp chair or small foam pad for sitting\n• Weather-appropriate layers and comfortable outdoor footwear
URL:https://thelaurelmagazine.com/local-event/mindful-birding-workshop-at-highlands-biological-station
LOCATION:Highlands Biological Station\, 265 N 6th St\, Highlands\, NC\, 28741\, United States
CATEGORIES:Education
ATTACH;FMTTYPE=image/jpeg:https://thelaurelmagazine.com/wp-content/uploads/2026/04/highlands-nc-biological-station-mindful-birding-workshop.jpg
END:VEVENT
END:VCALENDAR