BEGIN:VCALENDAR
VERSION:2.0
PRODID:-//Laurel Magazine - ECPv6.15.16//NONSGML v1.0//EN
CALSCALE:GREGORIAN
METHOD:PUBLISH
X-WR-CALNAME:Laurel Magazine
X-ORIGINAL-URL:https://thelaurelmagazine.com
X-WR-CALDESC:Events for Laurel Magazine
REFRESH-INTERVAL;VALUE=DURATION:PT1H
X-Robots-Tag:noindex
X-PUBLISHED-TTL:PT1H
BEGIN:VTIMEZONE
TZID:America/New_York
BEGIN:DAYLIGHT
TZOFFSETFROM:-0500
TZOFFSETTO:-0400
TZNAME:EDT
DTSTART:20210314T070000
END:DAYLIGHT
BEGIN:STANDARD
TZOFFSETFROM:-0400
TZOFFSETTO:-0500
TZNAME:EST
DTSTART:20211107T060000
END:STANDARD
BEGIN:DAYLIGHT
TZOFFSETFROM:-0500
TZOFFSETTO:-0400
TZNAME:EDT
DTSTART:20220313T070000
END:DAYLIGHT
BEGIN:STANDARD
TZOFFSETFROM:-0400
TZOFFSETTO:-0500
TZNAME:EST
DTSTART:20221106T060000
END:STANDARD
BEGIN:DAYLIGHT
TZOFFSETFROM:-0500
TZOFFSETTO:-0400
TZNAME:EDT
DTSTART:20230312T070000
END:DAYLIGHT
BEGIN:STANDARD
TZOFFSETFROM:-0400
TZOFFSETTO:-0500
TZNAME:EST
DTSTART:20231105T060000
END:STANDARD
BEGIN:DAYLIGHT
TZOFFSETFROM:-0500
TZOFFSETTO:-0400
TZNAME:EDT
DTSTART:20240310T070000
END:DAYLIGHT
BEGIN:STANDARD
TZOFFSETFROM:-0400
TZOFFSETTO:-0500
TZNAME:EST
DTSTART:20241103T060000
END:STANDARD
BEGIN:DAYLIGHT
TZOFFSETFROM:-0500
TZOFFSETTO:-0400
TZNAME:EDT
DTSTART:20250309T070000
END:DAYLIGHT
BEGIN:STANDARD
TZOFFSETFROM:-0400
TZOFFSETTO:-0500
TZNAME:EST
DTSTART:20251102T060000
END:STANDARD
BEGIN:DAYLIGHT
TZOFFSETFROM:-0500
TZOFFSETTO:-0400
TZNAME:EDT
DTSTART:20260308T070000
END:DAYLIGHT
BEGIN:STANDARD
TZOFFSETFROM:-0400
TZOFFSETTO:-0500
TZNAME:EST
DTSTART:20261101T060000
END:STANDARD
END:VTIMEZONE
BEGIN:VEVENT
DTSTART;TZID=America/New_York:20250701T203000
DTEND;TZID=America/New_York:20250701T213000
DTSTAMP:20260419T175726
CREATED:20250616T174523Z
LAST-MODIFIED:20250616T174523Z
UID:91086-1751401800-1751405400@thelaurelmagazine.com
SUMMARY:Nature Center Nights | Amazing Moths at Highlands Nature Center
DESCRIPTION:To celebrate International Moth Week we’ll put up some moth lights to meet and learn more about the amazing moths who live here. \nAll ages welcome\nFREE | Registration required\n(Weather dependent)
URL:https://thelaurelmagazine.com/local-event/nature-center-nights-amazing-moths-at-highlands-nature-center-2
LOCATION:Highlands Nature Center\, 930 Horse Cove Rd\, Highlands\, NC\, 28741
CATEGORIES:Community,Exhibits
ATTACH;FMTTYPE=image/jpeg:https://thelaurelmagazine.com/wp-content/uploads/2025/06/highlands-nc-nature-center-nights-amazing-moths.jpg
END:VEVENT
BEGIN:VEVENT
DTSTART;TZID=America/New_York:20250614T100000
DTEND;TZID=America/New_York:20250614T170000
DTSTAMP:20260419T175726
CREATED:20250609T163113Z
LAST-MODIFIED:20250609T163113Z
UID:90602-1749895200-1749920400@thelaurelmagazine.com
SUMMARY:Game of Shrooms (Scavenger Hunt) at The Bascom
DESCRIPTION:The next Game of Shrooms happens on June 14th\, 2025. On that day\, artists from all over the world hide their original mushroom-themed art works in public places then they give hints (often on social media) for others to find AND KEEP! \nThis year\, The Bascom invites you to participate by exploring the Horst Winkler Sculpture Trail\, where ceramic mushroom necklaces crafted by students in The Bascom’s Clay Studio will be hidden. Clues to their locations will be shared on The Bascom’s social media—follow along and join the fun!
URL:https://thelaurelmagazine.com/local-event/game-of-shrooms-scavenger-hunt-at-the-bascom
LOCATION:The Bascom\, 323 Franklin Rd\, Highlands\, NC\, 28741\, United States
CATEGORIES:Community,Exhibits
ATTACH;FMTTYPE=image/jpeg:https://thelaurelmagazine.com/wp-content/uploads/2025/06/highlands-nc-bascom-game-of-shrooms.jpg
END:VEVENT
BEGIN:VEVENT
DTSTART;TZID=America/New_York:20241026T170000
DTEND;TZID=America/New_York:20241026T170000
DTSTAMP:20260419T175726
CREATED:20240917T014041Z
LAST-MODIFIED:20240917T014041Z
UID:73140-1729962000-1729962000@thelaurelmagazine.com
SUMMARY:Walk in the Park with Highlands Historical Society
DESCRIPTION:Join the Highlands Historical Society as we visit our forefathers in Highlands Memorial Cemetery by highlighting the movers and shakers who made Highlands what it is today. \nThis event is sponsored by the Highlands Historical Society. \nFor more information\, visit highlandshistory.com or call 828-787-1050.
URL:https://thelaurelmagazine.com/local-event/walk-in-the-park-with-highlands-historical-society/2024-10-26/2
LOCATION:NC
CATEGORIES:Community,Education,Exhibits
ATTACH;FMTTYPE=image/jpeg:https://thelaurelmagazine.com/wp-content/uploads/2024/09/highlands-nc-historical-society-walk-in-park.jpg
END:VEVENT
BEGIN:VEVENT
DTSTART;TZID=America/New_York:20241026T143000
DTEND;TZID=America/New_York:20241026T143000
DTSTAMP:20260419T175726
CREATED:20240917T014041Z
LAST-MODIFIED:20240917T014041Z
UID:73137-1729953000-1729953000@thelaurelmagazine.com
SUMMARY:Walk in the Park with Highlands Historical Society
DESCRIPTION:Join the Highlands Historical Society as we visit our forefathers in Highlands Memorial Cemetery by highlighting the movers and shakers who made Highlands what it is today. \nThis event is sponsored by the Highlands Historical Society. \nFor more information\, visit highlandshistory.com or call 828-787-1050.
URL:https://thelaurelmagazine.com/local-event/walk-in-the-park-with-highlands-historical-society/2024-10-26
LOCATION:NC
CATEGORIES:Community,Education,Exhibits
ATTACH;FMTTYPE=image/jpeg:https://thelaurelmagazine.com/wp-content/uploads/2024/09/highlands-nc-historical-society-walk-in-park.jpg
END:VEVENT
BEGIN:VEVENT
DTSTART;TZID=America/New_York:20240831T100000
DTEND;TZID=America/New_York:20240831T170000
DTSTAMP:20260419T175726
CREATED:20240811T230102Z
LAST-MODIFIED:20240811T230102Z
UID:72339-1725098400-1725123600@thelaurelmagazine.com
SUMMARY:CHS "Talking Trout" Exhibit  at Brooking Anglers Fly Shop
DESCRIPTION:The Cashiers Historical Society’s Jan Wyatt Symposium Exhibit “Talking Trout” will be displayed at Brookings Anglers Fly Shop throughout the run of the 2024 Showhouse. \nStop by Brookings Cashiers location to see the exhibit and to learn about the history and evolution of native trout and fly fishing in Western NC.
URL:https://thelaurelmagazine.com/local-event/chs-talking-trout-exhibit-at-brooking-anglers-fly-shop/2024-08-31
LOCATION:NC
CATEGORIES:Community,Exhibits
ATTACH;FMTTYPE=image/jpeg:https://thelaurelmagazine.com/wp-content/uploads/2024/08/brookings-anglers-fly-shop.jpg
ORGANIZER;CN="Cashiers Historical Society":MAILTO:info@cashiershistoricalsociety.org
END:VEVENT
BEGIN:VEVENT
DTSTART;TZID=America/New_York:20240830T100000
DTEND;TZID=America/New_York:20240830T170000
DTSTAMP:20260419T175726
CREATED:20240811T230102Z
LAST-MODIFIED:20240811T230102Z
UID:72338-1725012000-1725037200@thelaurelmagazine.com
SUMMARY:CHS "Talking Trout" Exhibit  at Brooking Anglers Fly Shop
DESCRIPTION:The Cashiers Historical Society’s Jan Wyatt Symposium Exhibit “Talking Trout” will be displayed at Brookings Anglers Fly Shop throughout the run of the 2024 Showhouse. \nStop by Brookings Cashiers location to see the exhibit and to learn about the history and evolution of native trout and fly fishing in Western NC.
URL:https://thelaurelmagazine.com/local-event/chs-talking-trout-exhibit-at-brooking-anglers-fly-shop/2024-08-30
LOCATION:NC
CATEGORIES:Community,Exhibits
ATTACH;FMTTYPE=image/jpeg:https://thelaurelmagazine.com/wp-content/uploads/2024/08/brookings-anglers-fly-shop.jpg
ORGANIZER;CN="Cashiers Historical Society":MAILTO:info@cashiershistoricalsociety.org
END:VEVENT
BEGIN:VEVENT
DTSTART;TZID=America/New_York:20240829T100000
DTEND;TZID=America/New_York:20240829T170000
DTSTAMP:20260419T175726
CREATED:20240811T230102Z
LAST-MODIFIED:20240811T230102Z
UID:72337-1724925600-1724950800@thelaurelmagazine.com
SUMMARY:CHS "Talking Trout" Exhibit  at Brooking Anglers Fly Shop
DESCRIPTION:The Cashiers Historical Society’s Jan Wyatt Symposium Exhibit “Talking Trout” will be displayed at Brookings Anglers Fly Shop throughout the run of the 2024 Showhouse. \nStop by Brookings Cashiers location to see the exhibit and to learn about the history and evolution of native trout and fly fishing in Western NC.
URL:https://thelaurelmagazine.com/local-event/chs-talking-trout-exhibit-at-brooking-anglers-fly-shop/2024-08-29
LOCATION:NC
CATEGORIES:Community,Exhibits
ATTACH;FMTTYPE=image/jpeg:https://thelaurelmagazine.com/wp-content/uploads/2024/08/brookings-anglers-fly-shop.jpg
ORGANIZER;CN="Cashiers Historical Society":MAILTO:info@cashiershistoricalsociety.org
END:VEVENT
BEGIN:VEVENT
DTSTART;TZID=America/New_York:20240828T100000
DTEND;TZID=America/New_York:20240828T170000
DTSTAMP:20260419T175726
CREATED:20240811T230102Z
LAST-MODIFIED:20240811T230102Z
UID:72336-1724839200-1724864400@thelaurelmagazine.com
SUMMARY:CHS "Talking Trout" Exhibit  at Brooking Anglers Fly Shop
DESCRIPTION:The Cashiers Historical Society’s Jan Wyatt Symposium Exhibit “Talking Trout” will be displayed at Brookings Anglers Fly Shop throughout the run of the 2024 Showhouse. \nStop by Brookings Cashiers location to see the exhibit and to learn about the history and evolution of native trout and fly fishing in Western NC.
URL:https://thelaurelmagazine.com/local-event/chs-talking-trout-exhibit-at-brooking-anglers-fly-shop/2024-08-28
LOCATION:NC
CATEGORIES:Community,Exhibits
ATTACH;FMTTYPE=image/jpeg:https://thelaurelmagazine.com/wp-content/uploads/2024/08/brookings-anglers-fly-shop.jpg
ORGANIZER;CN="Cashiers Historical Society":MAILTO:info@cashiershistoricalsociety.org
END:VEVENT
BEGIN:VEVENT
DTSTART;TZID=America/New_York:20240827T100000
DTEND;TZID=America/New_York:20240827T170000
DTSTAMP:20260419T175726
CREATED:20240811T230102Z
LAST-MODIFIED:20240811T230102Z
UID:72335-1724752800-1724778000@thelaurelmagazine.com
SUMMARY:CHS "Talking Trout" Exhibit  at Brooking Anglers Fly Shop
DESCRIPTION:The Cashiers Historical Society’s Jan Wyatt Symposium Exhibit “Talking Trout” will be displayed at Brookings Anglers Fly Shop throughout the run of the 2024 Showhouse. \nStop by Brookings Cashiers location to see the exhibit and to learn about the history and evolution of native trout and fly fishing in Western NC.
URL:https://thelaurelmagazine.com/local-event/chs-talking-trout-exhibit-at-brooking-anglers-fly-shop/2024-08-27
LOCATION:NC
CATEGORIES:Community,Exhibits
ATTACH;FMTTYPE=image/jpeg:https://thelaurelmagazine.com/wp-content/uploads/2024/08/brookings-anglers-fly-shop.jpg
ORGANIZER;CN="Cashiers Historical Society":MAILTO:info@cashiershistoricalsociety.org
END:VEVENT
BEGIN:VEVENT
DTSTART;TZID=America/New_York:20240826T100000
DTEND;TZID=America/New_York:20240826T170000
DTSTAMP:20260419T175726
CREATED:20240811T230102Z
LAST-MODIFIED:20240811T230102Z
UID:72334-1724666400-1724691600@thelaurelmagazine.com
SUMMARY:CHS "Talking Trout" Exhibit  at Brooking Anglers Fly Shop
DESCRIPTION:The Cashiers Historical Society’s Jan Wyatt Symposium Exhibit “Talking Trout” will be displayed at Brookings Anglers Fly Shop throughout the run of the 2024 Showhouse. \nStop by Brookings Cashiers location to see the exhibit and to learn about the history and evolution of native trout and fly fishing in Western NC.
URL:https://thelaurelmagazine.com/local-event/chs-talking-trout-exhibit-at-brooking-anglers-fly-shop/2024-08-26
LOCATION:NC
CATEGORIES:Community,Exhibits
ATTACH;FMTTYPE=image/jpeg:https://thelaurelmagazine.com/wp-content/uploads/2024/08/brookings-anglers-fly-shop.jpg
ORGANIZER;CN="Cashiers Historical Society":MAILTO:info@cashiershistoricalsociety.org
END:VEVENT
BEGIN:VEVENT
DTSTART;TZID=America/New_York:20240825T100000
DTEND;TZID=America/New_York:20240825T170000
DTSTAMP:20260419T175726
CREATED:20240811T230102Z
LAST-MODIFIED:20240811T230102Z
UID:72333-1724580000-1724605200@thelaurelmagazine.com
SUMMARY:CHS "Talking Trout" Exhibit  at Brooking Anglers Fly Shop
DESCRIPTION:The Cashiers Historical Society’s Jan Wyatt Symposium Exhibit “Talking Trout” will be displayed at Brookings Anglers Fly Shop throughout the run of the 2024 Showhouse. \nStop by Brookings Cashiers location to see the exhibit and to learn about the history and evolution of native trout and fly fishing in Western NC.
URL:https://thelaurelmagazine.com/local-event/chs-talking-trout-exhibit-at-brooking-anglers-fly-shop/2024-08-25
LOCATION:NC
CATEGORIES:Community,Exhibits
ATTACH;FMTTYPE=image/jpeg:https://thelaurelmagazine.com/wp-content/uploads/2024/08/brookings-anglers-fly-shop.jpg
ORGANIZER;CN="Cashiers Historical Society":MAILTO:info@cashiershistoricalsociety.org
END:VEVENT
BEGIN:VEVENT
DTSTART;TZID=America/New_York:20240825T100000
DTEND;TZID=America/New_York:20240825T160000
DTSTAMP:20260419T175726
CREATED:20240418T143545Z
LAST-MODIFIED:20240418T143545Z
UID:68888-1724580000-1724601600@thelaurelmagazine.com
SUMMARY:Mountaintop Art and Craft Show at Kelsey Hutchinson Founders Park
DESCRIPTION:A weekend event brings over 80 artisans from the region to Highlands for demonstrations\, fine art\, crafts\, entertainment. \nThis biannual show has become an important part of the broad spectrum of summer events here in Highlands\, and many people visiting the mountains make this a part of their annual summer visit. \nOrganized by Mountaintop Rotary Club of Highlands.
URL:https://thelaurelmagazine.com/local-event/mountaintop-art-and-craft-show-at-kelsey-hutchinson-founders-park/2024-08-25
LOCATION:Kelsey-Hutchinson Founders Park\, 411 Pine St.\, Highlands\, NC\, 28741\, United States
CATEGORIES:Community,Exhibits,Shopping,Visual Arts
ATTACH;FMTTYPE=image/jpeg:https://thelaurelmagazine.com/wp-content/uploads/2023/08/highlands-nc-kelsey-hutchinson-park-mountaintop-arts-crafts-show.jpg
ORGANIZER;CN="Mountaintop Rotary Club":MAILTO:tripvic@aol.com
END:VEVENT
BEGIN:VEVENT
DTSTART;TZID=America/New_York:20240824T100000
DTEND;TZID=America/New_York:20240824T170000
DTSTAMP:20260419T175726
CREATED:20240811T230102Z
LAST-MODIFIED:20240811T230102Z
UID:72332-1724493600-1724518800@thelaurelmagazine.com
SUMMARY:CHS "Talking Trout" Exhibit  at Brooking Anglers Fly Shop
DESCRIPTION:The Cashiers Historical Society’s Jan Wyatt Symposium Exhibit “Talking Trout” will be displayed at Brookings Anglers Fly Shop throughout the run of the 2024 Showhouse. \nStop by Brookings Cashiers location to see the exhibit and to learn about the history and evolution of native trout and fly fishing in Western NC.
URL:https://thelaurelmagazine.com/local-event/chs-talking-trout-exhibit-at-brooking-anglers-fly-shop/2024-08-24
LOCATION:NC
CATEGORIES:Community,Exhibits
ATTACH;FMTTYPE=image/jpeg:https://thelaurelmagazine.com/wp-content/uploads/2024/08/brookings-anglers-fly-shop.jpg
ORGANIZER;CN="Cashiers Historical Society":MAILTO:info@cashiershistoricalsociety.org
END:VEVENT
BEGIN:VEVENT
DTSTART;TZID=America/New_York:20240824T100000
DTEND;TZID=America/New_York:20240824T170000
DTSTAMP:20260419T175726
CREATED:20240418T143545Z
LAST-MODIFIED:20240418T143545Z
UID:68885-1724493600-1724518800@thelaurelmagazine.com
SUMMARY:Mountaintop Art and Craft Show at Kelsey Hutchinson Founders Park
DESCRIPTION:A weekend event brings over 80 artisans from the region to Highlands for demonstrations\, fine art\, crafts\, entertainment. \nThis biannual show has become an important part of the broad spectrum of summer events here in Highlands\, and many people visiting the mountains make this a part of their annual summer visit. \nOrganized by Mountaintop Rotary Club of Highlands.
URL:https://thelaurelmagazine.com/local-event/mountaintop-art-and-craft-show-at-kelsey-hutchinson-founders-park/2024-08-24
LOCATION:Kelsey-Hutchinson Founders Park\, 411 Pine St.\, Highlands\, NC\, 28741\, United States
CATEGORIES:Community,Exhibits,Shopping,Visual Arts
ATTACH;FMTTYPE=image/jpeg:https://thelaurelmagazine.com/wp-content/uploads/2023/08/highlands-nc-kelsey-hutchinson-park-mountaintop-arts-crafts-show.jpg
ORGANIZER;CN="Mountaintop Rotary Club":MAILTO:tripvic@aol.com
END:VEVENT
BEGIN:VEVENT
DTSTART;TZID=America/New_York:20240823T100000
DTEND;TZID=America/New_York:20240823T170000
DTSTAMP:20260419T175726
CREATED:20240811T230102Z
LAST-MODIFIED:20240811T230102Z
UID:72328-1724407200-1724432400@thelaurelmagazine.com
SUMMARY:CHS "Talking Trout" Exhibit  at Brooking Anglers Fly Shop
DESCRIPTION:The Cashiers Historical Society’s Jan Wyatt Symposium Exhibit “Talking Trout” will be displayed at Brookings Anglers Fly Shop throughout the run of the 2024 Showhouse. \nStop by Brookings Cashiers location to see the exhibit and to learn about the history and evolution of native trout and fly fishing in Western NC.
URL:https://thelaurelmagazine.com/local-event/chs-talking-trout-exhibit-at-brooking-anglers-fly-shop/2024-08-23
LOCATION:NC
CATEGORIES:Community,Exhibits
ATTACH;FMTTYPE=image/jpeg:https://thelaurelmagazine.com/wp-content/uploads/2024/08/brookings-anglers-fly-shop.jpg
ORGANIZER;CN="Cashiers Historical Society":MAILTO:info@cashiershistoricalsociety.org
END:VEVENT
BEGIN:VEVENT
DTSTART;TZID=America/New_York:20220613T100000
DTEND;TZID=America/New_York:20220613T170000
DTSTAMP:20260419T175726
CREATED:20220608T185129Z
LAST-MODIFIED:20220608T192256Z
UID:40252-1655114400-1655139600@thelaurelmagazine.com
SUMMARY:Highlands Nature Center
DESCRIPTION:Stop in to meet their live animals\, explore natural history exhibits\, peruse the nature-themed gift shop\, and more! Admission is free.
URL:https://thelaurelmagazine.com/local-event/highlands-nature-center/2022-06-13
LOCATION:Highlands Nature Center\, 930 Horse Cove Rd\, Highlands\, NC\, 28741
CATEGORIES:Community,Education,Exhibits
END:VEVENT
END:VCALENDAR