BEGIN:VCALENDAR
VERSION:2.0
PRODID:-//Laurel Magazine - ECPv6.15.16//NONSGML v1.0//EN
CALSCALE:GREGORIAN
METHOD:PUBLISH
X-WR-CALNAME:Laurel Magazine
X-ORIGINAL-URL:https://thelaurelmagazine.com
X-WR-CALDESC:Events for Laurel Magazine
REFRESH-INTERVAL;VALUE=DURATION:PT1H
X-Robots-Tag:noindex
X-PUBLISHED-TTL:PT1H
BEGIN:VTIMEZONE
TZID:America/New_York
BEGIN:DAYLIGHT
TZOFFSETFROM:-0500
TZOFFSETTO:-0400
TZNAME:EDT
DTSTART:20230312T070000
END:DAYLIGHT
BEGIN:STANDARD
TZOFFSETFROM:-0400
TZOFFSETTO:-0500
TZNAME:EST
DTSTART:20231105T060000
END:STANDARD
BEGIN:DAYLIGHT
TZOFFSETFROM:-0500
TZOFFSETTO:-0400
TZNAME:EDT
DTSTART:20240310T070000
END:DAYLIGHT
BEGIN:STANDARD
TZOFFSETFROM:-0400
TZOFFSETTO:-0500
TZNAME:EST
DTSTART:20241103T060000
END:STANDARD
BEGIN:DAYLIGHT
TZOFFSETFROM:-0500
TZOFFSETTO:-0400
TZNAME:EDT
DTSTART:20250309T070000
END:DAYLIGHT
BEGIN:STANDARD
TZOFFSETFROM:-0400
TZOFFSETTO:-0500
TZNAME:EST
DTSTART:20251102T060000
END:STANDARD
END:VTIMEZONE
BEGIN:VEVENT
DTSTART;TZID=America/New_York:20240905T090000
DTEND;TZID=America/New_York:20240905T100000
DTSTAMP:20260425T231819
CREATED:20231108T205103Z
LAST-MODIFIED:20231108T205103Z
UID:105440-1725526800-1725530400@thelaurelmagazine.com
SUMMARY:Balance & Flow Yoga at Fusion Yoga and Wellness
DESCRIPTION:Enjoy a warming flow of postures to strengthen and tone the breath\, body and mind. This class will include postures that will challenge you physically\, create awareness\, release tension\, and open shoulders\, hips and spine for more flexible movement and overall well-being. \nModifications are offered for a safe and fun practice. \nThis class is suitable for LEVELS 1\, 2 and 3 of yoga practitioners.
URL:https://thelaurelmagazine.com/local-event/balance-flow-yoga-at-fusion-yoga-and-wellness/2024-09-05
LOCATION:Fusion Yoga and Wellness\, 21A Lance Rd\, Cashiers\, NC\, 28717\, United States
CATEGORIES:Health
ATTACH;FMTTYPE=image/jpeg:https://thelaurelmagazine.com/wp-content/uploads/2025/06/fusion-yoga-interior.jpg
END:VEVENT
END:VCALENDAR