BEGIN:VCALENDAR
VERSION:2.0
PRODID:-//Laurel Magazine - ECPv6.15.16//NONSGML v1.0//EN
CALSCALE:GREGORIAN
METHOD:PUBLISH
X-ORIGINAL-URL:https://thelaurelmagazine.com
X-WR-CALDESC:Events for Laurel Magazine
REFRESH-INTERVAL;VALUE=DURATION:PT1H
X-Robots-Tag:noindex
X-PUBLISHED-TTL:PT1H
BEGIN:VTIMEZONE
TZID:America/New_York
BEGIN:DAYLIGHT
TZOFFSETFROM:-0500
TZOFFSETTO:-0400
TZNAME:EDT
DTSTART:20230312T070000
END:DAYLIGHT
BEGIN:STANDARD
TZOFFSETFROM:-0400
TZOFFSETTO:-0500
TZNAME:EST
DTSTART:20231105T060000
END:STANDARD
BEGIN:DAYLIGHT
TZOFFSETFROM:-0500
TZOFFSETTO:-0400
TZNAME:EDT
DTSTART:20240310T070000
END:DAYLIGHT
BEGIN:STANDARD
TZOFFSETFROM:-0400
TZOFFSETTO:-0500
TZNAME:EST
DTSTART:20241103T060000
END:STANDARD
BEGIN:DAYLIGHT
TZOFFSETFROM:-0500
TZOFFSETTO:-0400
TZNAME:EDT
DTSTART:20250309T070000
END:DAYLIGHT
BEGIN:STANDARD
TZOFFSETFROM:-0400
TZOFFSETTO:-0500
TZNAME:EST
DTSTART:20251102T060000
END:STANDARD
END:VTIMEZONE
BEGIN:VEVENT
DTSTART;TZID=America/New_York:20241028T090000
DTEND;TZID=America/New_York:20241028T100000
DTSTAMP:20260425T150725
CREATED:20230114T191845Z
LAST-MODIFIED:20240403T150133Z
UID:64166-1730106000-1730109600@thelaurelmagazine.com
SUMMARY:Feel Good Vinyasa Flow Yoga at Fusion Yoga and Wellness
DESCRIPTION:Join for a sweet flow will that will tone\, strengthen and stretch your body all while relaxing your mind and connecting to your heart. \nThis is a softer\, nurturing\, slow-paced\, well supported and relaxing practice. Great for yoga students of all levels as well as gym goers\, runners\, bikers\, golfers\, yoga flow-ers and anyone looking to simply relax\, unwind\, and let go of stress and tension in the body and mind. \nClass is currently limited to 15 people and online registration is required
URL:https://thelaurelmagazine.com/local-event/feel-good-vinyasa-flow-yoga/2024-10-28
LOCATION:Fusion Yoga and Wellness\, 21A Lance Rd\, Cashiers\, NC\, 28717\, United States
CATEGORIES:Health
ATTACH;FMTTYPE=image/jpeg:https://thelaurelmagazine.com/wp-content/uploads/2023/01/CashiersValleyFusion2.jpg
END:VEVENT
END:VCALENDAR